Workbook

Sheet COMPACT
A1: COMPACT: 4'3" WIDE
A3: BASIC MODEL OPTIONS
E4: Aluminium frame, Integral base with drop door(s)
A6: Size Length x Width | B6: Roof Vents | D6: Standard Door | E6: With Horticultural Glass | F6: With Toughened Safety Glass | G6: With 6mm Twin wall Polycarbonate | H6: Bar Capping (TG only) | I6: Hybrid Panels (coloured) | K6: POWDER COATED (extra)
A7: 2’3” x 4’3” NOT FREE STANDING | B7: 0 | D7: Double Drop Doors | E7: =((([1]COMPACT!AR7*'[1]MARK UP FOR RETAIL'!$D$9)*'[1]MARK UP FOR RETAIL'!$D$11)*'[1]MARK UP FOR RETAIL'!$D$5)+'[1]MARK UP FOR RETAIL'!$G$5 -> 499.7052 | F7: =((([1]COMPACT!AS7*'[1]MARK UP FOR RETAIL'!$D$9)*'[1]MARK UP FOR RETAIL'!$D$11)*'[1]MARK UP FOR RETAIL'!$D$5)+'[1]MARK UP FOR RETAIL'!$G$5 -> 655.9704 | G7: =((([1]COMPACT!AT7*'[1]MARK UP FOR RETAIL'!$D$9)*'[1]MARK UP FOR RETAIL'!$D$11)*'[1]MARK UP FOR RETAIL'!$D$5)+'[1]MARK UP FOR RETAIL'!$G$5 -> 686.88 | H7: =(([1]COMPACT!AU7*'[1]MARK UP FOR RETAIL'!$D$16)*'[1]MARK UP FOR RETAIL'!$D$11)*'[1]MARK UP FOR RETAIL'!$D$7 -> 106.4664 | I7: =([1]COMPACT!AV7*'[1]MARK UP FOR RETAIL'!$D$11)*'[1]MARK UP FOR RETAIL'!$D$7 -> 114.3072 | K7: =([1]COMPACT!AX7*'[1]MARK UP FOR RETAIL'!$D$11)*'[1]MARK UP FOR RETAIL'!$D$5 -> 234.8514
A8: 4’5” x 4’3” | B8: 1 | E8: =((([1]COMPACT!AR8*'[1]MARK UP FOR RETAIL'!$D$9)*'[1]MARK UP FOR RETAIL'!$D$11)*'[1]MARK UP FOR RETAIL'!$D$5)+'[1]MARK UP FOR RETAIL'!$G$5 -> 546.0696 | F8: =((([1]COMPACT!AS8*'[1]MARK UP FOR RETAIL'!$D$9)*'[1]MARK UP FOR RETAIL'!$D$11)*'[1]MARK UP FOR RETAIL'!$D$5)+'[1]MARK UP FOR RETAIL'!$G$5 -> 719.5068 | G8: =((([1]COMPACT!AT8*'[1]MARK UP FOR RETAIL'!$D$9)*'[1]MARK UP FOR RETAIL'!$D$11)*'[1]MARK UP FOR RETAIL'!$D$5)+'[1]MARK UP FOR RETAIL'!$G$5 -> 834.5592 | H8: =(([1]COMPACT!AU8*'[1]MARK UP FOR RETAIL'!$D$16)*'[1]MARK UP FOR RETAIL'!$D$11)*'[1]MARK UP FOR RETAIL'!$D$7 -> 121.9212 | I8: =([1]COMPACT!AV8*'[1]MARK UP FOR RETAIL'!$D$11)*'[1]MARK UP FOR RETAIL'!$D$7 -> 266.7168 | K8: =([1]COMPACT!AX8*'[1]MARK UP FOR RETAIL'!$D$11)*'[1]MARK UP FOR RETAIL'!$D$5 -> 278.9964
A9: 6’5” x 4’3” | B9: 1 | E9: =((([1]COMPACT!AR9*'[1]MARK UP FOR RETAIL'!$D$9)*'[1]MARK UP FOR RETAIL'!$D$11)*'[1]MARK UP FOR RETAIL'!$D$5)+'[1]MARK UP FOR RETAIL'!$G$5 -> 582.1308 | F9: =((([1]COMPACT!AS9*'[1]MARK UP FOR RETAIL'!$D$9)*'[1]MARK UP FOR RETAIL'!$D$11)*'[1]MARK UP FOR RETAIL'!$D$5)+'[1]MARK UP FOR RETAIL'!$G$5 -> 767.5884 | G9: =((([1]COMPACT!AT9*'[1]MARK UP FOR RETAIL'!$D$9)*'[1]MARK UP FOR RETAIL'!$D$11)*'[1]MARK UP FOR RETAIL'!$D$5)+'[1]MARK UP FOR RETAIL'!$G$5 -> 973.6524 | H9: =(([1]COMPACT!AU9*'[1]MARK UP FOR RETAIL'!$D$16)*'[1]MARK UP FOR RETAIL'!$D$11)*'[1]MARK UP FOR RETAIL'!$D$7 -> 145.962 | I9: =([1]COMPACT!AV9*'[1]MARK UP FOR RETAIL'!$D$11)*'[1]MARK UP FOR RETAIL'!$D$7 -> 337.4784 | K9: =([1]COMPACT!AX9*'[1]MARK UP FOR RETAIL'!$D$11)*'[1]MARK UP FOR RETAIL'!$D$5 -> 317.844
A10: 8’5” x 4’3” | B10: 1 | E10: =((([1]COMPACT!AR10*'[1]MARK UP FOR RETAIL'!$D$9)*'[1]MARK UP FOR RETAIL'!$D$11)*'[1]MARK UP FOR RETAIL'!$D$5)+'[1]MARK UP FOR RETAIL'!$G$5 -> 643.95 | F10: =((([1]COMPACT!AS10*'[1]MARK UP FOR RETAIL'!$D$9)*'[1]MARK UP FOR RETAIL'!$D$11)*'[1]MARK UP FOR RETAIL'!$D$5)+'[1]MARK UP FOR RETAIL'!$G$5 -> 868.9032 | G10: =((([1]COMPACT!AT10*'[1]MARK UP FOR RETAIL'!$D$9)*'[1]MARK UP FOR RETAIL'!$D$11)*'[1]MARK UP FOR RETAIL'!$D$5)+'[1]MARK UP FOR RETAIL'!$G$5 -> 1095.5736 | H10: =(([1]COMPACT!AU10*'[1]MARK UP FOR RETAIL'!$D$16)*'[1]MARK UP FOR RETAIL'!$D$11)*'[1]MARK UP FOR RETAIL'!$D$7 -> 163.134 | I10: =([1]COMPACT!AV10*'[1]MARK UP FOR RETAIL'!$D$11)*'[1]MARK UP FOR RETAIL'!$D$7 -> 410.0544 | K10: =([1]COMPACT!AX10*'[1]MARK UP FOR RETAIL'!$D$11)*'[1]MARK UP FOR RETAIL'!$D$5 -> 346.0968
A11: 10’5” x 4’3” | B11: 2 | E11: =((([1]COMPACT!AR11*'[1]MARK UP FOR RETAIL'!$D$9)*'[1]MARK UP FOR RETAIL'!$D$11)*'[1]MARK UP FOR RETAIL'!$D$5)+'[1]MARK UP FOR RETAIL'!$G$5 -> 793.3464 | F11: =((([1]COMPACT!AS11*'[1]MARK UP FOR RETAIL'!$D$9)*'[1]MARK UP FOR RETAIL'!$D$11)*'[1]MARK UP FOR RETAIL'!$D$5)+'[1]MARK UP FOR RETAIL'!$G$5 -> 1026.8856 | G11: =((([1]COMPACT!AT11*'[1]MARK UP FOR RETAIL'!$D$9)*'[1]MARK UP FOR RETAIL'!$D$11)*'[1]MARK UP FOR RETAIL'!$D$5)+'[1]MARK UP FOR RETAIL'!$G$5 -> 1325.6784 | H11: =(([1]COMPACT!AU11*'[1]MARK UP FOR RETAIL'!$D$16)*'[1]MARK UP FOR RETAIL'!$D$11)*'[1]MARK UP FOR RETAIL'!$D$7 -> 178.5888 | I11: =([1]COMPACT!AV11*'[1]MARK UP FOR RETAIL'!$D$11)*'[1]MARK UP FOR RETAIL'!$D$7 -> 482.6304 | K11: =([1]COMPACT!AX11*'[1]MARK UP FOR RETAIL'!$D$11)*'[1]MARK UP FOR RETAIL'!$D$5 -> 517.3794
A12: 12’6” x 4’3” | B12: 2 | E12: =((([1]COMPACT!AR12*'[1]MARK UP FOR RETAIL'!$D$9)*'[1]MARK UP FOR RETAIL'!$D$11)*'[1]MARK UP FOR RETAIL'!$D$5)+'[1]MARK UP FOR RETAIL'!$G$5 -> 942.7428 | F12: =((([1]COMPACT!AS12*'[1]MARK UP FOR RETAIL'!$D$9)*'[1]MARK UP FOR RETAIL'!$D$11)*'[1]MARK UP FOR RETAIL'!$D$5)+'[1]MARK UP FOR RETAIL'!$G$5 -> 1217.4948 | G12: =((([1]COMPACT!AT12*'[1]MARK UP FOR RETAIL'!$D$9)*'[1]MARK UP FOR RETAIL'!$D$11)*'[1]MARK UP FOR RETAIL'!$D$5)+'[1]MARK UP FOR RETAIL'!$G$5 -> 1554.066 | H12: =(([1]COMPACT!AU12*'[1]MARK UP FOR RETAIL'!$D$16)*'[1]MARK UP FOR RETAIL'!$D$11)*'[1]MARK UP FOR RETAIL'!$D$7 -> 200.9124 | I12: =([1]COMPACT!AV12*'[1]MARK UP FOR RETAIL'!$D$11)*'[1]MARK UP FOR RETAIL'!$D$7 -> 551.5776 | K12: =([1]COMPACT!AX12*'[1]MARK UP FOR RETAIL'!$D$11)*'[1]MARK UP FOR RETAIL'!$D$5 -> 655.1118
A13: 14’6" x 4’3” | B13: 3 | E13: =((([1]COMPACT!AR13*'[1]MARK UP FOR RETAIL'!$D$9)*'[1]MARK UP FOR RETAIL'!$D$11)*'[1]MARK UP FOR RETAIL'!$D$5)+'[1]MARK UP FOR RETAIL'!$G$5 -> 1100.7252 | F13: =((([1]COMPACT!AS13*'[1]MARK UP FOR RETAIL'!$D$9)*'[1]MARK UP FOR RETAIL'!$D$11)*'[1]MARK UP FOR RETAIL'!$D$5)+'[1]MARK UP FOR RETAIL'!$G$5 -> 1406.3868 | G13: =((([1]COMPACT!AT13*'[1]MARK UP FOR RETAIL'!$D$9)*'[1]MARK UP FOR RETAIL'!$D$11)*'[1]MARK UP FOR RETAIL'!$D$5)+'[1]MARK UP FOR RETAIL'!$G$5 -> 1737.8064 | H13: =(([1]COMPACT!AU13*'[1]MARK UP FOR RETAIL'!$D$16)*'[1]MARK UP FOR RETAIL'!$D$11)*'[1]MARK UP FOR RETAIL'!$D$7 -> 216.3672 | I13: =([1]COMPACT!AV13*'[1]MARK UP FOR RETAIL'!$D$11)*'[1]MARK UP FOR RETAIL'!$D$7 -> 624.1536 | K13: =([1]COMPACT!AX13*'[1]MARK UP FOR RETAIL'!$D$11)*'[1]MARK UP FOR RETAIL'!$D$5 -> 798.1416
A14: 16’6” x 4’3” | B14: 3 | E14: =((([1]COMPACT!AR14*'[1]MARK UP FOR RETAIL'!$D$9)*'[1]MARK UP FOR RETAIL'!$D$11)*'[1]MARK UP FOR RETAIL'!$D$5)+'[1]MARK UP FOR RETAIL'!$G$5 -> 1270.728 | F14: =((([1]COMPACT!AS14*'[1]MARK UP FOR RETAIL'!$D$9)*'[1]MARK UP FOR RETAIL'!$D$11)*'[1]MARK UP FOR RETAIL'!$D$5)+'[1]MARK UP FOR RETAIL'!$G$5 -> 1609.0164 | G14: =((([1]COMPACT!AT14*'[1]MARK UP FOR RETAIL'!$D$9)*'[1]MARK UP FOR RETAIL'!$D$11)*'[1]MARK UP FOR RETAIL'!$D$5)+'[1]MARK UP FOR RETAIL'!$G$5 -> 1979.9316 | H14: =(([1]COMPACT!AU14*'[1]MARK UP FOR RETAIL'!$D$16)*'[1]MARK UP FOR RETAIL'!$D$11)*'[1]MARK UP FOR RETAIL'!$D$7 -> 231.822 | I14: =([1]COMPACT!AV14*'[1]MARK UP FOR RETAIL'!$D$11)*'[1]MARK UP FOR RETAIL'!$D$7 -> 696.7296 | K14: =([1]COMPACT!AX14*'[1]MARK UP FOR RETAIL'!$D$11)*'[1]MARK UP FOR RETAIL'!$D$5 -> 941.1714
A15: 18’6” x 4’3” | B15: 4 | E15: =((([1]COMPACT!AR15*'[1]MARK UP FOR RETAIL'!$D$9)*'[1]MARK UP FOR RETAIL'!$D$11)*'[1]MARK UP FOR RETAIL'!$D$5)+'[1]MARK UP FOR RETAIL'!$G$5 -> 1469.9232 | F15: =((([1]COMPACT!AS15*'[1]MARK UP FOR RETAIL'!$D$9)*'[1]MARK UP FOR RETAIL'!$D$11)*'[1]MARK UP FOR RETAIL'!$D$5)+'[1]MARK UP FOR RETAIL'!$G$5 -> 1856.2932 | G15: =((([1]COMPACT!AT15*'[1]MARK UP FOR RETAIL'!$D$9)*'[1]MARK UP FOR RETAIL'!$D$11)*'[1]MARK UP FOR RETAIL'!$D$5)+'[1]MARK UP FOR RETAIL'!$G$5 -> 2249.532 | H15: =(([1]COMPACT!AU15*'[1]MARK UP FOR RETAIL'!$D$16)*'[1]MARK UP FOR RETAIL'!$D$11)*'[1]MARK UP FOR RETAIL'!$D$7 -> 254.1456 | I15: =([1]COMPACT!AV15*'[1]MARK UP FOR RETAIL'!$D$11)*'[1]MARK UP FOR RETAIL'!$D$7 -> 767.4912 | K15: =([1]COMPACT!AX15*'[1]MARK UP FOR RETAIL'!$D$11)*'[1]MARK UP FOR RETAIL'!$D$5 -> 1126.5804
A16: 20’6” x 4’3” | B16: 4 | E16: =((([1]COMPACT!AR16*'[1]MARK UP FOR RETAIL'!$D$9)*'[1]MARK UP FOR RETAIL'!$D$11)*'[1]MARK UP FOR RETAIL'!$D$5)+'[1]MARK UP FOR RETAIL'!$G$5 -> 1663.9668 | F16: =((([1]COMPACT!AS16*'[1]MARK UP FOR RETAIL'!$D$9)*'[1]MARK UP FOR RETAIL'!$D$11)*'[1]MARK UP FOR RETAIL'!$D$5)+'[1]MARK UP FOR RETAIL'!$G$5 -> 2084.6808 | G16: =((([1]COMPACT!AT16*'[1]MARK UP FOR RETAIL'!$D$9)*'[1]MARK UP FOR RETAIL'!$D$11)*'[1]MARK UP FOR RETAIL'!$D$5)+'[1]MARK UP FOR RETAIL'!$G$5 -> 2517.4152 | H16: =(([1]COMPACT!AU16*'[1]MARK UP FOR RETAIL'!$D$16)*'[1]MARK UP FOR RETAIL'!$D$11)*'[1]MARK UP FOR RETAIL'!$D$7 -> 274.752 | I16: =([1]COMPACT!AV16*'[1]MARK UP FOR RETAIL'!$D$11)*'[1]MARK UP FOR RETAIL'!$D$7 -> 838.2528 | K16: =([1]COMPACT!AX16*'[1]MARK UP FOR RETAIL'!$D$11)*'[1]MARK UP FOR RETAIL'!$D$5 -> 1303.1604
A17: Extra double doors in the rear end | E17: =((([1]COMPACT!AR17*'[1]MARK UP FOR RETAIL'!$D$9)*'[1]MARK UP FOR RETAIL'!$D$11)*'[1]MARK UP FOR RETAIL'!$D$5) -> 147.6792 | H17: =(([1]COMPACT!AU17*'[1]MARK UP FOR RETAIL'!$D$16)*'[1]MARK UP FOR RETAIL'!$D$11)*'[1]MARK UP FOR RETAIL'!$D$7 -> 32.6268 | I17: / | K17: =([1]COMPACT!AX17*'[1]MARK UP FOR RETAIL'!$D$11)*'[1]MARK UP FOR RETAIL'!$D$5 -> 75.9294
A18: Soft Soil Support | E18: =((([1]COMPACT!AR18*'[1]MARK UP FOR RETAIL'!$D$9)*'[1]MARK UP FOR RETAIL'!$D$11)*'[1]MARK UP FOR RETAIL'!$D$5) -> 25.758 | H18: / | I18: / | K18: =([1]COMPACT!AX18*'[1]MARK UP FOR RETAIL'!$D$11)*'[1]MARK UP FOR RETAIL'!$D$5 -> 19.4238
A19: R-TYPE | E19: =[1]COMPACT!AR19*'[1]MARK UP FOR RETAIL'!$D$11*'[1]MARK UP FOR RETAIL'!$D$5 -> -44.6472 | F19: =[1]COMPACT!AS19*'[1]MARK UP FOR RETAIL'!$D$11*'[1]MARK UP FOR RETAIL'!$D$5 -> -77.274 | G19: =[1]COMPACT!AT19*'[1]MARK UP FOR RETAIL'!$D$11*'[1]MARK UP FOR RETAIL'!$D$5 -> -104.7492 | H19: =[1]COMPACT!AU19*'[1]MARK UP FOR RETAIL'!$D$11*'[1]MARK UP FOR RETAIL'!$D$5 -> -17.172 | K19: =([1]COMPACT!AX19*'[1]MARK UP FOR RETAIL'!$D$11)*'[1]MARK UP FOR RETAIL'!$D$5 -> -51.2082
A21: NOTE: The 2' long model has no back panels and must be fixed against a solid structure. The price already includes the R-type deduction, so no further deduction applies.
A24: COMPACT PACKAGE
A26: INCLUDES AS STANDARD | H26: PACKAGE EXTRAS
A28: Integral aluminium base with dropped doors | H28: Diamond shelf to length - 2 slat
A29: Double Dropped Doors | H29: Diamond staging to length - 3 slat
A30: At least one roof vent | H30: One 5 blade louvre
A31: Integral Gutters | H31: One automatic roof vent opener
H32: One automatic louvre opener
H33: Standard rainwater collection kit
H34: Grow Hooks (6)
A38: Size Length x Width | B38: Roof Vents | D38: Standard Door | E38: With Horticultural Glass | F38: With Toughened Safety Glass | H38: POWDER COATED (extra)
A39: 4’5” x 4’3” | B39: 1 | D39: Double Drop Door | E39: =((([1]COMPACT!AR39*'[1]MARK UP FOR RETAIL'!$D$14)*'[1]MARK UP FOR RETAIL'!$D$11)*'[1]MARK UP FOR RETAIL'!$D$5)+'[1]MARK UP FOR RETAIL'!$G$5 -> 827.6904 | F39: =((([1]COMPACT!AS39*'[1]MARK UP FOR RETAIL'!$D$14)*'[1]MARK UP FOR RETAIL'!$D$11)*'[1]MARK UP FOR RETAIL'!$D$5)+'[1]MARK UP FOR RETAIL'!$G$5 -> 1001.1276 | H39: =(([1]COMPACT!AU39*'[1]MARK UP FOR RETAIL'!$D$14)*'[1]MARK UP FOR RETAIL'!$D$11)*'[1]MARK UP FOR RETAIL'!$D$5 -> 390.2418
A40: 6’5” x 4’3” | B40: 1 | E40: =((([1]COMPACT!AR40*'[1]MARK UP FOR RETAIL'!$D$14)*'[1]MARK UP FOR RETAIL'!$D$11)*'[1]MARK UP FOR RETAIL'!$D$5)+'[1]MARK UP FOR RETAIL'!$G$5 -> 896.3784 | F40: =((([1]COMPACT!AS40*'[1]MARK UP FOR RETAIL'!$D$14)*'[1]MARK UP FOR RETAIL'!$D$11)*'[1]MARK UP FOR RETAIL'!$D$5)+'[1]MARK UP FOR RETAIL'!$G$5 -> 1083.5532 | H40: =(([1]COMPACT!AU40*'[1]MARK UP FOR RETAIL'!$D$14)*'[1]MARK UP FOR RETAIL'!$D$11)*'[1]MARK UP FOR RETAIL'!$D$5 -> 455.5764
A41: 8’5” x 4’3” | B41: 1 | E41: =((([1]COMPACT!AR41*'[1]MARK UP FOR RETAIL'!$D$14)*'[1]MARK UP FOR RETAIL'!$D$11)*'[1]MARK UP FOR RETAIL'!$D$5)+'[1]MARK UP FOR RETAIL'!$G$5 -> 1001.1276 | F41: =((([1]COMPACT!AS41*'[1]MARK UP FOR RETAIL'!$D$14)*'[1]MARK UP FOR RETAIL'!$D$11)*'[1]MARK UP FOR RETAIL'!$D$5)+'[1]MARK UP FOR RETAIL'!$G$5 -> 1227.798 | H41: =(([1]COMPACT!AU41*'[1]MARK UP FOR RETAIL'!$D$14)*'[1]MARK UP FOR RETAIL'!$D$11)*'[1]MARK UP FOR RETAIL'!$D$5 -> 515.6136
A42: 10'5" x 4'3" | B42: 2 | E42: =((([1]COMPACT!AR42*'[1]MARK UP FOR RETAIL'!$D$14)*'[1]MARK UP FOR RETAIL'!$D$11)*'[1]MARK UP FOR RETAIL'!$D$5)+'[1]MARK UP FOR RETAIL'!$G$5 -> 1193.454 | F42: =((([1]COMPACT!AS42*'[1]MARK UP FOR RETAIL'!$D$14)*'[1]MARK UP FOR RETAIL'!$D$11)*'[1]MARK UP FOR RETAIL'!$D$5)+'[1]MARK UP FOR RETAIL'!$G$5 -> 1433.862 | H42: =(([1]COMPACT!AU42*'[1]MARK UP FOR RETAIL'!$D$14)*'[1]MARK UP FOR RETAIL'!$D$11)*'[1]MARK UP FOR RETAIL'!$D$5 -> 723.978

Sheet MAXIM
A1: MAXIM: 4'3" WIDE
A3: BASIC MODEL OPTIONS
E4: Aluminium frame, Integral base with drop door(s)
A6: Size Length x Width | B6: Roof Vents | D6: Standard Door | E6: With Horticultural Glass | F6: With Toughened Safety Glass | G6: With 6mm Twin wall Polycarbonate | H6: Bar Capping (TG only) | I6: Hybrid Panels (coloured) | K6: POWDER COATED (extra)
A7: 2’3” x 4’3” NOT FREE STANDING | B7: 0 | D7: Double Drop Doors | E7: =((([1]MAXIM!AF7*'[1]MARK UP FOR RETAIL'!$D$11)*'[1]MARK UP FOR RETAIL'!$D$9)*'[1]MARK UP FOR RETAIL'!$D$5)+'[1]MARK UP FOR RETAIL'!$G$5 -> 559.8072 | F7: =((([1]MAXIM!AG7*'[1]MARK UP FOR RETAIL'!$D$11)*'[1]MARK UP FOR RETAIL'!$D$9)*'[1]MARK UP FOR RETAIL'!$D$5)+'[1]MARK UP FOR RETAIL'!$G$5 -> 746.982 | G7: =((([1]MAXIM!AH7*'[1]MARK UP FOR RETAIL'!$D$11)*'[1]MARK UP FOR RETAIL'!$D$9)*'[1]MARK UP FOR RETAIL'!$D$5)+'[1]MARK UP FOR RETAIL'!$G$5 -> 817.3872 | H7: =(([1]MAXIM!AI7*'[1]MARK UP FOR RETAIL'!$D$10)*'[1]MARK UP FOR RETAIL'!$D$11)*'[1]MARK UP FOR RETAIL'!$D$7 -> 108.1836 | I7: =([1]MAXIM!AJ7*'[1]MARK UP FOR RETAIL'!$D$11)*'[1]MARK UP FOR RETAIL'!$D$5 -> 114.3072 | K7: =([1]MAXIM!AL7*'[1]MARK UP FOR RETAIL'!$D$11)*'[1]MARK UP FOR RETAIL'!$D$5 -> 263.1042
A8: 4’5” x 4’3” | B8: 1 | E8: =((([1]MAXIM!AF8*'[1]MARK UP FOR RETAIL'!$D$11)*'[1]MARK UP FOR RETAIL'!$D$9)*'[1]MARK UP FOR RETAIL'!$D$5)+'[1]MARK UP FOR RETAIL'!$G$5 -> 607.8888 | F8: =((([1]MAXIM!AG8*'[1]MARK UP FOR RETAIL'!$D$11)*'[1]MARK UP FOR RETAIL'!$D$9)*'[1]MARK UP FOR RETAIL'!$D$5)+'[1]MARK UP FOR RETAIL'!$G$5 -> 807.084 | G8: =((([1]MAXIM!AH8*'[1]MARK UP FOR RETAIL'!$D$11)*'[1]MARK UP FOR RETAIL'!$D$9)*'[1]MARK UP FOR RETAIL'!$D$5)+'[1]MARK UP FOR RETAIL'!$G$5 -> 934.1568 | H8: =(([1]MAXIM!AI8*'[1]MARK UP FOR RETAIL'!$D$10)*'[1]MARK UP FOR RETAIL'!$D$11)*'[1]MARK UP FOR RETAIL'!$D$7 -> 132.2244 | I8: =([1]MAXIM!AJ8*'[1]MARK UP FOR RETAIL'!$D$11)*'[1]MARK UP FOR RETAIL'!$D$5 -> 266.7168 | K8: =([1]MAXIM!AL8*'[1]MARK UP FOR RETAIL'!$D$11)*'[1]MARK UP FOR RETAIL'!$D$5 -> 312.5466
A9: 6’5” x 4’3” | B9: 1 | E9: =((([1]MAXIM!AF9*'[1]MARK UP FOR RETAIL'!$D$11)*'[1]MARK UP FOR RETAIL'!$D$9)*'[1]MARK UP FOR RETAIL'!$D$5)+'[1]MARK UP FOR RETAIL'!$G$5 -> 650.8188 | F9: =((([1]MAXIM!AG9*'[1]MARK UP FOR RETAIL'!$D$11)*'[1]MARK UP FOR RETAIL'!$D$9)*'[1]MARK UP FOR RETAIL'!$D$5)+'[1]MARK UP FOR RETAIL'!$G$5 -> 865.4688 | G9: =((([1]MAXIM!AH9*'[1]MARK UP FOR RETAIL'!$D$11)*'[1]MARK UP FOR RETAIL'!$D$9)*'[1]MARK UP FOR RETAIL'!$D$5)+'[1]MARK UP FOR RETAIL'!$G$5 -> 1085.2704 | H9: =(([1]MAXIM!AI9*'[1]MARK UP FOR RETAIL'!$D$10)*'[1]MARK UP FOR RETAIL'!$D$11)*'[1]MARK UP FOR RETAIL'!$D$7 -> 152.8308 | I9: =([1]MAXIM!AJ9*'[1]MARK UP FOR RETAIL'!$D$11)*'[1]MARK UP FOR RETAIL'!$D$5 -> 337.4784 | K9: =([1]MAXIM!AL9*'[1]MARK UP FOR RETAIL'!$D$11)*'[1]MARK UP FOR RETAIL'!$D$5 -> 354.9258
A10: 8’5” x 4’3” | B10: 1 | E10: =((([1]MAXIM!AF10*'[1]MARK UP FOR RETAIL'!$D$11)*'[1]MARK UP FOR RETAIL'!$D$9)*'[1]MARK UP FOR RETAIL'!$D$5)+'[1]MARK UP FOR RETAIL'!$G$5 -> 733.2444 | F10: =((([1]MAXIM!AG10*'[1]MARK UP FOR RETAIL'!$D$11)*'[1]MARK UP FOR RETAIL'!$D$9)*'[1]MARK UP FOR RETAIL'!$D$5)+'[1]MARK UP FOR RETAIL'!$G$5 -> 977.0868 | G10: =((([1]MAXIM!AH10*'[1]MARK UP FOR RETAIL'!$D$11)*'[1]MARK UP FOR RETAIL'!$D$9)*'[1]MARK UP FOR RETAIL'!$D$5)+'[1]MARK UP FOR RETAIL'!$G$5 -> 1220.9292 | H10: =(([1]MAXIM!AI10*'[1]MARK UP FOR RETAIL'!$D$10)*'[1]MARK UP FOR RETAIL'!$D$11)*'[1]MARK UP FOR RETAIL'!$D$7 -> 170.0028 | I10: =([1]MAXIM!AJ10*'[1]MARK UP FOR RETAIL'!$D$11)*'[1]MARK UP FOR RETAIL'!$D$5 -> 410.0544 | K10: =([1]MAXIM!AL10*'[1]MARK UP FOR RETAIL'!$D$11)*'[1]MARK UP FOR RETAIL'!$D$5 -> 399.0708
A11: 10’5” x 4’3” | B11: 2 | E11: =((([1]MAXIM!AF11*'[1]MARK UP FOR RETAIL'!$D$11)*'[1]MARK UP FOR RETAIL'!$D$9)*'[1]MARK UP FOR RETAIL'!$D$5)+'[1]MARK UP FOR RETAIL'!$G$5 -> 894.6612 | F11: =((([1]MAXIM!AG11*'[1]MARK UP FOR RETAIL'!$D$11)*'[1]MARK UP FOR RETAIL'!$D$9)*'[1]MARK UP FOR RETAIL'!$D$5)+'[1]MARK UP FOR RETAIL'!$G$5 -> 1152.2412 | G11: =((([1]MAXIM!AH11*'[1]MARK UP FOR RETAIL'!$D$11)*'[1]MARK UP FOR RETAIL'!$D$9)*'[1]MARK UP FOR RETAIL'!$D$5)+'[1]MARK UP FOR RETAIL'!$G$5 -> 1475.0748 | H11: =(([1]MAXIM!AI11*'[1]MARK UP FOR RETAIL'!$D$10)*'[1]MARK UP FOR RETAIL'!$D$11)*'[1]MARK UP FOR RETAIL'!$D$7 -> 187.1748 | I11: =([1]MAXIM!AJ11*'[1]MARK UP FOR RETAIL'!$D$11)*'[1]MARK UP FOR RETAIL'!$D$5 -> 482.6304 | K11: =([1]MAXIM!AL11*'[1]MARK UP FOR RETAIL'!$D$11)*'[1]MARK UP FOR RETAIL'!$D$5 -> 579.1824
A12: 12’6” x 4’3” | B12: 2 | E12: =((([1]MAXIM!AF12*'[1]MARK UP FOR RETAIL'!$D$11)*'[1]MARK UP FOR RETAIL'!$D$9)*'[1]MARK UP FOR RETAIL'!$D$5)+'[1]MARK UP FOR RETAIL'!$G$5 -> 1061.2296 | F12: =((([1]MAXIM!AG12*'[1]MARK UP FOR RETAIL'!$D$11)*'[1]MARK UP FOR RETAIL'!$D$9)*'[1]MARK UP FOR RETAIL'!$D$5)+'[1]MARK UP FOR RETAIL'!$G$5 -> 1360.0224 | G12: =((([1]MAXIM!AH12*'[1]MARK UP FOR RETAIL'!$D$11)*'[1]MARK UP FOR RETAIL'!$D$9)*'[1]MARK UP FOR RETAIL'!$D$5)+'[1]MARK UP FOR RETAIL'!$G$5 -> 1724.0688 | H12: =(([1]MAXIM!AI12*'[1]MARK UP FOR RETAIL'!$D$10)*'[1]MARK UP FOR RETAIL'!$D$11)*'[1]MARK UP FOR RETAIL'!$D$7 -> 202.6296 | I12: =([1]MAXIM!AJ12*'[1]MARK UP FOR RETAIL'!$D$11)*'[1]MARK UP FOR RETAIL'!$D$5 -> 551.5776 | K12: =([1]MAXIM!AL12*'[1]MARK UP FOR RETAIL'!$D$11)*'[1]MARK UP FOR RETAIL'!$D$5 -> 722.2122
A13: 14’6" x 4’3” | B13: 3 | E13: =((([1]MAXIM!AF13*'[1]MARK UP FOR RETAIL'!$D$11)*'[1]MARK UP FOR RETAIL'!$D$9)*'[1]MARK UP FOR RETAIL'!$D$5)+'[1]MARK UP FOR RETAIL'!$G$5 -> 1193.454 | F13: =((([1]MAXIM!AG13*'[1]MARK UP FOR RETAIL'!$D$11)*'[1]MARK UP FOR RETAIL'!$D$9)*'[1]MARK UP FOR RETAIL'!$D$5)+'[1]MARK UP FOR RETAIL'!$G$5 -> 1564.3692 | G13: =((([1]MAXIM!AH13*'[1]MARK UP FOR RETAIL'!$D$11)*'[1]MARK UP FOR RETAIL'!$D$9)*'[1]MARK UP FOR RETAIL'!$D$5)+'[1]MARK UP FOR RETAIL'!$G$5 -> 1921.5468 | H13: =(([1]MAXIM!AI13*'[1]MARK UP FOR RETAIL'!$D$10)*'[1]MARK UP FOR RETAIL'!$D$11)*'[1]MARK UP FOR RETAIL'!$D$7 -> 219.8016 | I13: =([1]MAXIM!AJ13*'[1]MARK UP FOR RETAIL'!$D$11)*'[1]MARK UP FOR RETAIL'!$D$5 -> 624.1536 | K13: =([1]MAXIM!AL13*'[1]MARK UP FOR RETAIL'!$D$11)*'[1]MARK UP FOR RETAIL'!$D$5 -> 886.4316
A14: 16’6” x 4’3” | B14: 3 | E14: =((([1]MAXIM!AF14*'[1]MARK UP FOR RETAIL'!$D$11)*'[1]MARK UP FOR RETAIL'!$D$9)*'[1]MARK UP FOR RETAIL'!$D$5)+'[1]MARK UP FOR RETAIL'!$G$5 -> 1372.0428 | F14: =((([1]MAXIM!AG14*'[1]MARK UP FOR RETAIL'!$D$11)*'[1]MARK UP FOR RETAIL'!$D$9)*'[1]MARK UP FOR RETAIL'!$D$5)+'[1]MARK UP FOR RETAIL'!$G$5 -> 1782.4536 | G14: =((([1]MAXIM!AH14*'[1]MARK UP FOR RETAIL'!$D$11)*'[1]MARK UP FOR RETAIL'!$D$9)*'[1]MARK UP FOR RETAIL'!$D$5)+'[1]MARK UP FOR RETAIL'!$G$5 -> 2191.1472 | H14: =(([1]MAXIM!AI14*'[1]MARK UP FOR RETAIL'!$D$10)*'[1]MARK UP FOR RETAIL'!$D$11)*'[1]MARK UP FOR RETAIL'!$D$7 -> 242.1252 | I14: =([1]MAXIM!AJ14*'[1]MARK UP FOR RETAIL'!$D$11)*'[1]MARK UP FOR RETAIL'!$D$5 -> 696.7296 | K14: =([1]MAXIM!AL14*'[1]MARK UP FOR RETAIL'!$D$11)*'[1]MARK UP FOR RETAIL'!$D$5 -> 1048.8852
A15: 18’6” x 4’3” | B15: 4 | E15: =((([1]MAXIM!AF15*'[1]MARK UP FOR RETAIL'!$D$11)*'[1]MARK UP FOR RETAIL'!$D$9)*'[1]MARK UP FOR RETAIL'!$D$5)+'[1]MARK UP FOR RETAIL'!$G$5 -> 1583.2584 | F15: =((([1]MAXIM!AG15*'[1]MARK UP FOR RETAIL'!$D$11)*'[1]MARK UP FOR RETAIL'!$D$9)*'[1]MARK UP FOR RETAIL'!$D$5)+'[1]MARK UP FOR RETAIL'!$G$5 -> 2043.468 | G15: =((([1]MAXIM!AH15*'[1]MARK UP FOR RETAIL'!$D$11)*'[1]MARK UP FOR RETAIL'!$D$9)*'[1]MARK UP FOR RETAIL'!$D$5)+'[1]MARK UP FOR RETAIL'!$G$5 -> 2477.9196 | H15: =(([1]MAXIM!AI15*'[1]MARK UP FOR RETAIL'!$D$10)*'[1]MARK UP FOR RETAIL'!$D$11)*'[1]MARK UP FOR RETAIL'!$D$7 -> 255.8628 | I15: =([1]MAXIM!AJ15*'[1]MARK UP FOR RETAIL'!$D$11)*'[1]MARK UP FOR RETAIL'!$D$5 -> 767.4912 | K15: =([1]MAXIM!AL15*'[1]MARK UP FOR RETAIL'!$D$11)*'[1]MARK UP FOR RETAIL'!$D$5 -> 1255.4838
A16: 20’6” x 4’3” | B16: 4 | E16: =((([1]MAXIM!AF16*'[1]MARK UP FOR RETAIL'!$D$11)*'[1]MARK UP FOR RETAIL'!$D$9)*'[1]MARK UP FOR RETAIL'!$D$5)+'[1]MARK UP FOR RETAIL'!$G$5 -> 1785.888 | F16: =((([1]MAXIM!AG16*'[1]MARK UP FOR RETAIL'!$D$11)*'[1]MARK UP FOR RETAIL'!$D$9)*'[1]MARK UP FOR RETAIL'!$D$5)+'[1]MARK UP FOR RETAIL'!$G$5 -> 2287.3104 | G16: =((([1]MAXIM!AH16*'[1]MARK UP FOR RETAIL'!$D$11)*'[1]MARK UP FOR RETAIL'!$D$9)*'[1]MARK UP FOR RETAIL'!$D$5)+'[1]MARK UP FOR RETAIL'!$G$5 -> 2764.692 | H16: =(([1]MAXIM!AI16*'[1]MARK UP FOR RETAIL'!$D$10)*'[1]MARK UP FOR RETAIL'!$D$11)*'[1]MARK UP FOR RETAIL'!$D$7 -> 273.0348 | I16: =([1]MAXIM!AJ16*'[1]MARK UP FOR RETAIL'!$D$11)*'[1]MARK UP FOR RETAIL'!$D$5 -> 838.2528 | K16: =([1]MAXIM!AL16*'[1]MARK UP FOR RETAIL'!$D$11)*'[1]MARK UP FOR RETAIL'!$D$5 -> 1453.2534
A17: Extra double doors in the rear end | E17: =(([1]MAXIM!AF17*'[1]MARK UP FOR RETAIL'!$D$9)*'[1]MARK UP FOR RETAIL'!$D$11)*'[1]MARK UP FOR RETAIL'!$D$5 -> 161.4168 | H17: =(([1]MAXIM!AI17*'[1]MARK UP FOR RETAIL'!$D$10)*'[1]MARK UP FOR RETAIL'!$D$11)*'[1]MARK UP FOR RETAIL'!$D$7 -> 32.6268 | I17: / | K17: =([1]MAXIM!AL17*'[1]MARK UP FOR RETAIL'!$D$11)*'[1]MARK UP FOR RETAIL'!$D$5 -> 81.2268
A18: Soft Soil Support | E18: =([1]MAXIM!AF18*'[1]MARK UP FOR RETAIL'!$D$11)*'[1]MARK UP FOR RETAIL'!$D$7 -> 25.758 | I18: / | K18: =([1]MAXIM!AL18*'[1]MARK UP FOR RETAIL'!$D$11)*'[1]MARK UP FOR RETAIL'!$D$5 -> 19.4238
A19: R-TYPE | E19: =(([1]MAXIM!AF19*'[1]MARK UP FOR RETAIL'!$D$9)*'[1]MARK UP FOR RETAIL'!$D$11)*'[1]MARK UP FOR RETAIL'!$D$5 -> -48.0816 | F19: =(([1]MAXIM!AG19*'[1]MARK UP FOR RETAIL'!$D$9)*'[1]MARK UP FOR RETAIL'!$D$11)*'[1]MARK UP FOR RETAIL'!$D$5 -> -82.4256 | G19: =(([1]MAXIM!AH19*'[1]MARK UP FOR RETAIL'!$D$9)*'[1]MARK UP FOR RETAIL'!$D$11)*'[1]MARK UP FOR RETAIL'!$D$5 -> -109.9008 | H19: =(([1]MAXIM!AI19*'[1]MARK UP FOR RETAIL'!$D$10)*'[1]MARK UP FOR RETAIL'!$D$11)*'[1]MARK UP FOR RETAIL'!$D$7 -> -18.8892 | K19: =([1]MAXIM!AL19*'[1]MARK UP FOR RETAIL'!$D$11)*'[1]MARK UP FOR RETAIL'!$D$5 -> -58.2714
A21: NOTE: The 2' long model has no back panels and must be fixed against a solid structure. The price already includes the R-type deduction, so no further deduction applies.
A24: MAXIM PACKAGE
A26: INCLUDES AS STANDARD | H26: PACKAGE EXTRAS
A28: Integral aluminium base with dropped doors | H28: Diamond shelf to length - 2 slat
A29: Double Dropped Doors | H29: Diamond staging to length - 3 slat
A30: At least one roof vent | H30: One 5 blade louvre
A31: Integral Gutters | H31: One automatic roof vent opener
H32: One automatic louvre opener
H33: Standard rainwater collection kit
H34: Grow Hooks (6)
A38: Size Length x Width | B38: Roof Vents | D38: Standard Door | E38: With Horticultural Glass | F38: With Toughened Safety Glass | H38: POWDER COATED (extra)
A39: 4’5” x 4’3” | B39: 1 | D39: Double Drop Door | E39: =((([1]MAXIM!AF39*'[1]MARK UP FOR RETAIL'!$D$14)*'[1]MARK UP FOR RETAIL'!$D$11)*'[1]MARK UP FOR RETAIL'!$D$5)+'[1]MARK UP FOR RETAIL'!$G$5 -> 892.944 | F39: =((([1]MAXIM!AG39*'[1]MARK UP FOR RETAIL'!$D$14)*'[1]MARK UP FOR RETAIL'!$D$11)*'[1]MARK UP FOR RETAIL'!$D$5)+'[1]MARK UP FOR RETAIL'!$G$5 -> 1086.9876 | H39: =(([1]MAXIM!AI39*'[1]MARK UP FOR RETAIL'!$D$14)*'[1]MARK UP FOR RETAIL'!$D$11)*'[1]MARK UP FOR RETAIL'!$D$5 -> 427.3236
A40: 6’5” x 4’3” | B40: 1 | E40: =((([1]MAXIM!AF40*'[1]MARK UP FOR RETAIL'!$D$14)*'[1]MARK UP FOR RETAIL'!$D$11)*'[1]MARK UP FOR RETAIL'!$D$5)+'[1]MARK UP FOR RETAIL'!$G$5 -> 963.3492 | F40: =((([1]MAXIM!AG40*'[1]MARK UP FOR RETAIL'!$D$14)*'[1]MARK UP FOR RETAIL'!$D$11)*'[1]MARK UP FOR RETAIL'!$D$5)+'[1]MARK UP FOR RETAIL'!$G$5 -> 1177.9992 | H40: =(([1]MAXIM!AI40*'[1]MARK UP FOR RETAIL'!$D$14)*'[1]MARK UP FOR RETAIL'!$D$11)*'[1]MARK UP FOR RETAIL'!$D$5 -> 490.8924
A41: 8’5” x 4’3” | B41: 1 | E41: =((([1]MAXIM!AF41*'[1]MARK UP FOR RETAIL'!$D$14)*'[1]MARK UP FOR RETAIL'!$D$11)*'[1]MARK UP FOR RETAIL'!$D$5)+'[1]MARK UP FOR RETAIL'!$G$5 -> 1086.9876 | F41: =((([1]MAXIM!AG41*'[1]MARK UP FOR RETAIL'!$D$14)*'[1]MARK UP FOR RETAIL'!$D$11)*'[1]MARK UP FOR RETAIL'!$D$5)+'[1]MARK UP FOR RETAIL'!$G$5 -> 1335.9816 | H41: =(([1]MAXIM!AI41*'[1]MARK UP FOR RETAIL'!$D$14)*'[1]MARK UP FOR RETAIL'!$D$11)*'[1]MARK UP FOR RETAIL'!$D$5 -> 568.5876
A42: 10'5" x 4'3" | B42: 2 | E42: =((([1]MAXIM!AF42*'[1]MARK UP FOR RETAIL'!$D$14)*'[1]MARK UP FOR RETAIL'!$D$11)*'[1]MARK UP FOR RETAIL'!$D$5)+'[1]MARK UP FOR RETAIL'!$G$5 -> 1296.486 | F42: =((([1]MAXIM!AG42*'[1]MARK UP FOR RETAIL'!$D$14)*'[1]MARK UP FOR RETAIL'!$D$11)*'[1]MARK UP FOR RETAIL'!$D$5)+'[1]MARK UP FOR RETAIL'!$G$5 -> 1555.7832 | H42: =(([1]MAXIM!AI42*'[1]MARK UP FOR RETAIL'!$D$14)*'[1]MARK UP FOR RETAIL'!$D$11)*'[1]MARK UP FOR RETAIL'!$D$5 -> 787.5468

Sheet THE EDGE 400
A1: THE EDGE 400 - 4'3" WIDE
A3: BASIC MODEL OPTIONS
E4: Aluminium frame Integral Base with drop door(s)
A6: Size Length x Width | B6: Single Front Vent | C6: 5 Blade Louvre | D6: Standard Door | E6: 4mm Toughened Safety Glass | F6: 6mm Twin Wall Polycarbonate | H6: POWDER COATED (extra)
A7: 8’5” x 4’3” | B7: 2 | C7: 1 | D7: Double Drop Doors on the Length | E7: =((('[1]THE EDGE 400'!P7*'[1]MARK UP FOR RETAIL'!$D$11)*'[1]MARK UP FOR RETAIL'!$D$9)*'[1]MARK UP FOR RETAIL'!$D$5)+'[1]MARK UP FOR RETAIL'!$G$5 -> 1584.9756 | F7: =((('[1]THE EDGE 400'!Q7*'[1]MARK UP FOR RETAIL'!$D$11)*'[1]MARK UP FOR RETAIL'!$D$9)*'[1]MARK UP FOR RETAIL'!$D$5)+'[1]MARK UP FOR RETAIL'!$G$5 -> 1825.3836 | H7: =('[1]THE EDGE 400'!S7*'[1]MARK UP FOR RETAIL'!$D$11)*'[1]MARK UP FOR RETAIL'!$D$5 -> 669.2382
A8: 10’5” x 4’3” | B8: 2 | C8: 1 | E8: =((('[1]THE EDGE 400'!P8*'[1]MARK UP FOR RETAIL'!$D$11)*'[1]MARK UP FOR RETAIL'!$D$9)*'[1]MARK UP FOR RETAIL'!$D$5)+'[1]MARK UP FOR RETAIL'!$G$5 -> 1849.4244 | F8: =((('[1]THE EDGE 400'!Q8*'[1]MARK UP FOR RETAIL'!$D$11)*'[1]MARK UP FOR RETAIL'!$D$9)*'[1]MARK UP FOR RETAIL'!$D$5)+'[1]MARK UP FOR RETAIL'!$G$5 -> 2127.6108 | H8: =('[1]THE EDGE 400'!S8*'[1]MARK UP FOR RETAIL'!$D$11)*'[1]MARK UP FOR RETAIL'!$D$5 -> 755.7624
A9: 12’6” x 4’3” | B9: 2 | C9: 1 | E9: =((('[1]THE EDGE 400'!P9*'[1]MARK UP FOR RETAIL'!$D$11)*'[1]MARK UP FOR RETAIL'!$D$9)*'[1]MARK UP FOR RETAIL'!$D$5)+'[1]MARK UP FOR RETAIL'!$G$5 -> 2113.8732 | F9: =((('[1]THE EDGE 400'!Q9*'[1]MARK UP FOR RETAIL'!$D$11)*'[1]MARK UP FOR RETAIL'!$D$9)*'[1]MARK UP FOR RETAIL'!$D$5)+'[1]MARK UP FOR RETAIL'!$G$5 -> 2429.838 | H9: =('[1]THE EDGE 400'!S9*'[1]MARK UP FOR RETAIL'!$D$11)*'[1]MARK UP FOR RETAIL'!$D$5 -> 847.584
A10: 14’6" x 4’3” | B10: 2 | C10: 1 | E10: =((('[1]THE EDGE 400'!P10*'[1]MARK UP FOR RETAIL'!$D$11)*'[1]MARK UP FOR RETAIL'!$D$9)*'[1]MARK UP FOR RETAIL'!$D$5)+'[1]MARK UP FOR RETAIL'!$G$5 -> 2376.6048 | F10: =((('[1]THE EDGE 400'!Q10*'[1]MARK UP FOR RETAIL'!$D$11)*'[1]MARK UP FOR RETAIL'!$D$9)*'[1]MARK UP FOR RETAIL'!$D$5)+'[1]MARK UP FOR RETAIL'!$G$5 -> 2732.0652 | H10: =('[1]THE EDGE 400'!S10*'[1]MARK UP FOR RETAIL'!$D$11)*'[1]MARK UP FOR RETAIL'!$D$5 -> 955.2978
A11: 16’6” x 4’3” | B11: 2 | C11: 1 | E11: =((('[1]THE EDGE 400'!P11*'[1]MARK UP FOR RETAIL'!$D$11)*'[1]MARK UP FOR RETAIL'!$D$9)*'[1]MARK UP FOR RETAIL'!$D$5)+'[1]MARK UP FOR RETAIL'!$G$5 -> 2639.3364 | F11: =((('[1]THE EDGE 400'!Q11*'[1]MARK UP FOR RETAIL'!$D$11)*'[1]MARK UP FOR RETAIL'!$D$9)*'[1]MARK UP FOR RETAIL'!$D$5)+'[1]MARK UP FOR RETAIL'!$G$5 -> 3036.0096 | H11: =('[1]THE EDGE 400'!S11*'[1]MARK UP FOR RETAIL'!$D$11)*'[1]MARK UP FOR RETAIL'!$D$5 -> 1043.5878
A12: 18’6” x 4’3” | B12: 2 | C12: 1 | E12: =((('[1]THE EDGE 400'!P12*'[1]MARK UP FOR RETAIL'!$D$11)*'[1]MARK UP FOR RETAIL'!$D$9)*'[1]MARK UP FOR RETAIL'!$D$5)+'[1]MARK UP FOR RETAIL'!$G$5 -> 2912.3712 | F12: =((('[1]THE EDGE 400'!Q12*'[1]MARK UP FOR RETAIL'!$D$11)*'[1]MARK UP FOR RETAIL'!$D$9)*'[1]MARK UP FOR RETAIL'!$D$5)+'[1]MARK UP FOR RETAIL'!$G$5 -> 3350.2572 | H12: =('[1]THE EDGE 400'!S12*'[1]MARK UP FOR RETAIL'!$D$11)*'[1]MARK UP FOR RETAIL'!$D$5 -> 1142.4726
A13: 20’6” x 4’3” | B13: 2 | C13: 1 | E13: =((('[1]THE EDGE 400'!P13*'[1]MARK UP FOR RETAIL'!$D$11)*'[1]MARK UP FOR RETAIL'!$D$9)*'[1]MARK UP FOR RETAIL'!$D$5)+'[1]MARK UP FOR RETAIL'!$G$5 -> 3190.5576 | F13: =((('[1]THE EDGE 400'!Q13*'[1]MARK UP FOR RETAIL'!$D$11)*'[1]MARK UP FOR RETAIL'!$D$9)*'[1]MARK UP FOR RETAIL'!$D$5)+'[1]MARK UP FOR RETAIL'!$G$5 -> 3669.6564 | H13: =('[1]THE EDGE 400'!S13*'[1]MARK UP FOR RETAIL'!$D$11)*'[1]MARK UP FOR RETAIL'!$D$5 -> 1234.2942
A14: Extra double doors | E14: =(('[1]THE EDGE 400'!P14*'[1]MARK UP FOR RETAIL'!$D$11)*'[1]MARK UP FOR RETAIL'!$D$9)*'[1]MARK UP FOR RETAIL'!$D$5 -> 298.7928 | H14: =('[1]THE EDGE 400'!S14*'[1]MARK UP FOR RETAIL'!$D$11)*'[1]MARK UP FOR RETAIL'!$D$5 -> 151.8588
A17: THE EDGE 400 comes as standard with:
A20: Unlimited lengths available from 8'
A21: Titan heavy duty bar throughout
A22: 4mm thick Toughened Safety Glass throughout
A23: Bar Capping
A24: Two Hinge Roof Vents (Additional hinge vents can not be purchased)
A25: One 5 Blade Louvre
A26: Double Doors on the Length
A27: Low Threshold with Cambered Cill
A30: Please advise door position when ordering The Edge
A57: The above image demonstrates a 12'x4' (Nominal) Edge 400
A58: The double doors has been placed in bay 3 and 4
... A60: * Drawing not to scale or specification.

Sheet STREAMLINE
A1: STREAMLINE: 5'3" WIDE
A3: BASIC MODEL OPTIONS
E4: Aluminium frame, Integral base with drop door(s)
A6: Size Length x Width | B6: Roof Vents | D6: Standard Door | E6: With Horticultural Glass | F6: With Toughened Safety Glass | G6: With 6mm Twin wall Polycarbonate | H6: Bar Capping (TG only) | I6: Hybrid Panels (coloured) | K6: POWDER COATED (extra)
A7: 2’3” x 5’3” NOT FREE STANDING | B7: 0 | D7: Double Drop Doors | E7: =((([1]STREAMLINE!AR7*'[1]MARK UP FOR RETAIL'!$D$11)*'[1]MARK UP FOR RETAIL'!$D$9)*'[1]MARK UP FOR RETAIL'!$D$5)+'[1]MARK UP FOR RETAIL'!$G$5 -> 508.2912 | F7: =((([1]STREAMLINE!AS7*'[1]MARK UP FOR RETAIL'!$D$11)*'[1]MARK UP FOR RETAIL'!$D$9)*'[1]MARK UP FOR RETAIL'!$D$5)+'[1]MARK UP FOR RETAIL'!$G$5 -> 686.88 | G7: =((([1]STREAMLINE!AT7*'[1]MARK UP FOR RETAIL'!$D$11)*'[1]MARK UP FOR RETAIL'!$D$9)*'[1]MARK UP FOR RETAIL'!$D$5)+'[1]MARK UP FOR RETAIL'!$G$5 -> 748.6992 | H7: =(([1]STREAMLINE!AU7*'[1]MARK UP FOR RETAIL'!$D$10)*'[1]MARK UP FOR RETAIL'!$D$11)*'[1]MARK UP FOR RETAIL'!$D$7 -> 106.4664 | I7: =([1]STREAMLINE!AV7*'[1]MARK UP FOR RETAIL'!$D$11)*'[1]MARK UP FOR RETAIL'!$D$5 -> 130.6368 | K7: =([1]STREAMLINE!AX7*'[1]MARK UP FOR RETAIL'!$D$11)*'[1]MARK UP FOR RETAIL'!$D$5 -> 250.7436
A8: 4’5” x 5’3” | B8: 1 | E8: =((([1]STREAMLINE!AR8*'[1]MARK UP FOR RETAIL'!$D$11)*'[1]MARK UP FOR RETAIL'!$D$9)*'[1]MARK UP FOR RETAIL'!$D$5)+'[1]MARK UP FOR RETAIL'!$G$5 -> 563.2416 | F8: =((([1]STREAMLINE!AS8*'[1]MARK UP FOR RETAIL'!$D$11)*'[1]MARK UP FOR RETAIL'!$D$9)*'[1]MARK UP FOR RETAIL'!$D$5)+'[1]MARK UP FOR RETAIL'!$G$5 -> 757.2852 | G8: =((([1]STREAMLINE!AT8*'[1]MARK UP FOR RETAIL'!$D$11)*'[1]MARK UP FOR RETAIL'!$D$9)*'[1]MARK UP FOR RETAIL'!$D$5)+'[1]MARK UP FOR RETAIL'!$G$5 -> 908.3988 | H8: =(([1]STREAMLINE!AU8*'[1]MARK UP FOR RETAIL'!$D$10)*'[1]MARK UP FOR RETAIL'!$D$11)*'[1]MARK UP FOR RETAIL'!$D$7 -> 121.9212 | I8: =([1]STREAMLINE!AV8*'[1]MARK UP FOR RETAIL'!$D$11)*'[1]MARK UP FOR RETAIL'!$D$5 -> 297.5616 | K8: =([1]STREAMLINE!AX8*'[1]MARK UP FOR RETAIL'!$D$11)*'[1]MARK UP FOR RETAIL'!$D$5 -> 294.8886
A9: 6’5” x 5’3” | B9: 1 | E9: =((([1]STREAMLINE!AR9*'[1]MARK UP FOR RETAIL'!$D$11)*'[1]MARK UP FOR RETAIL'!$D$9)*'[1]MARK UP FOR RETAIL'!$D$5)+'[1]MARK UP FOR RETAIL'!$G$5 -> 604.4544 | F9: =((([1]STREAMLINE!AS9*'[1]MARK UP FOR RETAIL'!$D$11)*'[1]MARK UP FOR RETAIL'!$D$9)*'[1]MARK UP FOR RETAIL'!$D$5)+'[1]MARK UP FOR RETAIL'!$G$5 -> 817.3872 | G9: =((([1]STREAMLINE!AT9*'[1]MARK UP FOR RETAIL'!$D$11)*'[1]MARK UP FOR RETAIL'!$D$9)*'[1]MARK UP FOR RETAIL'!$D$5)+'[1]MARK UP FOR RETAIL'!$G$5 -> 1056.078 | H9: =(([1]STREAMLINE!AU9*'[1]MARK UP FOR RETAIL'!$D$10)*'[1]MARK UP FOR RETAIL'!$D$11)*'[1]MARK UP FOR RETAIL'!$D$7 -> 145.962 | I9: =([1]STREAMLINE!AV9*'[1]MARK UP FOR RETAIL'!$D$11)*'[1]MARK UP FOR RETAIL'!$D$5 -> 370.1376 | K9: =([1]STREAMLINE!AX9*'[1]MARK UP FOR RETAIL'!$D$11)*'[1]MARK UP FOR RETAIL'!$D$5 -> 330.2046
A10: 8’5” x 5’3” | B10: 1 | E10: =((([1]STREAMLINE!AR10*'[1]MARK UP FOR RETAIL'!$D$11)*'[1]MARK UP FOR RETAIL'!$D$9)*'[1]MARK UP FOR RETAIL'!$D$5)+'[1]MARK UP FOR RETAIL'!$G$5 -> 666.2736 | F10: =((([1]STREAMLINE!AS10*'[1]MARK UP FOR RETAIL'!$D$11)*'[1]MARK UP FOR RETAIL'!$D$9)*'[1]MARK UP FOR RETAIL'!$D$5)+'[1]MARK UP FOR RETAIL'!$G$5 -> 908.3988 | G10: =((([1]STREAMLINE!AT10*'[1]MARK UP FOR RETAIL'!$D$11)*'[1]MARK UP FOR RETAIL'!$D$9)*'[1]MARK UP FOR RETAIL'!$D$5)+'[1]MARK UP FOR RETAIL'!$G$5 -> 1217.4948 | H10: =(([1]STREAMLINE!AU10*'[1]MARK UP FOR RETAIL'!$D$10)*'[1]MARK UP FOR RETAIL'!$D$11)*'[1]MARK UP FOR RETAIL'!$D$7 -> 163.134 | I10: =([1]STREAMLINE!AV10*'[1]MARK UP FOR RETAIL'!$D$11)*'[1]MARK UP FOR RETAIL'!$D$5 -> 440.8992 | K10: =([1]STREAMLINE!AX10*'[1]MARK UP FOR RETAIL'!$D$11)*'[1]MARK UP FOR RETAIL'!$D$5 -> 388.476
A11: 10’5” x 5’3” | B11: 2 | E11: =((([1]STREAMLINE!AR11*'[1]MARK UP FOR RETAIL'!$D$11)*'[1]MARK UP FOR RETAIL'!$D$9)*'[1]MARK UP FOR RETAIL'!$D$5)+'[1]MARK UP FOR RETAIL'!$G$5 -> 843.1452 | F11: =((([1]STREAMLINE!AS11*'[1]MARK UP FOR RETAIL'!$D$11)*'[1]MARK UP FOR RETAIL'!$D$9)*'[1]MARK UP FOR RETAIL'!$D$5)+'[1]MARK UP FOR RETAIL'!$G$5 -> 1097.2908 | G11: =((([1]STREAMLINE!AT11*'[1]MARK UP FOR RETAIL'!$D$11)*'[1]MARK UP FOR RETAIL'!$D$9)*'[1]MARK UP FOR RETAIL'!$D$5)+'[1]MARK UP FOR RETAIL'!$G$5 -> 1406.3868 | H11: =(([1]STREAMLINE!AU11*'[1]MARK UP FOR RETAIL'!$D$10)*'[1]MARK UP FOR RETAIL'!$D$11)*'[1]MARK UP FOR RETAIL'!$D$7 -> 178.5888 | I11: =([1]STREAMLINE!AV11*'[1]MARK UP FOR RETAIL'!$D$11)*'[1]MARK UP FOR RETAIL'!$D$5 -> 511.6608 | K11: =([1]STREAMLINE!AX11*'[1]MARK UP FOR RETAIL'!$D$11)*'[1]MARK UP FOR RETAIL'!$D$5 -> 557.9928
A12: 12’6” x 5’3” | B12: 2 | E12: =((([1]STREAMLINE!AR12*'[1]MARK UP FOR RETAIL'!$D$11)*'[1]MARK UP FOR RETAIL'!$D$9)*'[1]MARK UP FOR RETAIL'!$D$5)+'[1]MARK UP FOR RETAIL'!$G$5 -> 978.804 | F12: =((([1]STREAMLINE!AS12*'[1]MARK UP FOR RETAIL'!$D$11)*'[1]MARK UP FOR RETAIL'!$D$9)*'[1]MARK UP FOR RETAIL'!$D$5)+'[1]MARK UP FOR RETAIL'!$G$5 -> 1282.7484 | G12: =((([1]STREAMLINE!AT12*'[1]MARK UP FOR RETAIL'!$D$11)*'[1]MARK UP FOR RETAIL'!$D$9)*'[1]MARK UP FOR RETAIL'!$D$5)+'[1]MARK UP FOR RETAIL'!$G$5 -> 1596.996 | H12: =(([1]STREAMLINE!AU12*'[1]MARK UP FOR RETAIL'!$D$10)*'[1]MARK UP FOR RETAIL'!$D$11)*'[1]MARK UP FOR RETAIL'!$D$7 -> 200.9124 | I12: =([1]STREAMLINE!AV12*'[1]MARK UP FOR RETAIL'!$D$11)*'[1]MARK UP FOR RETAIL'!$D$5 -> 584.2368 | K12: =([1]STREAMLINE!AX12*'[1]MARK UP FOR RETAIL'!$D$11)*'[1]MARK UP FOR RETAIL'!$D$5 -> 692.1936
A13: 14’6” x 5’3” | B13: 3 | E13: =((([1]STREAMLINE!AR13*'[1]MARK UP FOR RETAIL'!$D$11)*'[1]MARK UP FOR RETAIL'!$D$9)*'[1]MARK UP FOR RETAIL'!$D$5)+'[1]MARK UP FOR RETAIL'!$G$5 -> 1138.5036 | F13: =((([1]STREAMLINE!AS13*'[1]MARK UP FOR RETAIL'!$D$11)*'[1]MARK UP FOR RETAIL'!$D$9)*'[1]MARK UP FOR RETAIL'!$D$5)+'[1]MARK UP FOR RETAIL'!$G$5 -> 1476.792 | G13: =((([1]STREAMLINE!AT13*'[1]MARK UP FOR RETAIL'!$D$11)*'[1]MARK UP FOR RETAIL'!$D$9)*'[1]MARK UP FOR RETAIL'!$D$5)+'[1]MARK UP FOR RETAIL'!$G$5 -> 1828.818 | H13: =(([1]STREAMLINE!AU13*'[1]MARK UP FOR RETAIL'!$D$10)*'[1]MARK UP FOR RETAIL'!$D$11)*'[1]MARK UP FOR RETAIL'!$D$7 -> 216.3672 | I13: =([1]STREAMLINE!AV13*'[1]MARK UP FOR RETAIL'!$D$11)*'[1]MARK UP FOR RETAIL'!$D$5 -> 656.8128 | K13: =([1]STREAMLINE!AX13*'[1]MARK UP FOR RETAIL'!$D$11)*'[1]MARK UP FOR RETAIL'!$D$5 -> 819.3312
A14: 16’6” x 5’3” | B14: 3 | E14: =((([1]STREAMLINE!AR14*'[1]MARK UP FOR RETAIL'!$D$11)*'[1]MARK UP FOR RETAIL'!$D$9)*'[1]MARK UP FOR RETAIL'!$D$5)+'[1]MARK UP FOR RETAIL'!$G$5 -> 1311.9408 | F14: =((([1]STREAMLINE!AS14*'[1]MARK UP FOR RETAIL'!$D$11)*'[1]MARK UP FOR RETAIL'!$D$9)*'[1]MARK UP FOR RETAIL'!$D$5)+'[1]MARK UP FOR RETAIL'!$G$5 -> 1682.856 | G14: =((([1]STREAMLINE!AT14*'[1]MARK UP FOR RETAIL'!$D$11)*'[1]MARK UP FOR RETAIL'!$D$9)*'[1]MARK UP FOR RETAIL'!$D$5)+'[1]MARK UP FOR RETAIL'!$G$5 -> 2082.9636 | H14: =(([1]STREAMLINE!AU14*'[1]MARK UP FOR RETAIL'!$D$10)*'[1]MARK UP FOR RETAIL'!$D$11)*'[1]MARK UP FOR RETAIL'!$D$7 -> 231.822 | I14: =([1]STREAMLINE!AV14*'[1]MARK UP FOR RETAIL'!$D$11)*'[1]MARK UP FOR RETAIL'!$D$5 -> 725.76 | K14: =([1]STREAMLINE!AX14*'[1]MARK UP FOR RETAIL'!$D$11)*'[1]MARK UP FOR RETAIL'!$D$5 -> 971.19
A15: 18’6” x 5’3” | B15: 4 | E15: =((([1]STREAMLINE!AR15*'[1]MARK UP FOR RETAIL'!$D$11)*'[1]MARK UP FOR RETAIL'!$D$9)*'[1]MARK UP FOR RETAIL'!$D$5)+'[1]MARK UP FOR RETAIL'!$G$5 -> 1504.2672 | F15: =((([1]STREAMLINE!AS15*'[1]MARK UP FOR RETAIL'!$D$11)*'[1]MARK UP FOR RETAIL'!$D$9)*'[1]MARK UP FOR RETAIL'!$D$5)+'[1]MARK UP FOR RETAIL'!$G$5 -> 1909.5264 | G15: =((([1]STREAMLINE!AT15*'[1]MARK UP FOR RETAIL'!$D$11)*'[1]MARK UP FOR RETAIL'!$D$9)*'[1]MARK UP FOR RETAIL'!$D$5)+'[1]MARK UP FOR RETAIL'!$G$5 -> 2349.1296 | H15: =(([1]STREAMLINE!AU15*'[1]MARK UP FOR RETAIL'!$D$10)*'[1]MARK UP FOR RETAIL'!$D$11)*'[1]MARK UP FOR RETAIL'!$D$7 -> 254.1456 | I15: =([1]STREAMLINE!AV15*'[1]MARK UP FOR RETAIL'!$D$11)*'[1]MARK UP FOR RETAIL'!$D$5 -> 798.336 | K15: =([1]STREAMLINE!AX15*'[1]MARK UP FOR RETAIL'!$D$11)*'[1]MARK UP FOR RETAIL'!$D$5 -> 1156.599
A16: 20’6” x 5’3” | B16: 4 | E16: =((([1]STREAMLINE!AR16*'[1]MARK UP FOR RETAIL'!$D$11)*'[1]MARK UP FOR RETAIL'!$D$9)*'[1]MARK UP FOR RETAIL'!$D$5)+'[1]MARK UP FOR RETAIL'!$G$5 -> 1732.6548 | F16: =((([1]STREAMLINE!AS16*'[1]MARK UP FOR RETAIL'!$D$11)*'[1]MARK UP FOR RETAIL'!$D$9)*'[1]MARK UP FOR RETAIL'!$D$5)+'[1]MARK UP FOR RETAIL'!$G$5 -> 2161.9548 | G16: =((([1]STREAMLINE!AT16*'[1]MARK UP FOR RETAIL'!$D$11)*'[1]MARK UP FOR RETAIL'!$D$9)*'[1]MARK UP FOR RETAIL'!$D$5)+'[1]MARK UP FOR RETAIL'!$G$5 -> 2639.3364 | H16: =(([1]STREAMLINE!AU16*'[1]MARK UP FOR RETAIL'!$D$10)*'[1]MARK UP FOR RETAIL'!$D$11)*'[1]MARK UP FOR RETAIL'!$D$7 -> 274.752 | I16: =([1]STREAMLINE!AV16*'[1]MARK UP FOR RETAIL'!$D$11)*'[1]MARK UP FOR RETAIL'!$D$5 -> 870.912 | K16: =([1]STREAMLINE!AX16*'[1]MARK UP FOR RETAIL'!$D$11)*'[1]MARK UP FOR RETAIL'!$D$5 -> 1342.008
A17: Extra double doors in the rear end | E17: =((([1]STREAMLINE!AR17*'[1]MARK UP FOR RETAIL'!$D$11)*'[1]MARK UP FOR RETAIL'!$D$9)*'[1]MARK UP FOR RETAIL'!$D$5) -> 147.6792 | H17: =(([1]STREAMLINE!AU17*'[1]MARK UP FOR RETAIL'!$D$10)*'[1]MARK UP FOR RETAIL'!$D$11)*'[1]MARK UP FOR RETAIL'!$D$7 -> 32.6268 | I17: / | K17: =([1]STREAMLINE!AX17*'[1]MARK UP FOR RETAIL'!$D$11)*'[1]MARK UP FOR RETAIL'!$D$5 -> 75.9294
A18: Soft Soil Support | E18: =((([1]STREAMLINE!AR18*'[1]MARK UP FOR RETAIL'!$D$10)*'[1]MARK UP FOR RETAIL'!$D$11)*'[1]MARK UP FOR RETAIL'!$D$7) -> 32.6268 | I18: / | K18: =([1]STREAMLINE!AX18*'[1]MARK UP FOR RETAIL'!$D$11)*'[1]MARK UP FOR RETAIL'!$D$5 -> 24.7212
A19: R-TYPE | E19: =((([1]STREAMLINE!AR19*'[1]MARK UP FOR RETAIL'!$D$11)*'[1]MARK UP FOR RETAIL'!$D$9)*'[1]MARK UP FOR RETAIL'!$D$5) -> -49.7988 | F19: =((([1]STREAMLINE!AS19*'[1]MARK UP FOR RETAIL'!$D$11)*'[1]MARK UP FOR RETAIL'!$D$9)*'[1]MARK UP FOR RETAIL'!$D$5) -> -85.86 | G19: =((([1]STREAMLINE!AT19*'[1]MARK UP FOR RETAIL'!$D$11)*'[1]MARK UP FOR RETAIL'!$D$9)*'[1]MARK UP FOR RETAIL'!$D$5) -> -109.9008 | H19: =(([1]STREAMLINE!AU19*'[1]MARK UP FOR RETAIL'!$D$10)*'[1]MARK UP FOR RETAIL'!$D$11)*'[1]MARK UP FOR RETAIL'!$D$7 -> -17.172 | K19: =([1]STREAMLINE!AX19*'[1]MARK UP FOR RETAIL'!$D$11)*'[1]MARK UP FOR RETAIL'!$D$5 -> -60.0372
A21: NOTE: The 2' long model has no back panels and must be fixed against a solid structure. The price already includes the R-type deduction, so no further deduction applies.
A24: STREAMLINE PACKAGE
A26: INCLUDES AS STANDARD | H26: PACKAGE EXTRAS
A28: Integral aluminium base with dropped doors | H28: Diamond shelf to length - 2 slat
A29: Double Dropped Doors | H29: Diamond staging to length - 5 slat
A30: At least one roof vent | H30: One 5 blade louvre
A31: Integral Gutters | H31: One automatic roof vent opener
H32: One automatic louvre opener
H33: Standard rainwater collection kit
H34: Grow Hooks (6)
A38: Size Length x Width | B38: Roof Vents | D38: Standard Door | E38: With Horticultural Glass | F38: With Toughened Safety Glass | H38: POWDER COATED (extra)
A39: 4’5” x 5’3” | B39: 1 | D39: Double Drop Door | E39: =((([1]STREAMLINE!AR39*'[1]MARK UP FOR RETAIL'!$D$14)*'[1]MARK UP FOR RETAIL'!$D$11)*'[1]MARK UP FOR RETAIL'!$D$5)+'[1]MARK UP FOR RETAIL'!$G$5 -> 868.9032 | F39: =((([1]STREAMLINE!AS39*'[1]MARK UP FOR RETAIL'!$D$14)*'[1]MARK UP FOR RETAIL'!$D$11)*'[1]MARK UP FOR RETAIL'!$D$5)+'[1]MARK UP FOR RETAIL'!$G$5 -> 1064.664 | H39: =(([1]STREAMLINE!AU39*'[1]MARK UP FOR RETAIL'!$D$14)*'[1]MARK UP FOR RETAIL'!$D$11)*'[1]MARK UP FOR RETAIL'!$D$5 -> 425.5578
A40: 6’5” x 5’3” | B40: 1 | E40: =((([1]STREAMLINE!AR40*'[1]MARK UP FOR RETAIL'!$D$14)*'[1]MARK UP FOR RETAIL'!$D$11)*'[1]MARK UP FOR RETAIL'!$D$5)+'[1]MARK UP FOR RETAIL'!$G$5 -> 947.8944 | F40: =((([1]STREAMLINE!AS40*'[1]MARK UP FOR RETAIL'!$D$14)*'[1]MARK UP FOR RETAIL'!$D$11)*'[1]MARK UP FOR RETAIL'!$D$5)+'[1]MARK UP FOR RETAIL'!$G$5 -> 1162.5444 | H40: =(([1]STREAMLINE!AU40*'[1]MARK UP FOR RETAIL'!$D$14)*'[1]MARK UP FOR RETAIL'!$D$11)*'[1]MARK UP FOR RETAIL'!$D$5 -> 490.8924
A41: 8’5” x 5’3” | B41: 1 | E41: =((([1]STREAMLINE!AR41*'[1]MARK UP FOR RETAIL'!$D$14)*'[1]MARK UP FOR RETAIL'!$D$11)*'[1]MARK UP FOR RETAIL'!$D$5)+'[1]MARK UP FOR RETAIL'!$G$5 -> 1057.7952 | F41: =((([1]STREAMLINE!AS41*'[1]MARK UP FOR RETAIL'!$D$14)*'[1]MARK UP FOR RETAIL'!$D$11)*'[1]MARK UP FOR RETAIL'!$D$5)+'[1]MARK UP FOR RETAIL'!$G$5 -> 1301.6376 | H41: =(([1]STREAMLINE!AU41*'[1]MARK UP FOR RETAIL'!$D$14)*'[1]MARK UP FOR RETAIL'!$D$11)*'[1]MARK UP FOR RETAIL'!$D$5 -> 584.4798
A42: 10'5" x 5'3" | B42: 2 | E42: =((([1]STREAMLINE!AR42*'[1]MARK UP FOR RETAIL'!$D$14)*'[1]MARK UP FOR RETAIL'!$D$11)*'[1]MARK UP FOR RETAIL'!$D$5)+'[1]MARK UP FOR RETAIL'!$G$5 -> 1298.2032 | F42: =((([1]STREAMLINE!AS42*'[1]MARK UP FOR RETAIL'!$D$14)*'[1]MARK UP FOR RETAIL'!$D$11)*'[1]MARK UP FOR RETAIL'!$D$5)+'[1]MARK UP FOR RETAIL'!$G$5 -> 1555.7832 | H42: =(([1]STREAMLINE!AU42*'[1]MARK UP FOR RETAIL'!$D$14)*'[1]MARK UP FOR RETAIL'!$D$11)*'[1]MARK UP FOR RETAIL'!$D$5 -> 803.439

Sheet DELTA
A1: DELTA: 5'3" WIDE
A3: BASIC MODEL OPTIONS
E4: Aluminium frame, Integral base with drop door(s)
A6: Size Length x Width | B6: Roof Vents | D6: Standard Door | E6: With Horticultural Glass | F6: With Toughened Safety Glass | G6: With 6mm Twin wall Polycarbonate | H6: Bar Capping (TG only) | I6: Hybrid Panels (coloured) | K6: POWDER COATED (extra)
A7: 2’3” x 5’3” NOT FREE STANDING | B7: 0 | D7: Double Drop Doors | E7: =((([1]DELTA!AF7*'[1]MARK UP FOR RETAIL'!$D$11)*'[1]MARK UP FOR RETAIL'!$D$9)*'[1]MARK UP FOR RETAIL'!$D$5)+'[1]MARK UP FOR RETAIL'!$G$5 -> 580.4136 | F7: =((([1]DELTA!AG7*'[1]MARK UP FOR RETAIL'!$D$11)*'[1]MARK UP FOR RETAIL'!$D$9)*'[1]MARK UP FOR RETAIL'!$D$5)+'[1]MARK UP FOR RETAIL'!$G$5 -> 786.4776 | G7: =((([1]DELTA!AH7*'[1]MARK UP FOR RETAIL'!$D$11)*'[1]MARK UP FOR RETAIL'!$D$9)*'[1]MARK UP FOR RETAIL'!$D$5)+'[1]MARK UP FOR RETAIL'!$G$5 -> 874.0548 | H7: =(([1]DELTA!AI7*'[1]MARK UP FOR RETAIL'!$D$10)*'[1]MARK UP FOR RETAIL'!$D$11)*'[1]MARK UP FOR RETAIL'!$D$7 -> 108.1836 | I7: =([1]DELTA!AJ7*'[1]MARK UP FOR RETAIL'!$D$11)*'[1]MARK UP FOR RETAIL'!$D$5 -> 130.6368 | K7: =([1]DELTA!AL7*'[1]MARK UP FOR RETAIL'!$D$11)*'[1]MARK UP FOR RETAIL'!$D$5 -> 289.5912
A8: 4’5” x 5’3” | B8: 1 | E8: =((([1]DELTA!AF8*'[1]MARK UP FOR RETAIL'!$D$11)*'[1]MARK UP FOR RETAIL'!$D$9)*'[1]MARK UP FOR RETAIL'!$D$5)+'[1]MARK UP FOR RETAIL'!$G$5 -> 630.2124 | F8: =((([1]DELTA!AG8*'[1]MARK UP FOR RETAIL'!$D$11)*'[1]MARK UP FOR RETAIL'!$D$9)*'[1]MARK UP FOR RETAIL'!$D$5)+'[1]MARK UP FOR RETAIL'!$G$5 -> 855.1656 | G8: =((([1]DELTA!AH8*'[1]MARK UP FOR RETAIL'!$D$11)*'[1]MARK UP FOR RETAIL'!$D$9)*'[1]MARK UP FOR RETAIL'!$D$5)+'[1]MARK UP FOR RETAIL'!$G$5 -> 1025.1684 | H8: =(([1]DELTA!AI8*'[1]MARK UP FOR RETAIL'!$D$10)*'[1]MARK UP FOR RETAIL'!$D$11)*'[1]MARK UP FOR RETAIL'!$D$7 -> 132.2244 | I8: =([1]DELTA!AJ8*'[1]MARK UP FOR RETAIL'!$D$11)*'[1]MARK UP FOR RETAIL'!$D$5 -> 297.5616 | K8: =([1]DELTA!AL8*'[1]MARK UP FOR RETAIL'!$D$11)*'[1]MARK UP FOR RETAIL'!$D$5 -> 330.2046
A9: 6’5” x 5’3” | B9: 1 | E9: =((([1]DELTA!AF9*'[1]MARK UP FOR RETAIL'!$D$11)*'[1]MARK UP FOR RETAIL'!$D$9)*'[1]MARK UP FOR RETAIL'!$D$5)+'[1]MARK UP FOR RETAIL'!$G$5 -> 688.5972 | F9: =((([1]DELTA!AG9*'[1]MARK UP FOR RETAIL'!$D$11)*'[1]MARK UP FOR RETAIL'!$D$9)*'[1]MARK UP FOR RETAIL'!$D$5)+'[1]MARK UP FOR RETAIL'!$G$5 -> 920.4192 | G9: =((([1]DELTA!AH9*'[1]MARK UP FOR RETAIL'!$D$11)*'[1]MARK UP FOR RETAIL'!$D$9)*'[1]MARK UP FOR RETAIL'!$D$5)+'[1]MARK UP FOR RETAIL'!$G$5 -> 1188.3024 | H9: =(([1]DELTA!AI9*'[1]MARK UP FOR RETAIL'!$D$10)*'[1]MARK UP FOR RETAIL'!$D$11)*'[1]MARK UP FOR RETAIL'!$D$7 -> 152.8308 | I9: =([1]DELTA!AJ9*'[1]MARK UP FOR RETAIL'!$D$11)*'[1]MARK UP FOR RETAIL'!$D$5 -> 370.1376 | K9: =([1]DELTA!AL9*'[1]MARK UP FOR RETAIL'!$D$11)*'[1]MARK UP FOR RETAIL'!$D$5 -> 376.1154
A10: 8’5” x 5’3” | B10: 1 | E10: =((([1]DELTA!AF10*'[1]MARK UP FOR RETAIL'!$D$11)*'[1]MARK UP FOR RETAIL'!$D$9)*'[1]MARK UP FOR RETAIL'!$D$5)+'[1]MARK UP FOR RETAIL'!$G$5 -> 776.1744 | F10: =((([1]DELTA!AG10*'[1]MARK UP FOR RETAIL'!$D$11)*'[1]MARK UP FOR RETAIL'!$D$9)*'[1]MARK UP FOR RETAIL'!$D$5)+'[1]MARK UP FOR RETAIL'!$G$5 -> 1020.0168 | G10: =((([1]DELTA!AH10*'[1]MARK UP FOR RETAIL'!$D$11)*'[1]MARK UP FOR RETAIL'!$D$9)*'[1]MARK UP FOR RETAIL'!$D$5)+'[1]MARK UP FOR RETAIL'!$G$5 -> 1360.0224 | H10: =(([1]DELTA!AI10*'[1]MARK UP FOR RETAIL'!$D$10)*'[1]MARK UP FOR RETAIL'!$D$11)*'[1]MARK UP FOR RETAIL'!$D$7 -> 170.0028 | I10: =([1]DELTA!AJ10*'[1]MARK UP FOR RETAIL'!$D$11)*'[1]MARK UP FOR RETAIL'!$D$5 -> 440.8992 | K10: =([1]DELTA!AL10*'[1]MARK UP FOR RETAIL'!$D$11)*'[1]MARK UP FOR RETAIL'!$D$5 -> 436.1526
A11: 10’5” x 5’3” | B11: 2 | E11: =((([1]DELTA!AF11*'[1]MARK UP FOR RETAIL'!$D$11)*'[1]MARK UP FOR RETAIL'!$D$9)*'[1]MARK UP FOR RETAIL'!$D$5)+'[1]MARK UP FOR RETAIL'!$G$5 -> 956.4804 | F11: =((([1]DELTA!AG11*'[1]MARK UP FOR RETAIL'!$D$11)*'[1]MARK UP FOR RETAIL'!$D$9)*'[1]MARK UP FOR RETAIL'!$D$5)+'[1]MARK UP FOR RETAIL'!$G$5 -> 1232.9496 | G11: =((([1]DELTA!AH11*'[1]MARK UP FOR RETAIL'!$D$11)*'[1]MARK UP FOR RETAIL'!$D$9)*'[1]MARK UP FOR RETAIL'!$D$5)+'[1]MARK UP FOR RETAIL'!$G$5 -> 1581.5412 | H11: =(([1]DELTA!AI11*'[1]MARK UP FOR RETAIL'!$D$10)*'[1]MARK UP FOR RETAIL'!$D$11)*'[1]MARK UP FOR RETAIL'!$D$7 -> 187.1748 | I11: =([1]DELTA!AJ11*'[1]MARK UP FOR RETAIL'!$D$11)*'[1]MARK UP FOR RETAIL'!$D$5 -> 511.6608 | K11: =([1]DELTA!AL11*'[1]MARK UP FOR RETAIL'!$D$11)*'[1]MARK UP FOR RETAIL'!$D$5 -> 626.859
A12: 12’6” x 5’3” | B12: 2 | E12: =((([1]DELTA!AF12*'[1]MARK UP FOR RETAIL'!$D$11)*'[1]MARK UP FOR RETAIL'!$D$9)*'[1]MARK UP FOR RETAIL'!$D$5)+'[1]MARK UP FOR RETAIL'!$G$5 -> 1109.3112 | F12: =((([1]DELTA!AG12*'[1]MARK UP FOR RETAIL'!$D$11)*'[1]MARK UP FOR RETAIL'!$D$9)*'[1]MARK UP FOR RETAIL'!$D$5)+'[1]MARK UP FOR RETAIL'!$G$5 -> 1435.5792 | G12: =((([1]DELTA!AH12*'[1]MARK UP FOR RETAIL'!$D$11)*'[1]MARK UP FOR RETAIL'!$D$9)*'[1]MARK UP FOR RETAIL'!$D$5)+'[1]MARK UP FOR RETAIL'!$G$5 -> 1789.3224 | H12: =(([1]DELTA!AI12*'[1]MARK UP FOR RETAIL'!$D$10)*'[1]MARK UP FOR RETAIL'!$D$11)*'[1]MARK UP FOR RETAIL'!$D$7 -> 202.6296 | I12: =([1]DELTA!AJ12*'[1]MARK UP FOR RETAIL'!$D$11)*'[1]MARK UP FOR RETAIL'!$D$5 -> 584.2368 | K12: =([1]DELTA!AL12*'[1]MARK UP FOR RETAIL'!$D$11)*'[1]MARK UP FOR RETAIL'!$D$5 -> 778.7178
A13: 14’6” x 5’3” | B13: 3 | E13: =((([1]DELTA!AF13*'[1]MARK UP FOR RETAIL'!$D$11)*'[1]MARK UP FOR RETAIL'!$D$9)*'[1]MARK UP FOR RETAIL'!$D$5)+'[1]MARK UP FOR RETAIL'!$G$5 -> 1250.1216 | F13: =((([1]DELTA!AG13*'[1]MARK UP FOR RETAIL'!$D$11)*'[1]MARK UP FOR RETAIL'!$D$9)*'[1]MARK UP FOR RETAIL'!$D$5)+'[1]MARK UP FOR RETAIL'!$G$5 -> 1643.3604 | G13: =((([1]DELTA!AH13*'[1]MARK UP FOR RETAIL'!$D$11)*'[1]MARK UP FOR RETAIL'!$D$9)*'[1]MARK UP FOR RETAIL'!$D$5)+'[1]MARK UP FOR RETAIL'!$G$5 -> 2038.3164 | H13: =(([1]DELTA!AI13*'[1]MARK UP FOR RETAIL'!$D$10)*'[1]MARK UP FOR RETAIL'!$D$11)*'[1]MARK UP FOR RETAIL'!$D$7 -> 219.8016 | I13: =([1]DELTA!AJ13*'[1]MARK UP FOR RETAIL'!$D$11)*'[1]MARK UP FOR RETAIL'!$D$5 -> 656.8128 | K13: =([1]DELTA!AL13*'[1]MARK UP FOR RETAIL'!$D$11)*'[1]MARK UP FOR RETAIL'!$D$5 -> 914.6844
A14: 16’6” x 5’3” | B14: 3 | E14: =((([1]DELTA!AF14*'[1]MARK UP FOR RETAIL'!$D$11)*'[1]MARK UP FOR RETAIL'!$D$9)*'[1]MARK UP FOR RETAIL'!$D$5)+'[1]MARK UP FOR RETAIL'!$G$5 -> 1442.448 | F14: =((([1]DELTA!AG14*'[1]MARK UP FOR RETAIL'!$D$11)*'[1]MARK UP FOR RETAIL'!$D$9)*'[1]MARK UP FOR RETAIL'!$D$5)+'[1]MARK UP FOR RETAIL'!$G$5 -> 1730.9376 | G14: =((([1]DELTA!AH14*'[1]MARK UP FOR RETAIL'!$D$11)*'[1]MARK UP FOR RETAIL'!$D$9)*'[1]MARK UP FOR RETAIL'!$D$5)+'[1]MARK UP FOR RETAIL'!$G$5 -> 2295.8964 | H14: =(([1]DELTA!AI14*'[1]MARK UP FOR RETAIL'!$D$10)*'[1]MARK UP FOR RETAIL'!$D$11)*'[1]MARK UP FOR RETAIL'!$D$7 -> 242.1252 | I14: =([1]DELTA!AJ14*'[1]MARK UP FOR RETAIL'!$D$11)*'[1]MARK UP FOR RETAIL'!$D$5 -> 725.76 | K14: =([1]DELTA!AL14*'[1]MARK UP FOR RETAIL'!$D$11)*'[1]MARK UP FOR RETAIL'!$D$5 -> 1084.2012
A15: 18’6” x 5’3” | B15: 4 | E15: =((([1]DELTA!AF15*'[1]MARK UP FOR RETAIL'!$D$11)*'[1]MARK UP FOR RETAIL'!$D$9)*'[1]MARK UP FOR RETAIL'!$D$5)+'[1]MARK UP FOR RETAIL'!$G$5 -> 1655.3808 | F15: =((([1]DELTA!AG15*'[1]MARK UP FOR RETAIL'!$D$11)*'[1]MARK UP FOR RETAIL'!$D$9)*'[1]MARK UP FOR RETAIL'!$D$5)+'[1]MARK UP FOR RETAIL'!$G$5 -> 2137.914 | G15: =((([1]DELTA!AH15*'[1]MARK UP FOR RETAIL'!$D$11)*'[1]MARK UP FOR RETAIL'!$D$9)*'[1]MARK UP FOR RETAIL'!$D$5)+'[1]MARK UP FOR RETAIL'!$G$5 -> 2625.5988 | H15: =(([1]DELTA!AI15*'[1]MARK UP FOR RETAIL'!$D$10)*'[1]MARK UP FOR RETAIL'!$D$11)*'[1]MARK UP FOR RETAIL'!$D$7 -> 255.8628 | I15: =([1]DELTA!AJ15*'[1]MARK UP FOR RETAIL'!$D$11)*'[1]MARK UP FOR RETAIL'!$D$5 -> 798.336 | K15: =([1]DELTA!AL15*'[1]MARK UP FOR RETAIL'!$D$11)*'[1]MARK UP FOR RETAIL'!$D$5 -> 1290.7998
A16: 20’6” x 5’3” | B16: 4 | E16: =((([1]DELTA!AF16*'[1]MARK UP FOR RETAIL'!$D$11)*'[1]MARK UP FOR RETAIL'!$D$9)*'[1]MARK UP FOR RETAIL'!$D$5)+'[1]MARK UP FOR RETAIL'!$G$5 -> 1864.8792 | F16: =((([1]DELTA!AG16*'[1]MARK UP FOR RETAIL'!$D$11)*'[1]MARK UP FOR RETAIL'!$D$9)*'[1]MARK UP FOR RETAIL'!$D$5)+'[1]MARK UP FOR RETAIL'!$G$5 -> 2386.908 | G16: =((([1]DELTA!AH16*'[1]MARK UP FOR RETAIL'!$D$11)*'[1]MARK UP FOR RETAIL'!$D$9)*'[1]MARK UP FOR RETAIL'!$D$5)+'[1]MARK UP FOR RETAIL'!$G$5 -> 2931.2604 | H16: =(([1]DELTA!AI16*'[1]MARK UP FOR RETAIL'!$D$10)*'[1]MARK UP FOR RETAIL'!$D$11)*'[1]MARK UP FOR RETAIL'!$D$7 -> 273.0348 | I16: =([1]DELTA!AJ16*'[1]MARK UP FOR RETAIL'!$D$11)*'[1]MARK UP FOR RETAIL'!$D$5 -> 870.912 | K16: =([1]DELTA!AL16*'[1]MARK UP FOR RETAIL'!$D$11)*'[1]MARK UP FOR RETAIL'!$D$5 -> 1493.8668
A17: Extra double doors in the rear end | E17: =((([1]DELTA!AF17*'[1]MARK UP FOR RETAIL'!$D$11)*'[1]MARK UP FOR RETAIL'!$D$9)*'[1]MARK UP FOR RETAIL'!$D$5) -> 161.4168 | H17: =(([1]DELTA!AI17*'[1]MARK UP FOR RETAIL'!$D$10)*'[1]MARK UP FOR RETAIL'!$D$11)*'[1]MARK UP FOR RETAIL'!$D$7 -> 32.6268 | I17: / | K17: =([1]DELTA!AL17*'[1]MARK UP FOR RETAIL'!$D$11)*'[1]MARK UP FOR RETAIL'!$D$5 -> 81.2268
A18: Soft Soil Support | E18: =((([1]DELTA!AF18*'[1]MARK UP FOR RETAIL'!$D$10)*'[1]MARK UP FOR RETAIL'!$D$11)*'[1]MARK UP FOR RETAIL'!$D$7) -> 32.6268 | H18: / | I18: / | K18: =([1]DELTA!AL18*'[1]MARK UP FOR RETAIL'!$D$11)*'[1]MARK UP FOR RETAIL'!$D$5 -> 24.7212
A19: R-TYPE | E19: =((([1]DELTA!AF19*'[1]MARK UP FOR RETAIL'!$D$11)*'[1]MARK UP FOR RETAIL'!$D$9)*'[1]MARK UP FOR RETAIL'!$D$5) -> -56.6676 | F19: =((([1]DELTA!AG19*'[1]MARK UP FOR RETAIL'!$D$11)*'[1]MARK UP FOR RETAIL'!$D$9)*'[1]MARK UP FOR RETAIL'!$D$5) -> -91.0116 | G19: =((([1]DELTA!AH19*'[1]MARK UP FOR RETAIL'!$D$11)*'[1]MARK UP FOR RETAIL'!$D$9)*'[1]MARK UP FOR RETAIL'!$D$5) -> -120.204 | H19: =(([1]DELTA!AI19*'[1]MARK UP FOR RETAIL'!$D$10)*'[1]MARK UP FOR RETAIL'!$D$11)*'[1]MARK UP FOR RETAIL'!$D$7 -> -18.8892 | K19: =([1]DELTA!AL19*'[1]MARK UP FOR RETAIL'!$D$11)*'[1]MARK UP FOR RETAIL'!$D$5 -> -65.3346
A21: NOTE: The 2' long model has no back panels and must be fixed against a solid structure. The price already includes the R-type deduction, so no further deduction applies.
A24: DELTA PACKAGE
A26: INCLUDES AS STANDARD | H26: PACKAGE EXTRAS
A28: Integral aluminium base with dropped doors | H28: Diamond shelf to length - 2 slat
A29: Double Dropped Doors | H29: Diamond staging to length - 5 slat
A30: At least one roof vent | H30: One 5 blade louvre
A31: Integral Gutters | H31: One automatic roof vent opener
H32: One automatic louvre opener
H33: Standard rainwater collection kit
H34: Grow Hooks (6)
A38: Size Length x Width | B38: Roof Vents | D38: Standard Door | E38: With Horticultural Glass | F38: With Toughened Safety Glass | H38: POWDER COATED (extra)
A39: 4’5” x 5’3” | B39: 1 | D39: Double Drop Door | E39: =((([1]DELTA!AF39*'[1]MARK UP FOR RETAIL'!$D$14)*'[1]MARK UP FOR RETAIL'!$D$11)*'[1]MARK UP FOR RETAIL'!$D$5)+'[1]MARK UP FOR RETAIL'!$G$5 -> 935.874 | F39: =((([1]DELTA!AG39*'[1]MARK UP FOR RETAIL'!$D$14)*'[1]MARK UP FOR RETAIL'!$D$11)*'[1]MARK UP FOR RETAIL'!$D$5)+'[1]MARK UP FOR RETAIL'!$G$5 -> 1160.8272 | H39: =(([1]DELTA!AI39*'[1]MARK UP FOR RETAIL'!$D$14)*'[1]MARK UP FOR RETAIL'!$D$11)*'[1]MARK UP FOR RETAIL'!$D$5 -> 460.8738
A40: 6’5” x 5’3” | B40: 1 | E40: =((([1]DELTA!AF40*'[1]MARK UP FOR RETAIL'!$D$14)*'[1]MARK UP FOR RETAIL'!$D$11)*'[1]MARK UP FOR RETAIL'!$D$5)+'[1]MARK UP FOR RETAIL'!$G$5 -> 1033.7544 | F40: =((([1]DELTA!AG40*'[1]MARK UP FOR RETAIL'!$D$14)*'[1]MARK UP FOR RETAIL'!$D$11)*'[1]MARK UP FOR RETAIL'!$D$5)+'[1]MARK UP FOR RETAIL'!$G$5 -> 1267.2936 | H40: =(([1]DELTA!AI40*'[1]MARK UP FOR RETAIL'!$D$14)*'[1]MARK UP FOR RETAIL'!$D$11)*'[1]MARK UP FOR RETAIL'!$D$5 -> 531.5058
A41: 8’5” x 5’3” | B41: 1 | E41: =((([1]DELTA!AF41*'[1]MARK UP FOR RETAIL'!$D$14)*'[1]MARK UP FOR RETAIL'!$D$11)*'[1]MARK UP FOR RETAIL'!$D$5)+'[1]MARK UP FOR RETAIL'!$G$5 -> 1169.4132 | F41: =((([1]DELTA!AG41*'[1]MARK UP FOR RETAIL'!$D$14)*'[1]MARK UP FOR RETAIL'!$D$11)*'[1]MARK UP FOR RETAIL'!$D$5)+'[1]MARK UP FOR RETAIL'!$G$5 -> 1416.69 | H41: =(([1]DELTA!AI41*'[1]MARK UP FOR RETAIL'!$D$14)*'[1]MARK UP FOR RETAIL'!$D$11)*'[1]MARK UP FOR RETAIL'!$D$5 -> 637.4538
A42: 10'5" x 5'3" | B42: 2 | E42: =((([1]DELTA!AF42*'[1]MARK UP FOR RETAIL'!$D$14)*'[1]MARK UP FOR RETAIL'!$D$11)*'[1]MARK UP FOR RETAIL'!$D$5)+'[1]MARK UP FOR RETAIL'!$G$5 -> 1413.2556 | F42: =((([1]DELTA!AG42*'[1]MARK UP FOR RETAIL'!$D$14)*'[1]MARK UP FOR RETAIL'!$D$11)*'[1]MARK UP FOR RETAIL'!$D$5)+'[1]MARK UP FOR RETAIL'!$G$5 -> 1691.442 | H42: =(([1]DELTA!AI42*'[1]MARK UP FOR RETAIL'!$D$14)*'[1]MARK UP FOR RETAIL'!$D$11)*'[1]MARK UP FOR RETAIL'!$D$5 -> 874.071

Sheet CRAFTSMAN
A1: CRAFTSMAN: 6'3" WIDE
A3: BASIC MODEL OPTIONS
E4: Aluminium frame, Integral base with drop door(s)
A6: Size Length x Width | B6: Roof Vents | D6: Standard Door | E6: With Horticultural Glass | F6: With Toughened Safety Glass | G6: With 6mm Twin wall Polycarbonate | H6: Bar Capping (TG only) | I6: Hybrid Panels (coloured) | K6: POWDER COATED (extra)
A7: 2’3” x 6’3” NOT FREE STANDING | B7: 0 | D7: Single Drop Door | E7: =((([1]CRAFTSMAN!AR7*'[1]MARK UP FOR RETAIL'!$D$11)*'[1]MARK UP FOR RETAIL'!$D$9)*'[1]MARK UP FOR RETAIL'!$D$5)+'[1]MARK UP FOR RETAIL'!$G$5 -> 465.3612 | F7: =((([1]CRAFTSMAN!AS7*'[1]MARK UP FOR RETAIL'!$D$11)*'[1]MARK UP FOR RETAIL'!$D$9)*'[1]MARK UP FOR RETAIL'!$D$5)+'[1]MARK UP FOR RETAIL'!$G$5 -> 606.1716 | G7: =((([1]CRAFTSMAN!AT7*'[1]MARK UP FOR RETAIL'!$D$11)*'[1]MARK UP FOR RETAIL'!$D$9)*'[1]MARK UP FOR RETAIL'!$D$5)+'[1]MARK UP FOR RETAIL'!$G$5 -> 746.982 | H7: =(([1]CRAFTSMAN!AU7*'[1]MARK UP FOR RETAIL'!$D$10)*'[1]MARK UP FOR RETAIL'!$D$11)*'[1]MARK UP FOR RETAIL'!$D$7 -> 104.7492 | I7: =([1]CRAFTSMAN!AV7*'[1]MARK UP FOR RETAIL'!$D$11)*'[1]MARK UP FOR RETAIL'!$D$5 -> 141.5232 | K7: =([1]CRAFTSMAN!AX7*'[1]MARK UP FOR RETAIL'!$D$11)*'[1]MARK UP FOR RETAIL'!$D$5 -> 226.0224
A8: 4’4” x 6’3” | B8: 1 | E8: =((([1]CRAFTSMAN!AR8*'[1]MARK UP FOR RETAIL'!$D$11)*'[1]MARK UP FOR RETAIL'!$D$9)*'[1]MARK UP FOR RETAIL'!$D$5)+'[1]MARK UP FOR RETAIL'!$G$5 -> 523.746 | F8: =((([1]CRAFTSMAN!AS8*'[1]MARK UP FOR RETAIL'!$D$11)*'[1]MARK UP FOR RETAIL'!$D$9)*'[1]MARK UP FOR RETAIL'!$D$5)+'[1]MARK UP FOR RETAIL'!$G$5 -> 704.052 | G8: =((([1]CRAFTSMAN!AT8*'[1]MARK UP FOR RETAIL'!$D$11)*'[1]MARK UP FOR RETAIL'!$D$9)*'[1]MARK UP FOR RETAIL'!$D$5)+'[1]MARK UP FOR RETAIL'!$G$5 -> 918.702 | H8: =(([1]CRAFTSMAN!AU8*'[1]MARK UP FOR RETAIL'!$D$10)*'[1]MARK UP FOR RETAIL'!$D$11)*'[1]MARK UP FOR RETAIL'!$D$7 -> 118.4868 | I8: =([1]CRAFTSMAN!AV8*'[1]MARK UP FOR RETAIL'!$D$11)*'[1]MARK UP FOR RETAIL'!$D$5 -> 321.1488 | K8: =([1]CRAFTSMAN!AX8*'[1]MARK UP FOR RETAIL'!$D$11)*'[1]MARK UP FOR RETAIL'!$D$5 -> 275.4648
A9: 6’4” x 6’3” | B9: 1 | E9: =((([1]CRAFTSMAN!AR9*'[1]MARK UP FOR RETAIL'!$D$11)*'[1]MARK UP FOR RETAIL'!$D$9)*'[1]MARK UP FOR RETAIL'!$D$5)+'[1]MARK UP FOR RETAIL'!$G$5 -> 578.6964 | F9: =((([1]CRAFTSMAN!AS9*'[1]MARK UP FOR RETAIL'!$D$11)*'[1]MARK UP FOR RETAIL'!$D$9)*'[1]MARK UP FOR RETAIL'!$D$5)+'[1]MARK UP FOR RETAIL'!$G$5 -> 795.0636 | G9: =((([1]CRAFTSMAN!AT9*'[1]MARK UP FOR RETAIL'!$D$11)*'[1]MARK UP FOR RETAIL'!$D$9)*'[1]MARK UP FOR RETAIL'!$D$5)+'[1]MARK UP FOR RETAIL'!$G$5 -> 1085.2704 | H9: =(([1]CRAFTSMAN!AU9*'[1]MARK UP FOR RETAIL'!$D$10)*'[1]MARK UP FOR RETAIL'!$D$11)*'[1]MARK UP FOR RETAIL'!$D$7 -> 132.2244 | I9: =([1]CRAFTSMAN!AV9*'[1]MARK UP FOR RETAIL'!$D$11)*'[1]MARK UP FOR RETAIL'!$D$5 -> 395.5392 | K9: =([1]CRAFTSMAN!AX9*'[1]MARK UP FOR RETAIL'!$D$11)*'[1]MARK UP FOR RETAIL'!$D$5 -> 323.1414
A10: 8’5” x 6’3” | B10: 2 | E10: =((([1]CRAFTSMAN!AR10*'[1]MARK UP FOR RETAIL'!$D$11)*'[1]MARK UP FOR RETAIL'!$D$9)*'[1]MARK UP FOR RETAIL'!$D$5)+'[1]MARK UP FOR RETAIL'!$G$5 -> 649.1016 | F10: =((([1]CRAFTSMAN!AS10*'[1]MARK UP FOR RETAIL'!$D$11)*'[1]MARK UP FOR RETAIL'!$D$9)*'[1]MARK UP FOR RETAIL'!$D$5)+'[1]MARK UP FOR RETAIL'!$G$5 -> 903.2472 | G10: =((([1]CRAFTSMAN!AT10*'[1]MARK UP FOR RETAIL'!$D$11)*'[1]MARK UP FOR RETAIL'!$D$9)*'[1]MARK UP FOR RETAIL'!$D$5)+'[1]MARK UP FOR RETAIL'!$G$5 -> 1255.2732 | H10: =(([1]CRAFTSMAN!AU10*'[1]MARK UP FOR RETAIL'!$D$10)*'[1]MARK UP FOR RETAIL'!$D$11)*'[1]MARK UP FOR RETAIL'!$D$7 -> 147.6792 | I10: =([1]CRAFTSMAN!AV10*'[1]MARK UP FOR RETAIL'!$D$11)*'[1]MARK UP FOR RETAIL'!$D$5 -> 462.672 | K10: =([1]CRAFTSMAN!AX10*'[1]MARK UP FOR RETAIL'!$D$11)*'[1]MARK UP FOR RETAIL'!$D$5 -> 388.476
A11: 10’5” x 6’3” | B11: 2 | E11: =((([1]CRAFTSMAN!AR11*'[1]MARK UP FOR RETAIL'!$D$11)*'[1]MARK UP FOR RETAIL'!$D$9)*'[1]MARK UP FOR RETAIL'!$D$5)+'[1]MARK UP FOR RETAIL'!$G$5 -> 755.568 | F11: =((([1]CRAFTSMAN!AS11*'[1]MARK UP FOR RETAIL'!$D$11)*'[1]MARK UP FOR RETAIL'!$D$9)*'[1]MARK UP FOR RETAIL'!$D$5)+'[1]MARK UP FOR RETAIL'!$G$5 -> 1049.2092 | G11: =((([1]CRAFTSMAN!AT11*'[1]MARK UP FOR RETAIL'!$D$11)*'[1]MARK UP FOR RETAIL'!$D$9)*'[1]MARK UP FOR RETAIL'!$D$5)+'[1]MARK UP FOR RETAIL'!$G$5 -> 1418.4072 | H11: =(([1]CRAFTSMAN!AU11*'[1]MARK UP FOR RETAIL'!$D$10)*'[1]MARK UP FOR RETAIL'!$D$11)*'[1]MARK UP FOR RETAIL'!$D$7 -> 164.8512 | I11: =([1]CRAFTSMAN!AV11*'[1]MARK UP FOR RETAIL'!$D$11)*'[1]MARK UP FOR RETAIL'!$D$5 -> 533.4336 | K11: =([1]CRAFTSMAN!AX11*'[1]MARK UP FOR RETAIL'!$D$11)*'[1]MARK UP FOR RETAIL'!$D$5 -> 527.9742
A12: 12’6” x 6’3” | B12: 2 | E12: =((([1]CRAFTSMAN!AR12*'[1]MARK UP FOR RETAIL'!$D$11)*'[1]MARK UP FOR RETAIL'!$D$9)*'[1]MARK UP FOR RETAIL'!$D$5)+'[1]MARK UP FOR RETAIL'!$G$5 -> 896.3784 | F12: =((([1]CRAFTSMAN!AS12*'[1]MARK UP FOR RETAIL'!$D$11)*'[1]MARK UP FOR RETAIL'!$D$9)*'[1]MARK UP FOR RETAIL'!$D$5)+'[1]MARK UP FOR RETAIL'!$G$5 -> 1220.9292 | G12: =((([1]CRAFTSMAN!AT12*'[1]MARK UP FOR RETAIL'!$D$11)*'[1]MARK UP FOR RETAIL'!$D$9)*'[1]MARK UP FOR RETAIL'!$D$5)+'[1]MARK UP FOR RETAIL'!$G$5 -> 1643.3604 | H12: =(([1]CRAFTSMAN!AU12*'[1]MARK UP FOR RETAIL'!$D$10)*'[1]MARK UP FOR RETAIL'!$D$11)*'[1]MARK UP FOR RETAIL'!$D$7 -> 182.0232 | I12: =([1]CRAFTSMAN!AV12*'[1]MARK UP FOR RETAIL'!$D$11)*'[1]MARK UP FOR RETAIL'!$D$5 -> 607.824 | K12: =([1]CRAFTSMAN!AX12*'[1]MARK UP FOR RETAIL'!$D$11)*'[1]MARK UP FOR RETAIL'!$D$5 -> 656.8776
A13: 14’6” x 6’3” | B13: 3 | E13: =((([1]CRAFTSMAN!AR13*'[1]MARK UP FOR RETAIL'!$D$11)*'[1]MARK UP FOR RETAIL'!$D$9)*'[1]MARK UP FOR RETAIL'!$D$5)+'[1]MARK UP FOR RETAIL'!$G$5 -> 1057.7952 | F13: =((([1]CRAFTSMAN!AS13*'[1]MARK UP FOR RETAIL'!$D$11)*'[1]MARK UP FOR RETAIL'!$D$9)*'[1]MARK UP FOR RETAIL'!$D$5)+'[1]MARK UP FOR RETAIL'!$G$5 -> 1416.69 | G13: =((([1]CRAFTSMAN!AT13*'[1]MARK UP FOR RETAIL'!$D$11)*'[1]MARK UP FOR RETAIL'!$D$9)*'[1]MARK UP FOR RETAIL'!$D$5)+'[1]MARK UP FOR RETAIL'!$G$5 -> 1837.404 | H13: =(([1]CRAFTSMAN!AU13*'[1]MARK UP FOR RETAIL'!$D$10)*'[1]MARK UP FOR RETAIL'!$D$11)*'[1]MARK UP FOR RETAIL'!$D$7 -> 199.1952 | I13: =([1]CRAFTSMAN!AV13*'[1]MARK UP FOR RETAIL'!$D$11)*'[1]MARK UP FOR RETAIL'!$D$5 -> 676.7712 | K13: =([1]CRAFTSMAN!AX13*'[1]MARK UP FOR RETAIL'!$D$11)*'[1]MARK UP FOR RETAIL'!$D$5 -> 794.61
A14: 16’6” x 6’3” | B14: 3 | E14: =((([1]CRAFTSMAN!AR14*'[1]MARK UP FOR RETAIL'!$D$11)*'[1]MARK UP FOR RETAIL'!$D$9)*'[1]MARK UP FOR RETAIL'!$D$5)+'[1]MARK UP FOR RETAIL'!$G$5 -> 1227.798 | F14: =((([1]CRAFTSMAN!AS14*'[1]MARK UP FOR RETAIL'!$D$11)*'[1]MARK UP FOR RETAIL'!$D$9)*'[1]MARK UP FOR RETAIL'!$D$5)+'[1]MARK UP FOR RETAIL'!$G$5 -> 1621.0368 | G14: =((([1]CRAFTSMAN!AT14*'[1]MARK UP FOR RETAIL'!$D$11)*'[1]MARK UP FOR RETAIL'!$D$9)*'[1]MARK UP FOR RETAIL'!$D$5)+'[1]MARK UP FOR RETAIL'!$G$5 -> 2086.398 | H14: =(([1]CRAFTSMAN!AU14*'[1]MARK UP FOR RETAIL'!$D$10)*'[1]MARK UP FOR RETAIL'!$D$11)*'[1]MARK UP FOR RETAIL'!$D$7 -> 212.9328 | I14: =([1]CRAFTSMAN!AV14*'[1]MARK UP FOR RETAIL'!$D$11)*'[1]MARK UP FOR RETAIL'!$D$5 -> 747.5328 | K14: =([1]CRAFTSMAN!AX14*'[1]MARK UP FOR RETAIL'!$D$11)*'[1]MARK UP FOR RETAIL'!$D$5 -> 941.1714
A15: 18’6” x 6’3” | B15: 4 | E15: =((([1]CRAFTSMAN!AR15*'[1]MARK UP FOR RETAIL'!$D$11)*'[1]MARK UP FOR RETAIL'!$D$9)*'[1]MARK UP FOR RETAIL'!$D$5)+'[1]MARK UP FOR RETAIL'!$G$5 -> 1416.69 | F15: =((([1]CRAFTSMAN!AS15*'[1]MARK UP FOR RETAIL'!$D$11)*'[1]MARK UP FOR RETAIL'!$D$9)*'[1]MARK UP FOR RETAIL'!$D$5)+'[1]MARK UP FOR RETAIL'!$G$5 -> 1839.1212 | G15: =((([1]CRAFTSMAN!AT15*'[1]MARK UP FOR RETAIL'!$D$11)*'[1]MARK UP FOR RETAIL'!$D$9)*'[1]MARK UP FOR RETAIL'!$D$5)+'[1]MARK UP FOR RETAIL'!$G$5 -> 2355.9984 | H15: =(([1]CRAFTSMAN!AU15*'[1]MARK UP FOR RETAIL'!$D$10)*'[1]MARK UP FOR RETAIL'!$D$11)*'[1]MARK UP FOR RETAIL'!$D$7 -> 228.3876 | I15: =([1]CRAFTSMAN!AV15*'[1]MARK UP FOR RETAIL'!$D$11)*'[1]MARK UP FOR RETAIL'!$D$5 -> 820.1088 | K15: =([1]CRAFTSMAN!AX15*'[1]MARK UP FOR RETAIL'!$D$11)*'[1]MARK UP FOR RETAIL'!$D$5 -> 1124.8146
A16: 20’6” x 6’3” | B16: 4 | E16: =((([1]CRAFTSMAN!AR16*'[1]MARK UP FOR RETAIL'!$D$11)*'[1]MARK UP FOR RETAIL'!$D$9)*'[1]MARK UP FOR RETAIL'!$D$5)+'[1]MARK UP FOR RETAIL'!$G$5 -> 1626.1884 | F16: =((([1]CRAFTSMAN!AS16*'[1]MARK UP FOR RETAIL'!$D$11)*'[1]MARK UP FOR RETAIL'!$D$9)*'[1]MARK UP FOR RETAIL'!$D$5)+'[1]MARK UP FOR RETAIL'!$G$5 -> 2082.9636 | G16: =((([1]CRAFTSMAN!AT16*'[1]MARK UP FOR RETAIL'!$D$11)*'[1]MARK UP FOR RETAIL'!$D$9)*'[1]MARK UP FOR RETAIL'!$D$5)+'[1]MARK UP FOR RETAIL'!$G$5 -> 2642.7708 | H16: =(([1]CRAFTSMAN!AU16*'[1]MARK UP FOR RETAIL'!$D$10)*'[1]MARK UP FOR RETAIL'!$D$11)*'[1]MARK UP FOR RETAIL'!$D$7 -> 245.5596 | I16: =([1]CRAFTSMAN!AV16*'[1]MARK UP FOR RETAIL'!$D$11)*'[1]MARK UP FOR RETAIL'!$D$5 -> 896.3136 | K16: =([1]CRAFTSMAN!AX16*'[1]MARK UP FOR RETAIL'!$D$11)*'[1]MARK UP FOR RETAIL'!$D$5 -> 1306.692
A17: Extra single door in the rear end | E17: =((([1]CRAFTSMAN!AR17*'[1]MARK UP FOR RETAIL'!$D$9)*'[1]MARK UP FOR RETAIL'!$D$11)*'[1]MARK UP FOR RETAIL'!$D$5) -> 109.9008 | H17: =(([1]CRAFTSMAN!AU17*'[1]MARK UP FOR RETAIL'!$D$10)*'[1]MARK UP FOR RETAIL'!$D$11)*'[1]MARK UP FOR RETAIL'!$D$7 -> 25.758 | I17: / | K17: =([1]CRAFTSMAN!AX17*'[1]MARK UP FOR RETAIL'!$D$11)*'[1]MARK UP FOR RETAIL'!$D$5 -> 49.4424
A18: Soft Soil Support | E18: =((([1]CRAFTSMAN!AR18*'[1]MARK UP FOR RETAIL'!$D$10)*'[1]MARK UP FOR RETAIL'!$D$11)*'[1]MARK UP FOR RETAIL'!$D$7) -> 39.4956 | H18: / | I18: / | K18: =([1]CRAFTSMAN!AX18*'[1]MARK UP FOR RETAIL'!$D$11)*'[1]MARK UP FOR RETAIL'!$D$5 -> 28.2528
A19: R-TYPE | E19: =((([1]CRAFTSMAN!AR19*'[1]MARK UP FOR RETAIL'!$D$9)*'[1]MARK UP FOR RETAIL'!$D$11)*'[1]MARK UP FOR RETAIL'!$D$5) -> -58.3848 | F19: =((([1]CRAFTSMAN!AS19*'[1]MARK UP FOR RETAIL'!$D$9)*'[1]MARK UP FOR RETAIL'!$D$11)*'[1]MARK UP FOR RETAIL'!$D$5) -> -97.8804 | G19: =((([1]CRAFTSMAN!AT19*'[1]MARK UP FOR RETAIL'!$D$9)*'[1]MARK UP FOR RETAIL'!$D$11)*'[1]MARK UP FOR RETAIL'!$D$5) -> -106.4664 | H19: =(([1]CRAFTSMAN!AU19*'[1]MARK UP FOR RETAIL'!$D$10)*'[1]MARK UP FOR RETAIL'!$D$11)*'[1]MARK UP FOR RETAIL'!$D$7 -> -17.172 | K19: =([1]CRAFTSMAN!AX19*'[1]MARK UP FOR RETAIL'!$D$11)*'[1]MARK UP FOR RETAIL'!$D$5 -> -44.145
A23: CRAFTSMAN PACKAGE
A25: INCLUDES AS STANDARD | H25: PACKAGE EXTRAS
A27: Integral aluminium base with dropped doors | H27: Diamond shelf to length - 2 slat
A28: Single Dropped Door | H28: Diamond staging to length - 5 slat
A29: At least one roof vent | H29: One 5 blade louvre
A30: Integral Gutters | H30: One automatic roof vent opener
H31: One automatic louvre opener
H32: Standard rainwater collection kit
H33: Grow Hooks (6)
A37: Size Length x Width | B37: Roof Vents | D37: Standard Door | E37: With Horticultural Glass | F37: With Toughened Safety Glass | H37: POWDER COATED (extra)
A38: 4’4” x 6’3” | B38: 1 | D38: Single Drop Door | E38: =((([1]CRAFTSMAN!AR38*'[1]MARK UP FOR RETAIL'!$D$14)*'[1]MARK UP FOR RETAIL'!$D$11)*'[1]MARK UP FOR RETAIL'!$D$5)+'[1]MARK UP FOR RETAIL'!$G$5 -> 827.6904 | F38: =((([1]CRAFTSMAN!AS38*'[1]MARK UP FOR RETAIL'!$D$14)*'[1]MARK UP FOR RETAIL'!$D$11)*'[1]MARK UP FOR RETAIL'!$D$5)+'[1]MARK UP FOR RETAIL'!$G$5 -> 1009.7136 | H38: =(([1]CRAFTSMAN!AU38*'[1]MARK UP FOR RETAIL'!$D$14)*'[1]MARK UP FOR RETAIL'!$D$11)*'[1]MARK UP FOR RETAIL'!$D$5 -> 402.6024
A39: 6’4” x 6’3” | B39: 1 | E39: =((([1]CRAFTSMAN!AR39*'[1]MARK UP FOR RETAIL'!$D$14)*'[1]MARK UP FOR RETAIL'!$D$11)*'[1]MARK UP FOR RETAIL'!$D$5)+'[1]MARK UP FOR RETAIL'!$G$5 -> 920.4192 | F39: =((([1]CRAFTSMAN!AS39*'[1]MARK UP FOR RETAIL'!$D$14)*'[1]MARK UP FOR RETAIL'!$D$11)*'[1]MARK UP FOR RETAIL'!$D$5)+'[1]MARK UP FOR RETAIL'!$G$5 -> 1140.2208 | H39: =(([1]CRAFTSMAN!AU39*'[1]MARK UP FOR RETAIL'!$D$14)*'[1]MARK UP FOR RETAIL'!$D$11)*'[1]MARK UP FOR RETAIL'!$D$5 -> 483.8292
A40: 8’5” x 6’3” | B40: 2 | E40: =((([1]CRAFTSMAN!AR40*'[1]MARK UP FOR RETAIL'!$D$14)*'[1]MARK UP FOR RETAIL'!$D$11)*'[1]MARK UP FOR RETAIL'!$D$5)+'[1]MARK UP FOR RETAIL'!$G$5 -> 1040.6232 | F40: =((([1]CRAFTSMAN!AS40*'[1]MARK UP FOR RETAIL'!$D$14)*'[1]MARK UP FOR RETAIL'!$D$11)*'[1]MARK UP FOR RETAIL'!$D$5)+'[1]MARK UP FOR RETAIL'!$G$5 -> 1298.2032 | H40: =(([1]CRAFTSMAN!AU40*'[1]MARK UP FOR RETAIL'!$D$14)*'[1]MARK UP FOR RETAIL'!$D$11)*'[1]MARK UP FOR RETAIL'!$D$5 -> 584.4798
A41: 10’5” x 6’3” | B41: 2 | E41: =((([1]CRAFTSMAN!AR41*'[1]MARK UP FOR RETAIL'!$D$14)*'[1]MARK UP FOR RETAIL'!$D$11)*'[1]MARK UP FOR RETAIL'!$D$5)+'[1]MARK UP FOR RETAIL'!$G$5 -> 1217.4948 | F41: =((([1]CRAFTSMAN!AS41*'[1]MARK UP FOR RETAIL'!$D$14)*'[1]MARK UP FOR RETAIL'!$D$11)*'[1]MARK UP FOR RETAIL'!$D$5)+'[1]MARK UP FOR RETAIL'!$G$5 -> 1512.8532 | H41: =(([1]CRAFTSMAN!AU41*'[1]MARK UP FOR RETAIL'!$D$14)*'[1]MARK UP FOR RETAIL'!$D$11)*'[1]MARK UP FOR RETAIL'!$D$5 -> 769.8888
A42: 12’6” x 6’3” | B42: 2 | E42: =((([1]CRAFTSMAN!AR42*'[1]MARK UP FOR RETAIL'!$D$14)*'[1]MARK UP FOR RETAIL'!$D$11)*'[1]MARK UP FOR RETAIL'!$D$5)+'[1]MARK UP FOR RETAIL'!$G$5 -> 1390.932 | F42: =((([1]CRAFTSMAN!AS42*'[1]MARK UP FOR RETAIL'!$D$14)*'[1]MARK UP FOR RETAIL'!$D$11)*'[1]MARK UP FOR RETAIL'!$D$5)+'[1]MARK UP FOR RETAIL'!$G$5 -> 1718.9172 | H42: =(([1]CRAFTSMAN!AU42*'[1]MARK UP FOR RETAIL'!$D$14)*'[1]MARK UP FOR RETAIL'!$D$11)*'[1]MARK UP FOR RETAIL'!$D$5 -> 934.1082

Sheet HIGH EAVE
A1: HIGH EAVE: 6'3" WIDE
A2: BASIC MODEL OPTIONS
E3: Aluminium frame, Integral base with drop door(s)
A5: Size Length x Width | B5: Roof Vents | D5: Standard Door | E5: With Horticultural Glass | F5: With Toughened Safety Glass | G5: With 6mm Twin wall Polycarbonate | H5: Bar Capping (TG only) | I5: Hybrid Panels (coloured) | K5: POWDER COATED (extra)
A6: 2’3” x 6’3” NOT FREE STANDING | B6: 0 | D6: Single Drop Door | E6: =((('[1]HIGH EAVE'!AR6*'[1]MARK UP FOR RETAIL'!$D$11)*'[1]MARK UP FOR RETAIL'!$D$9)*'[1]MARK UP FOR RETAIL'!$D$5)+'[1]MARK UP FOR RETAIL'!$G$5 -> 501.4224 | F6: =((('[1]HIGH EAVE'!AS6*'[1]MARK UP FOR RETAIL'!$D$11)*'[1]MARK UP FOR RETAIL'!$D$9)*'[1]MARK UP FOR RETAIL'!$D$5)+'[1]MARK UP FOR RETAIL'!$G$5 -> 640.5156 | G6: =((('[1]HIGH EAVE'!AT6*'[1]MARK UP FOR RETAIL'!$D$11)*'[1]MARK UP FOR RETAIL'!$D$9)*'[1]MARK UP FOR RETAIL'!$D$5)+'[1]MARK UP FOR RETAIL'!$G$5 -> 862.0344 | H6: =(('[1]HIGH EAVE'!AU6*'[1]MARK UP FOR RETAIL'!$D$10)*'[1]MARK UP FOR RETAIL'!$D$11)*'[1]MARK UP FOR RETAIL'!$D$7 -> 109.9008 | I6: =('[1]HIGH EAVE'!AV6*'[1]MARK UP FOR RETAIL'!$D$11)*'[1]MARK UP FOR RETAIL'!$D$5 -> 141.5232 | K6: =('[1]HIGH EAVE'!AX6*'[1]MARK UP FOR RETAIL'!$D$11)*'[1]MARK UP FOR RETAIL'!$D$5 -> 252.5094
A7: 4’4” x 6’3” | B7: 1 | E7: =((('[1]HIGH EAVE'!AR7*'[1]MARK UP FOR RETAIL'!$D$11)*'[1]MARK UP FOR RETAIL'!$D$9)*'[1]MARK UP FOR RETAIL'!$D$5)+'[1]MARK UP FOR RETAIL'!$G$5 -> 595.8684 | F7: =((('[1]HIGH EAVE'!AS7*'[1]MARK UP FOR RETAIL'!$D$11)*'[1]MARK UP FOR RETAIL'!$D$9)*'[1]MARK UP FOR RETAIL'!$D$5)+'[1]MARK UP FOR RETAIL'!$G$5 -> 783.0432 | G7: =((('[1]HIGH EAVE'!AT7*'[1]MARK UP FOR RETAIL'!$D$11)*'[1]MARK UP FOR RETAIL'!$D$9)*'[1]MARK UP FOR RETAIL'!$D$5)+'[1]MARK UP FOR RETAIL'!$G$5 -> 1042.3404 | H7: =(('[1]HIGH EAVE'!AU7*'[1]MARK UP FOR RETAIL'!$D$10)*'[1]MARK UP FOR RETAIL'!$D$11)*'[1]MARK UP FOR RETAIL'!$D$7 -> 133.9416 | I7: =('[1]HIGH EAVE'!AV7*'[1]MARK UP FOR RETAIL'!$D$11)*'[1]MARK UP FOR RETAIL'!$D$5 -> 321.1488 | K7: =('[1]HIGH EAVE'!AX7*'[1]MARK UP FOR RETAIL'!$D$11)*'[1]MARK UP FOR RETAIL'!$D$5 -> 319.6098
A8: 6’4” x 6’3” | B8: 1 | E8: =((('[1]HIGH EAVE'!AR8*'[1]MARK UP FOR RETAIL'!$D$11)*'[1]MARK UP FOR RETAIL'!$D$9)*'[1]MARK UP FOR RETAIL'!$D$5)+'[1]MARK UP FOR RETAIL'!$G$5 -> 650.8188 | F8: =((('[1]HIGH EAVE'!AS8*'[1]MARK UP FOR RETAIL'!$D$11)*'[1]MARK UP FOR RETAIL'!$D$9)*'[1]MARK UP FOR RETAIL'!$D$5)+'[1]MARK UP FOR RETAIL'!$G$5 -> 880.9236 | G8: =((('[1]HIGH EAVE'!AT8*'[1]MARK UP FOR RETAIL'!$D$11)*'[1]MARK UP FOR RETAIL'!$D$9)*'[1]MARK UP FOR RETAIL'!$D$5)+'[1]MARK UP FOR RETAIL'!$G$5 -> 1220.9292 | H8: =(('[1]HIGH EAVE'!AU8*'[1]MARK UP FOR RETAIL'!$D$10)*'[1]MARK UP FOR RETAIL'!$D$11)*'[1]MARK UP FOR RETAIL'!$D$7 -> 157.9824 | I8: =('[1]HIGH EAVE'!AV8*'[1]MARK UP FOR RETAIL'!$D$11)*'[1]MARK UP FOR RETAIL'!$D$5 -> 395.5392 | K8: =('[1]HIGH EAVE'!AX8*'[1]MARK UP FOR RETAIL'!$D$11)*'[1]MARK UP FOR RETAIL'!$D$5 -> 393.7734
A9: 8’5” x 6’3” | B9: 2 | E9: =((('[1]HIGH EAVE'!AR9*'[1]MARK UP FOR RETAIL'!$D$11)*'[1]MARK UP FOR RETAIL'!$D$9)*'[1]MARK UP FOR RETAIL'!$D$5)+'[1]MARK UP FOR RETAIL'!$G$5 -> 741.8304 | F9: =((('[1]HIGH EAVE'!AS9*'[1]MARK UP FOR RETAIL'!$D$11)*'[1]MARK UP FOR RETAIL'!$D$9)*'[1]MARK UP FOR RETAIL'!$D$5)+'[1]MARK UP FOR RETAIL'!$G$5 -> 1004.562 | G9: =((('[1]HIGH EAVE'!AT9*'[1]MARK UP FOR RETAIL'!$D$11)*'[1]MARK UP FOR RETAIL'!$D$9)*'[1]MARK UP FOR RETAIL'!$D$5)+'[1]MARK UP FOR RETAIL'!$G$5 -> 1420.1244 | H9: =(('[1]HIGH EAVE'!AU9*'[1]MARK UP FOR RETAIL'!$D$10)*'[1]MARK UP FOR RETAIL'!$D$11)*'[1]MARK UP FOR RETAIL'!$D$7 -> 178.5888 | I9: =('[1]HIGH EAVE'!AV9*'[1]MARK UP FOR RETAIL'!$D$11)*'[1]MARK UP FOR RETAIL'!$D$5 -> 462.672 | K9: =('[1]HIGH EAVE'!AX9*'[1]MARK UP FOR RETAIL'!$D$11)*'[1]MARK UP FOR RETAIL'!$D$5 -> 453.8106
A10: 10’5” x 6’3” | B10: 2 | E10: =((('[1]HIGH EAVE'!AR10*'[1]MARK UP FOR RETAIL'!$D$11)*'[1]MARK UP FOR RETAIL'!$D$9)*'[1]MARK UP FOR RETAIL'!$D$5)+'[1]MARK UP FOR RETAIL'!$G$5 -> 851.7312 | F10: =((('[1]HIGH EAVE'!AS10*'[1]MARK UP FOR RETAIL'!$D$11)*'[1]MARK UP FOR RETAIL'!$D$9)*'[1]MARK UP FOR RETAIL'!$D$5)+'[1]MARK UP FOR RETAIL'!$G$5 -> 1159.11 | G10: =((('[1]HIGH EAVE'!AT10*'[1]MARK UP FOR RETAIL'!$D$11)*'[1]MARK UP FOR RETAIL'!$D$9)*'[1]MARK UP FOR RETAIL'!$D$5)+'[1]MARK UP FOR RETAIL'!$G$5 -> 1595.2788 | H10: =(('[1]HIGH EAVE'!AU10*'[1]MARK UP FOR RETAIL'!$D$10)*'[1]MARK UP FOR RETAIL'!$D$11)*'[1]MARK UP FOR RETAIL'!$D$7 -> 192.3264 | I10: =('[1]HIGH EAVE'!AV10*'[1]MARK UP FOR RETAIL'!$D$11)*'[1]MARK UP FOR RETAIL'!$D$5 -> 533.4336 | K10: =('[1]HIGH EAVE'!AX10*'[1]MARK UP FOR RETAIL'!$D$11)*'[1]MARK UP FOR RETAIL'!$D$5 -> 600.372
A11: 12’6” x 6’3” | B11: 2 | E11: =((('[1]HIGH EAVE'!AR11*'[1]MARK UP FOR RETAIL'!$D$11)*'[1]MARK UP FOR RETAIL'!$D$9)*'[1]MARK UP FOR RETAIL'!$D$5)+'[1]MARK UP FOR RETAIL'!$G$5 -> 1002.8448 | F11: =((('[1]HIGH EAVE'!AS11*'[1]MARK UP FOR RETAIL'!$D$11)*'[1]MARK UP FOR RETAIL'!$D$9)*'[1]MARK UP FOR RETAIL'!$D$5)+'[1]MARK UP FOR RETAIL'!$G$5 -> 1348.002 | G11: =((('[1]HIGH EAVE'!AT11*'[1]MARK UP FOR RETAIL'!$D$11)*'[1]MARK UP FOR RETAIL'!$D$9)*'[1]MARK UP FOR RETAIL'!$D$5)+'[1]MARK UP FOR RETAIL'!$G$5 -> 1845.99 | H11: =(('[1]HIGH EAVE'!AU11*'[1]MARK UP FOR RETAIL'!$D$10)*'[1]MARK UP FOR RETAIL'!$D$11)*'[1]MARK UP FOR RETAIL'!$D$7 -> 204.3468 | I11: =('[1]HIGH EAVE'!AV11*'[1]MARK UP FOR RETAIL'!$D$11)*'[1]MARK UP FOR RETAIL'!$D$5 -> 607.824 | K11: =('[1]HIGH EAVE'!AX11*'[1]MARK UP FOR RETAIL'!$D$11)*'[1]MARK UP FOR RETAIL'!$D$5 -> 741.636
A12: 14’6” x 6’3” | B12: 3 | E12: =((('[1]HIGH EAVE'!AR12*'[1]MARK UP FOR RETAIL'!$D$11)*'[1]MARK UP FOR RETAIL'!$D$9)*'[1]MARK UP FOR RETAIL'!$D$5)+'[1]MARK UP FOR RETAIL'!$G$5 -> 1176.282 | F12: =((('[1]HIGH EAVE'!AS12*'[1]MARK UP FOR RETAIL'!$D$11)*'[1]MARK UP FOR RETAIL'!$D$9)*'[1]MARK UP FOR RETAIL'!$D$5)+'[1]MARK UP FOR RETAIL'!$G$5 -> 1567.8036 | G12: =((('[1]HIGH EAVE'!AT12*'[1]MARK UP FOR RETAIL'!$D$11)*'[1]MARK UP FOR RETAIL'!$D$9)*'[1]MARK UP FOR RETAIL'!$D$5)+'[1]MARK UP FOR RETAIL'!$G$5 -> 2124.1764 | H12: =(('[1]HIGH EAVE'!AU12*'[1]MARK UP FOR RETAIL'!$D$10)*'[1]MARK UP FOR RETAIL'!$D$11)*'[1]MARK UP FOR RETAIL'!$D$7 -> 223.236 | I12: =('[1]HIGH EAVE'!AV12*'[1]MARK UP FOR RETAIL'!$D$11)*'[1]MARK UP FOR RETAIL'!$D$5 -> 676.7712 | K12: =('[1]HIGH EAVE'!AX12*'[1]MARK UP FOR RETAIL'!$D$11)*'[1]MARK UP FOR RETAIL'!$D$5 -> 881.1342
A13: 16’6” x 6’3” | B13: 3 | E13: =((('[1]HIGH EAVE'!AR13*'[1]MARK UP FOR RETAIL'!$D$11)*'[1]MARK UP FOR RETAIL'!$D$9)*'[1]MARK UP FOR RETAIL'!$D$5)+'[1]MARK UP FOR RETAIL'!$G$5 -> 1339.416 | F13: =((('[1]HIGH EAVE'!AS13*'[1]MARK UP FOR RETAIL'!$D$11)*'[1]MARK UP FOR RETAIL'!$D$9)*'[1]MARK UP FOR RETAIL'!$D$5)+'[1]MARK UP FOR RETAIL'!$G$5 -> 1773.8676 | G13: =((('[1]HIGH EAVE'!AT13*'[1]MARK UP FOR RETAIL'!$D$11)*'[1]MARK UP FOR RETAIL'!$D$9)*'[1]MARK UP FOR RETAIL'!$D$5)+'[1]MARK UP FOR RETAIL'!$G$5 -> 2326.806 | H13: =(('[1]HIGH EAVE'!AU13*'[1]MARK UP FOR RETAIL'!$D$10)*'[1]MARK UP FOR RETAIL'!$D$11)*'[1]MARK UP FOR RETAIL'!$D$7 -> 240.408 | I13: =('[1]HIGH EAVE'!AV13*'[1]MARK UP FOR RETAIL'!$D$11)*'[1]MARK UP FOR RETAIL'!$D$5 -> 747.5328 | K13: =('[1]HIGH EAVE'!AX13*'[1]MARK UP FOR RETAIL'!$D$11)*'[1]MARK UP FOR RETAIL'!$D$5 -> 1032.993
A14: 18’6” x 6’3” | B14: 4 | E14: =((('[1]HIGH EAVE'!AR14*'[1]MARK UP FOR RETAIL'!$D$11)*'[1]MARK UP FOR RETAIL'!$D$9)*'[1]MARK UP FOR RETAIL'!$D$5)+'[1]MARK UP FOR RETAIL'!$G$5 -> 1518.0048 | F14: =((('[1]HIGH EAVE'!AS14*'[1]MARK UP FOR RETAIL'!$D$11)*'[1]MARK UP FOR RETAIL'!$D$9)*'[1]MARK UP FOR RETAIL'!$D$5)+'[1]MARK UP FOR RETAIL'!$G$5 -> 1998.8208 | G14: =((('[1]HIGH EAVE'!AT14*'[1]MARK UP FOR RETAIL'!$D$11)*'[1]MARK UP FOR RETAIL'!$D$9)*'[1]MARK UP FOR RETAIL'!$D$5)+'[1]MARK UP FOR RETAIL'!$G$5 -> 2603.2752 | H14: =(('[1]HIGH EAVE'!AU14*'[1]MARK UP FOR RETAIL'!$D$10)*'[1]MARK UP FOR RETAIL'!$D$11)*'[1]MARK UP FOR RETAIL'!$D$7 -> 252.4284 | I14: =('[1]HIGH EAVE'!AV14*'[1]MARK UP FOR RETAIL'!$D$11)*'[1]MARK UP FOR RETAIL'!$D$5 -> 820.1088 | K14: =('[1]HIGH EAVE'!AX14*'[1]MARK UP FOR RETAIL'!$D$11)*'[1]MARK UP FOR RETAIL'!$D$5 -> 1213.1046
A15: 20’6” x 6’3” | B15: 4 | E15: =((('[1]HIGH EAVE'!AR15*'[1]MARK UP FOR RETAIL'!$D$11)*'[1]MARK UP FOR RETAIL'!$D$9)*'[1]MARK UP FOR RETAIL'!$D$5)+'[1]MARK UP FOR RETAIL'!$G$5 -> 1734.372 | F15: =((('[1]HIGH EAVE'!AS15*'[1]MARK UP FOR RETAIL'!$D$11)*'[1]MARK UP FOR RETAIL'!$D$9)*'[1]MARK UP FOR RETAIL'!$D$5)+'[1]MARK UP FOR RETAIL'!$G$5 -> 2264.9868 | G15: =((('[1]HIGH EAVE'!AT15*'[1]MARK UP FOR RETAIL'!$D$11)*'[1]MARK UP FOR RETAIL'!$D$9)*'[1]MARK UP FOR RETAIL'!$D$5)+'[1]MARK UP FOR RETAIL'!$G$5 -> 2924.3916 | H15: =(('[1]HIGH EAVE'!AU15*'[1]MARK UP FOR RETAIL'!$D$10)*'[1]MARK UP FOR RETAIL'!$D$11)*'[1]MARK UP FOR RETAIL'!$D$7 -> 271.3176 | I15: =('[1]HIGH EAVE'!AV15*'[1]MARK UP FOR RETAIL'!$D$11)*'[1]MARK UP FOR RETAIL'!$D$5 -> 896.3136 | K15: =('[1]HIGH EAVE'!AX15*'[1]MARK UP FOR RETAIL'!$D$11)*'[1]MARK UP FOR RETAIL'!$D$5 -> 1402.0452
A16: Extra single door in the rear gable | E16: =((('[1]HIGH EAVE'!AR16*'[1]MARK UP FOR RETAIL'!$D$9)*'[1]MARK UP FOR RETAIL'!$D$11)*'[1]MARK UP FOR RETAIL'!$D$5) -> 109.9008 | H16: =(('[1]HIGH EAVE'!AU16*'[1]MARK UP FOR RETAIL'!$D$10)*'[1]MARK UP FOR RETAIL'!$D$11)*'[1]MARK UP FOR RETAIL'!$D$7 -> 27.4752 | I16: / | K16: =('[1]HIGH EAVE'!AX16*'[1]MARK UP FOR RETAIL'!$D$11)*'[1]MARK UP FOR RETAIL'!$D$5 -> 49.4424
A17: Partition with Double Door | E17: =((('[1]HIGH EAVE'!AR17*'[1]MARK UP FOR RETAIL'!$D$9)*'[1]MARK UP FOR RETAIL'!$D$11)*'[1]MARK UP FOR RETAIL'!$D$5) -> 230.1048 | F17: =((('[1]HIGH EAVE'!AS17*'[1]MARK UP FOR RETAIL'!$D$9)*'[1]MARK UP FOR RETAIL'!$D$11)*'[1]MARK UP FOR RETAIL'!$D$5) -> 314.2476 | G17: =((('[1]HIGH EAVE'!AT17*'[1]MARK UP FOR RETAIL'!$D$9)*'[1]MARK UP FOR RETAIL'!$D$11)*'[1]MARK UP FOR RETAIL'!$D$5) -> 340.0056 | H17: =(('[1]HIGH EAVE'!AU17*'[1]MARK UP FOR RETAIL'!$D$10)*'[1]MARK UP FOR RETAIL'!$D$11)*'[1]MARK UP FOR RETAIL'!$D$7 -> 58.3848 | I17: =('[1]HIGH EAVE'!AV17*'[1]MARK UP FOR RETAIL'!$D$11)*'[1]MARK UP FOR RETAIL'!$D$5 -> 70.7616 | K17: =('[1]HIGH EAVE'!AX17*'[1]MARK UP FOR RETAIL'!$D$11)*'[1]MARK UP FOR RETAIL'!$D$5 -> 155.3904
A18: Soft Soil Support | E18: =((('[1]HIGH EAVE'!AR18*'[1]MARK UP FOR RETAIL'!$D$10)*'[1]MARK UP FOR RETAIL'!$D$11)*'[1]MARK UP FOR RETAIL'!$D$7) -> 39.4956 | H18: / | I18: / | K18: =('[1]HIGH EAVE'!AX18*'[1]MARK UP FOR RETAIL'!$D$11)*'[1]MARK UP FOR RETAIL'!$D$5 -> 28.2528
A19: R-TYPE | E19: =((('[1]HIGH EAVE'!AR19*'[1]MARK UP FOR RETAIL'!$D$9)*'[1]MARK UP FOR RETAIL'!$D$11)*'[1]MARK UP FOR RETAIL'!$D$5) -> -70.4052 | F19: =((('[1]HIGH EAVE'!AS19*'[1]MARK UP FOR RETAIL'!$D$9)*'[1]MARK UP FOR RETAIL'!$D$11)*'[1]MARK UP FOR RETAIL'!$D$5) -> -118.4868 | G19: =((('[1]HIGH EAVE'!AT19*'[1]MARK UP FOR RETAIL'!$D$9)*'[1]MARK UP FOR RETAIL'!$D$11)*'[1]MARK UP FOR RETAIL'!$D$5) -> -125.3556 | H19: =(('[1]HIGH EAVE'!AU19*'[1]MARK UP FOR RETAIL'!$D$10)*'[1]MARK UP FOR RETAIL'!$D$11)*'[1]MARK UP FOR RETAIL'!$D$7 -> -18.8892 | K19: =('[1]HIGH EAVE'!AX19*'[1]MARK UP FOR RETAIL'!$D$11)*'[1]MARK UP FOR RETAIL'!$D$5 -> -56.5056
A24: HIGH EAVE PACKAGE
A26: INCLUDES AS STANDARD | H26: PACKAGE EXTRAS
A28: Integral aluminium base with dropped doors | H28: Diamond shelf to length - 2 slat
A29: Single Dropped Door | H29: Diamond staging to length - 5 slat
A30: At least one roof vent | H30: One 5 blade louvre
A31: Integral Gutters | H31: One automatic roof vent opener
H32: One automatic louvre opener
H33: Standard rainwater collection kit
H34: Grow Hooks (6)
A38: Size Length x Width | B38: Roof Vents | D38: Standard Door | E38: With Horticultural Glass | F38: With Toughened Safety Glass | H38: POWDER COATED (extra)
A39: 4’4” x 6’3” | B39: 1 | D39: Single Drop Door | E39: =((('[1]HIGH EAVE'!AR39*'[1]MARK UP FOR RETAIL'!$D$14)*'[1]MARK UP FOR RETAIL'!$D$11)*'[1]MARK UP FOR RETAIL'!$D$5)+'[1]MARK UP FOR RETAIL'!$G$5 -> 898.0956 | F39: =((('[1]HIGH EAVE'!AS39*'[1]MARK UP FOR RETAIL'!$D$14)*'[1]MARK UP FOR RETAIL'!$D$11)*'[1]MARK UP FOR RETAIL'!$D$5)+'[1]MARK UP FOR RETAIL'!$G$5 -> 1086.9876 | H39: =(('[1]HIGH EAVE'!AU39*'[1]MARK UP FOR RETAIL'!$D$14)*'[1]MARK UP FOR RETAIL'!$D$11)*'[1]MARK UP FOR RETAIL'!$D$5 -> 448.5132
A40: 6’4” x 6’3” | B40: 1 | E40: =((('[1]HIGH EAVE'!AR40*'[1]MARK UP FOR RETAIL'!$D$14)*'[1]MARK UP FOR RETAIL'!$D$11)*'[1]MARK UP FOR RETAIL'!$D$5)+'[1]MARK UP FOR RETAIL'!$G$5 -> 995.976 | F40: =((('[1]HIGH EAVE'!AS40*'[1]MARK UP FOR RETAIL'!$D$14)*'[1]MARK UP FOR RETAIL'!$D$11)*'[1]MARK UP FOR RETAIL'!$D$5)+'[1]MARK UP FOR RETAIL'!$G$5 -> 1227.798 | H40: =(('[1]HIGH EAVE'!AU40*'[1]MARK UP FOR RETAIL'!$D$14)*'[1]MARK UP FOR RETAIL'!$D$11)*'[1]MARK UP FOR RETAIL'!$D$5 -> 557.9928
A41: 8’5” x 6’3” | B41: 2 | E41: =((('[1]HIGH EAVE'!AR41*'[1]MARK UP FOR RETAIL'!$D$14)*'[1]MARK UP FOR RETAIL'!$D$11)*'[1]MARK UP FOR RETAIL'!$D$5)+'[1]MARK UP FOR RETAIL'!$G$5 -> 1131.6348 | F41: =((('[1]HIGH EAVE'!AS41*'[1]MARK UP FOR RETAIL'!$D$14)*'[1]MARK UP FOR RETAIL'!$D$11)*'[1]MARK UP FOR RETAIL'!$D$5)+'[1]MARK UP FOR RETAIL'!$G$5 -> 1397.8008 | H41: =(('[1]HIGH EAVE'!AU41*'[1]MARK UP FOR RETAIL'!$D$14)*'[1]MARK UP FOR RETAIL'!$D$11)*'[1]MARK UP FOR RETAIL'!$D$5 -> 653.346
A42: 10’5” x 6’3” | B42: 2 | E42: =((('[1]HIGH EAVE'!AR42*'[1]MARK UP FOR RETAIL'!$D$14)*'[1]MARK UP FOR RETAIL'!$D$11)*'[1]MARK UP FOR RETAIL'!$D$5)+'[1]MARK UP FOR RETAIL'!$G$5 -> 1311.9408 | F42: =((('[1]HIGH EAVE'!AS42*'[1]MARK UP FOR RETAIL'!$D$14)*'[1]MARK UP FOR RETAIL'!$D$11)*'[1]MARK UP FOR RETAIL'!$D$5)+'[1]MARK UP FOR RETAIL'!$G$5 -> 1619.3196 | H42: =(('[1]HIGH EAVE'!AU42*'[1]MARK UP FOR RETAIL'!$D$14)*'[1]MARK UP FOR RETAIL'!$D$11)*'[1]MARK UP FOR RETAIL'!$D$5 -> 849.3498
A43: 12’6” x 6’3” | B43: 2 | E43: =((('[1]HIGH EAVE'!AR43*'[1]MARK UP FOR RETAIL'!$D$14)*'[1]MARK UP FOR RETAIL'!$D$11)*'[1]MARK UP FOR RETAIL'!$D$5)+'[1]MARK UP FOR RETAIL'!$G$5 -> 1499.1156 | F43: =((('[1]HIGH EAVE'!AS43*'[1]MARK UP FOR RETAIL'!$D$14)*'[1]MARK UP FOR RETAIL'!$D$11)*'[1]MARK UP FOR RETAIL'!$D$5)+'[1]MARK UP FOR RETAIL'!$G$5 -> 1844.2728 | H43: =(('[1]HIGH EAVE'!AU43*'[1]MARK UP FOR RETAIL'!$D$14)*'[1]MARK UP FOR RETAIL'!$D$11)*'[1]MARK UP FOR RETAIL'!$D$5 -> 1018.8666

Sheet STRATA
A1: STRATA: 6'3" WIDE
A2: BASIC MODEL OPTIONS
E3: Aluminium frame, Integral base with drop door(s)
A5: Size Length x Width | B5: Roof Vents | D5: Standard Door | E5: With Horticultural Glass | F5: With Toughened Safety Glass | G5: With 6mm Twin wall Polycarbonate | H5: Bar Capping (TG only) | I5: Hybrid Panels (coloured) | K5: POWDER COATED (extra)
A6: 2’3” x 6’3” NOT FREE STANDING | B6: 0 | D6: Double Drop Door | E6: =((([1]STRATA!AF6*'[1]MARK UP FOR RETAIL'!$D$11)*'[1]MARK UP FOR RETAIL'!$D$9)*'[1]MARK UP FOR RETAIL'!$D$5)+'[1]MARK UP FOR RETAIL'!$G$5 -> 611.3232 | F6: =((([1]STRATA!AG6*'[1]MARK UP FOR RETAIL'!$D$11)*'[1]MARK UP FOR RETAIL'!$D$9)*'[1]MARK UP FOR RETAIL'!$D$5)+'[1]MARK UP FOR RETAIL'!$G$5 -> 755.568 | G6: =((([1]STRATA!AH6*'[1]MARK UP FOR RETAIL'!$D$11)*'[1]MARK UP FOR RETAIL'!$D$9)*'[1]MARK UP FOR RETAIL'!$D$5)+'[1]MARK UP FOR RETAIL'!$G$5 -> 975.3696 | H6: =(([1]STRATA!AI6*'[1]MARK UP FOR RETAIL'!$D$10)*'[1]MARK UP FOR RETAIL'!$D$11)*'[1]MARK UP FOR RETAIL'!$D$7 -> 120.204 | I6: =([1]STRATA!AJ6*'[1]MARK UP FOR RETAIL'!$D$11)*'[1]MARK UP FOR RETAIL'!$D$5 -> 145.152 | K6: =([1]STRATA!AL6*'[1]MARK UP FOR RETAIL'!$D$11)*'[1]MARK UP FOR RETAIL'!$D$5 -> 303.7176
A7: 4’4” x 6’3” | B7: 1 | E7: =((([1]STRATA!AF7*'[1]MARK UP FOR RETAIL'!$D$11)*'[1]MARK UP FOR RETAIL'!$D$9)*'[1]MARK UP FOR RETAIL'!$D$5)+'[1]MARK UP FOR RETAIL'!$G$5 -> 705.7692 | F7: =((([1]STRATA!AG7*'[1]MARK UP FOR RETAIL'!$D$11)*'[1]MARK UP FOR RETAIL'!$D$9)*'[1]MARK UP FOR RETAIL'!$D$5)+'[1]MARK UP FOR RETAIL'!$G$5 -> 898.0956 | G7: =((([1]STRATA!AH7*'[1]MARK UP FOR RETAIL'!$D$11)*'[1]MARK UP FOR RETAIL'!$D$9)*'[1]MARK UP FOR RETAIL'!$D$5)+'[1]MARK UP FOR RETAIL'!$G$5 -> 1159.11 | H7: =(([1]STRATA!AI7*'[1]MARK UP FOR RETAIL'!$D$10)*'[1]MARK UP FOR RETAIL'!$D$11)*'[1]MARK UP FOR RETAIL'!$D$7 -> 140.8104 | I7: =([1]STRATA!AJ7*'[1]MARK UP FOR RETAIL'!$D$11)*'[1]MARK UP FOR RETAIL'!$D$5 -> 310.2624 | K7: =([1]STRATA!AL7*'[1]MARK UP FOR RETAIL'!$D$11)*'[1]MARK UP FOR RETAIL'!$D$5 -> 372.5838
A8: 6’4” x 6’3” | B8: 1 | E8: =((([1]STRATA!AF8*'[1]MARK UP FOR RETAIL'!$D$11)*'[1]MARK UP FOR RETAIL'!$D$9)*'[1]MARK UP FOR RETAIL'!$D$5)+'[1]MARK UP FOR RETAIL'!$G$5 -> 762.4368 | F8: =((([1]STRATA!AG8*'[1]MARK UP FOR RETAIL'!$D$11)*'[1]MARK UP FOR RETAIL'!$D$9)*'[1]MARK UP FOR RETAIL'!$D$5)+'[1]MARK UP FOR RETAIL'!$G$5 -> 995.976 | G8: =((([1]STRATA!AH8*'[1]MARK UP FOR RETAIL'!$D$11)*'[1]MARK UP FOR RETAIL'!$D$9)*'[1]MARK UP FOR RETAIL'!$D$5)+'[1]MARK UP FOR RETAIL'!$G$5 -> 1335.9816 | H8: =(([1]STRATA!AI8*'[1]MARK UP FOR RETAIL'!$D$10)*'[1]MARK UP FOR RETAIL'!$D$11)*'[1]MARK UP FOR RETAIL'!$D$7 -> 164.8512 | I8: =([1]STRATA!AJ8*'[1]MARK UP FOR RETAIL'!$D$11)*'[1]MARK UP FOR RETAIL'!$D$5 -> 381.024 | K8: =([1]STRATA!AL8*'[1]MARK UP FOR RETAIL'!$D$11)*'[1]MARK UP FOR RETAIL'!$D$5 -> 448.5132
A9: 8’5” x 6’3” | B9: 2 | E9: =((([1]STRATA!AF9*'[1]MARK UP FOR RETAIL'!$D$11)*'[1]MARK UP FOR RETAIL'!$D$9)*'[1]MARK UP FOR RETAIL'!$D$5)+'[1]MARK UP FOR RETAIL'!$G$5 -> 855.1656 | F9: =((([1]STRATA!AG9*'[1]MARK UP FOR RETAIL'!$D$11)*'[1]MARK UP FOR RETAIL'!$D$9)*'[1]MARK UP FOR RETAIL'!$D$5)+'[1]MARK UP FOR RETAIL'!$G$5 -> 1117.8972 | G9: =((([1]STRATA!AH9*'[1]MARK UP FOR RETAIL'!$D$11)*'[1]MARK UP FOR RETAIL'!$D$9)*'[1]MARK UP FOR RETAIL'!$D$5)+'[1]MARK UP FOR RETAIL'!$G$5 -> 1533.4596 | H9: =(([1]STRATA!AI9*'[1]MARK UP FOR RETAIL'!$D$10)*'[1]MARK UP FOR RETAIL'!$D$11)*'[1]MARK UP FOR RETAIL'!$D$7 -> 185.4576 | I9: =([1]STRATA!AJ9*'[1]MARK UP FOR RETAIL'!$D$11)*'[1]MARK UP FOR RETAIL'!$D$5 -> 453.6 | K9: =([1]STRATA!AL9*'[1]MARK UP FOR RETAIL'!$D$11)*'[1]MARK UP FOR RETAIL'!$D$5 -> 505.0188
A10: 10’5” x 6’3” | B10: 2 | E10: =((([1]STRATA!AF10*'[1]MARK UP FOR RETAIL'!$D$11)*'[1]MARK UP FOR RETAIL'!$D$9)*'[1]MARK UP FOR RETAIL'!$D$5)+'[1]MARK UP FOR RETAIL'!$G$5 -> 970.218 | F10: =((([1]STRATA!AG10*'[1]MARK UP FOR RETAIL'!$D$11)*'[1]MARK UP FOR RETAIL'!$D$9)*'[1]MARK UP FOR RETAIL'!$D$5)+'[1]MARK UP FOR RETAIL'!$G$5 -> 1270.728 | G10: =((([1]STRATA!AH10*'[1]MARK UP FOR RETAIL'!$D$11)*'[1]MARK UP FOR RETAIL'!$D$9)*'[1]MARK UP FOR RETAIL'!$D$5)+'[1]MARK UP FOR RETAIL'!$G$5 -> 1705.1796 | H10: =(([1]STRATA!AI10*'[1]MARK UP FOR RETAIL'!$D$10)*'[1]MARK UP FOR RETAIL'!$D$11)*'[1]MARK UP FOR RETAIL'!$D$7 -> 200.9124 | I10: =([1]STRATA!AJ10*'[1]MARK UP FOR RETAIL'!$D$11)*'[1]MARK UP FOR RETAIL'!$D$5 -> 526.176 | K10: =([1]STRATA!AL10*'[1]MARK UP FOR RETAIL'!$D$11)*'[1]MARK UP FOR RETAIL'!$D$5 -> 655.1118
A11: 12’6” x 6’3” | B11: 2 | E11: =((([1]STRATA!AF11*'[1]MARK UP FOR RETAIL'!$D$11)*'[1]MARK UP FOR RETAIL'!$D$9)*'[1]MARK UP FOR RETAIL'!$D$5)+'[1]MARK UP FOR RETAIL'!$G$5 -> 1121.3316 | F11: =((([1]STRATA!AG11*'[1]MARK UP FOR RETAIL'!$D$11)*'[1]MARK UP FOR RETAIL'!$D$9)*'[1]MARK UP FOR RETAIL'!$D$5)+'[1]MARK UP FOR RETAIL'!$G$5 -> 1461.3372 | G11: =((([1]STRATA!AH11*'[1]MARK UP FOR RETAIL'!$D$11)*'[1]MARK UP FOR RETAIL'!$D$9)*'[1]MARK UP FOR RETAIL'!$D$5)+'[1]MARK UP FOR RETAIL'!$G$5 -> 1959.3252 | H11: =(([1]STRATA!AI11*'[1]MARK UP FOR RETAIL'!$D$10)*'[1]MARK UP FOR RETAIL'!$D$11)*'[1]MARK UP FOR RETAIL'!$D$7 -> 216.3672 | I11: =([1]STRATA!AJ11*'[1]MARK UP FOR RETAIL'!$D$11)*'[1]MARK UP FOR RETAIL'!$D$5 -> 595.1232 | K11: =([1]STRATA!AL11*'[1]MARK UP FOR RETAIL'!$D$11)*'[1]MARK UP FOR RETAIL'!$D$5 -> 792.8442
A12: 14’6” x 6’3” | B12: 3 | E12: =((([1]STRATA!AF12*'[1]MARK UP FOR RETAIL'!$D$11)*'[1]MARK UP FOR RETAIL'!$D$9)*'[1]MARK UP FOR RETAIL'!$D$5)+'[1]MARK UP FOR RETAIL'!$G$5 -> 1294.7688 | F12: =((([1]STRATA!AG12*'[1]MARK UP FOR RETAIL'!$D$11)*'[1]MARK UP FOR RETAIL'!$D$9)*'[1]MARK UP FOR RETAIL'!$D$5)+'[1]MARK UP FOR RETAIL'!$G$5 -> 1677.7044 | G12: =((([1]STRATA!AH12*'[1]MARK UP FOR RETAIL'!$D$11)*'[1]MARK UP FOR RETAIL'!$D$9)*'[1]MARK UP FOR RETAIL'!$D$5)+'[1]MARK UP FOR RETAIL'!$G$5 -> 2244.3804 | H12: =(([1]STRATA!AI12*'[1]MARK UP FOR RETAIL'!$D$10)*'[1]MARK UP FOR RETAIL'!$D$11)*'[1]MARK UP FOR RETAIL'!$D$7 -> 231.822 | I12: =([1]STRATA!AJ12*'[1]MARK UP FOR RETAIL'!$D$11)*'[1]MARK UP FOR RETAIL'!$D$5 -> 665.8848 | K12: =([1]STRATA!AL12*'[1]MARK UP FOR RETAIL'!$D$11)*'[1]MARK UP FOR RETAIL'!$D$5 -> 935.874
A13: 16’6” x 6’3” | B13: 3 | E13: =((([1]STRATA!AF13*'[1]MARK UP FOR RETAIL'!$D$11)*'[1]MARK UP FOR RETAIL'!$D$9)*'[1]MARK UP FOR RETAIL'!$D$5)+'[1]MARK UP FOR RETAIL'!$G$5 -> 1451.034 | F13: =((([1]STRATA!AG13*'[1]MARK UP FOR RETAIL'!$D$11)*'[1]MARK UP FOR RETAIL'!$D$9)*'[1]MARK UP FOR RETAIL'!$D$5)+'[1]MARK UP FOR RETAIL'!$G$5 -> 1890.6372 | G13: =((([1]STRATA!AH13*'[1]MARK UP FOR RETAIL'!$D$11)*'[1]MARK UP FOR RETAIL'!$D$9)*'[1]MARK UP FOR RETAIL'!$D$5)+'[1]MARK UP FOR RETAIL'!$G$5 -> 2438.424 | H13: =(([1]STRATA!AI13*'[1]MARK UP FOR RETAIL'!$D$10)*'[1]MARK UP FOR RETAIL'!$D$11)*'[1]MARK UP FOR RETAIL'!$D$7 -> 245.5596 | I13: =([1]STRATA!AJ13*'[1]MARK UP FOR RETAIL'!$D$11)*'[1]MARK UP FOR RETAIL'!$D$5 -> 740.2752 | K13: =([1]STRATA!AL13*'[1]MARK UP FOR RETAIL'!$D$11)*'[1]MARK UP FOR RETAIL'!$D$5 -> 1082.4354
A14: 18’6” x 6’3” | B14: 4 | E14: =((([1]STRATA!AF14*'[1]MARK UP FOR RETAIL'!$D$11)*'[1]MARK UP FOR RETAIL'!$D$9)*'[1]MARK UP FOR RETAIL'!$D$5)+'[1]MARK UP FOR RETAIL'!$G$5 -> 1609.0164 | F14: =((([1]STRATA!AG14*'[1]MARK UP FOR RETAIL'!$D$11)*'[1]MARK UP FOR RETAIL'!$D$9)*'[1]MARK UP FOR RETAIL'!$D$5)+'[1]MARK UP FOR RETAIL'!$G$5 -> 2107.0044 | G14: =((([1]STRATA!AH14*'[1]MARK UP FOR RETAIL'!$D$11)*'[1]MARK UP FOR RETAIL'!$D$9)*'[1]MARK UP FOR RETAIL'!$D$5)+'[1]MARK UP FOR RETAIL'!$G$5 -> 2711.4588 | H14: =(([1]STRATA!AI14*'[1]MARK UP FOR RETAIL'!$D$10)*'[1]MARK UP FOR RETAIL'!$D$11)*'[1]MARK UP FOR RETAIL'!$D$7 -> 261.0144 | I14: =([1]STRATA!AJ14*'[1]MARK UP FOR RETAIL'!$D$11)*'[1]MARK UP FOR RETAIL'!$D$5 -> 809.2224 | K14: =([1]STRATA!AL14*'[1]MARK UP FOR RETAIL'!$D$11)*'[1]MARK UP FOR RETAIL'!$D$5 -> 1223.6994
A15: 20’6” x 6’3” | B15: 4 | E15: =((([1]STRATA!AF15*'[1]MARK UP FOR RETAIL'!$D$11)*'[1]MARK UP FOR RETAIL'!$D$9)*'[1]MARK UP FOR RETAIL'!$D$5)+'[1]MARK UP FOR RETAIL'!$G$5 -> 1763.5644 | F15: =((([1]STRATA!AG15*'[1]MARK UP FOR RETAIL'!$D$11)*'[1]MARK UP FOR RETAIL'!$D$9)*'[1]MARK UP FOR RETAIL'!$D$5)+'[1]MARK UP FOR RETAIL'!$G$5 -> 2323.3716 | G15: =((([1]STRATA!AH15*'[1]MARK UP FOR RETAIL'!$D$11)*'[1]MARK UP FOR RETAIL'!$D$9)*'[1]MARK UP FOR RETAIL'!$D$5)+'[1]MARK UP FOR RETAIL'!$G$5 -> 2981.0592 | H15: =(([1]STRATA!AI15*'[1]MARK UP FOR RETAIL'!$D$10)*'[1]MARK UP FOR RETAIL'!$D$11)*'[1]MARK UP FOR RETAIL'!$D$7 -> 278.1864 | I15: =([1]STRATA!AJ15*'[1]MARK UP FOR RETAIL'!$D$11)*'[1]MARK UP FOR RETAIL'!$D$5 -> 881.7984 | K15: =([1]STRATA!AL15*'[1]MARK UP FOR RETAIL'!$D$11)*'[1]MARK UP FOR RETAIL'!$D$5 -> 1368.495
A16: Extra double door in the rear end | E16: =((([1]STRATA!AF16*'[1]MARK UP FOR RETAIL'!$D$11)*'[1]MARK UP FOR RETAIL'!$D$9)*'[1]MARK UP FOR RETAIL'!$D$5) -> 226.6704 | H16: =(([1]STRATA!AI16*'[1]MARK UP FOR RETAIL'!$D$10)*'[1]MARK UP FOR RETAIL'!$D$11)*'[1]MARK UP FOR RETAIL'!$D$7 -> 27.4752 | I16: / | K16: =([1]STRATA!AL16*'[1]MARK UP FOR RETAIL'!$D$11)*'[1]MARK UP FOR RETAIL'!$D$5 -> 134.2008
A17: Partition with Double Door | E17: =((([1]STRATA!AF17*'[1]MARK UP FOR RETAIL'!$D$11)*'[1]MARK UP FOR RETAIL'!$D$9)*'[1]MARK UP FOR RETAIL'!$D$5) -> 230.1048 | F17: =((([1]STRATA!AG17*'[1]MARK UP FOR RETAIL'!$D$11)*'[1]MARK UP FOR RETAIL'!$D$9)*'[1]MARK UP FOR RETAIL'!$D$5) -> 310.8132 | G17: =((([1]STRATA!AH17*'[1]MARK UP FOR RETAIL'!$D$11)*'[1]MARK UP FOR RETAIL'!$D$9)*'[1]MARK UP FOR RETAIL'!$D$5) -> 340.0056 | H17: =(([1]STRATA!AI17*'[1]MARK UP FOR RETAIL'!$D$10)*'[1]MARK UP FOR RETAIL'!$D$11)*'[1]MARK UP FOR RETAIL'!$D$7 -> 58.3848 | I17: =([1]STRATA!AJ17*'[1]MARK UP FOR RETAIL'!$D$11)*'[1]MARK UP FOR RETAIL'!$D$5 -> 70.7616 | K17: =([1]STRATA!AL17*'[1]MARK UP FOR RETAIL'!$D$11)*'[1]MARK UP FOR RETAIL'!$D$5 -> 153.6246
A18: Soft Soil Support | E18: =((([1]STRATA!AF18*'[1]MARK UP FOR RETAIL'!$D$10)*'[1]MARK UP FOR RETAIL'!$D$11)*'[1]MARK UP FOR RETAIL'!$D$7) -> 39.4956 | H18: / | I18: / | K18: =([1]STRATA!AL18*'[1]MARK UP FOR RETAIL'!$D$11)*'[1]MARK UP FOR RETAIL'!$D$5 -> 28.2528
A19: R-TYPE | E19: =((([1]STRATA!AF19*'[1]MARK UP FOR RETAIL'!$D$11)*'[1]MARK UP FOR RETAIL'!$D$9)*'[1]MARK UP FOR RETAIL'!$D$5) -> -70.4052 | F19: =((([1]STRATA!AG19*'[1]MARK UP FOR RETAIL'!$D$11)*'[1]MARK UP FOR RETAIL'!$D$9)*'[1]MARK UP FOR RETAIL'!$D$5) -> -111.618 | G19: =((([1]STRATA!AH19*'[1]MARK UP FOR RETAIL'!$D$11)*'[1]MARK UP FOR RETAIL'!$D$9)*'[1]MARK UP FOR RETAIL'!$D$5) -> -130.5072 | H19: =(([1]STRATA!AI19*'[1]MARK UP FOR RETAIL'!$D$10)*'[1]MARK UP FOR RETAIL'!$D$11)*'[1]MARK UP FOR RETAIL'!$D$7 -> -18.8892 | K19: =([1]STRATA!AL19*'[1]MARK UP FOR RETAIL'!$D$11)*'[1]MARK UP FOR RETAIL'!$D$5 -> -56.5056
A24: STRATA PACKAGE
A26: INCLUDES AS STANDARD | H26: PACKAGE EXTRAS
A28: Integral aluminium base with dropped doors | H28: Diamond shelf to length - 2 slat
A29: Double Dropped Doors | H29: Diamond staging to length - 5 slat
A30: At least one roof vent | H30: One 5 blade louvre
A31: Integral Gutters | H31: One automatic roof vent opener
H32: One automatic louvre opener
H33: Standard rainwater collection kit
H34: Grow Hooks (6)
A38: Size Length x Width | B38: Roof Vents | D38: Standard Door | E38: With Horticultural Glass | F38: With Toughened Safety Glass | H38: POWDER COATED (extra)
A39: 4’4” x 6’3” | B39: 1 | D39: Double Drop Door | E39: =((([1]STRATA!AF39*'[1]MARK UP FOR RETAIL'!$D$14)*'[1]MARK UP FOR RETAIL'!$D$11)*'[1]MARK UP FOR RETAIL'!$D$5)+'[1]MARK UP FOR RETAIL'!$G$5 -> 1014.8652 | F39: =((([1]STRATA!AG39*'[1]MARK UP FOR RETAIL'!$D$14)*'[1]MARK UP FOR RETAIL'!$D$11)*'[1]MARK UP FOR RETAIL'!$D$5)+'[1]MARK UP FOR RETAIL'!$G$5 -> 1205.4744 | H39: =(([1]STRATA!AI39*'[1]MARK UP FOR RETAIL'!$D$14)*'[1]MARK UP FOR RETAIL'!$D$11)*'[1]MARK UP FOR RETAIL'!$D$5 -> 499.7214
A40: 6’4” x 6’3” | B40: 1 | E40: =((([1]STRATA!AF40*'[1]MARK UP FOR RETAIL'!$D$14)*'[1]MARK UP FOR RETAIL'!$D$11)*'[1]MARK UP FOR RETAIL'!$D$5)+'[1]MARK UP FOR RETAIL'!$G$5 -> 1109.3112 | F40: =((([1]STRATA!AG40*'[1]MARK UP FOR RETAIL'!$D$14)*'[1]MARK UP FOR RETAIL'!$D$11)*'[1]MARK UP FOR RETAIL'!$D$5)+'[1]MARK UP FOR RETAIL'!$G$5 -> 1342.8504 | H40: =(([1]STRATA!AI40*'[1]MARK UP FOR RETAIL'!$D$14)*'[1]MARK UP FOR RETAIL'!$D$11)*'[1]MARK UP FOR RETAIL'!$D$5 -> 610.9668
A41: 8’5” x 6’3” | B41: 2 | E41: =((([1]STRATA!AF41*'[1]MARK UP FOR RETAIL'!$D$14)*'[1]MARK UP FOR RETAIL'!$D$11)*'[1]MARK UP FOR RETAIL'!$D$5)+'[1]MARK UP FOR RETAIL'!$G$5 -> 1248.4044 | F41: =((([1]STRATA!AG41*'[1]MARK UP FOR RETAIL'!$D$14)*'[1]MARK UP FOR RETAIL'!$D$11)*'[1]MARK UP FOR RETAIL'!$D$5)+'[1]MARK UP FOR RETAIL'!$G$5 -> 1511.136 | H41: =(([1]STRATA!AI41*'[1]MARK UP FOR RETAIL'!$D$14)*'[1]MARK UP FOR RETAIL'!$D$11)*'[1]MARK UP FOR RETAIL'!$D$5 -> 701.0226
A42: 10’5” x 6’3” | B42: 2 | E42: =((([1]STRATA!AF42*'[1]MARK UP FOR RETAIL'!$D$14)*'[1]MARK UP FOR RETAIL'!$D$11)*'[1]MARK UP FOR RETAIL'!$D$5)+'[1]MARK UP FOR RETAIL'!$G$5 -> 1426.9932 | F42: =((([1]STRATA!AG42*'[1]MARK UP FOR RETAIL'!$D$14)*'[1]MARK UP FOR RETAIL'!$D$11)*'[1]MARK UP FOR RETAIL'!$D$5)+'[1]MARK UP FOR RETAIL'!$G$5 -> 1730.9376 | H42: =(([1]STRATA!AI42*'[1]MARK UP FOR RETAIL'!$D$14)*'[1]MARK UP FOR RETAIL'!$D$11)*'[1]MARK UP FOR RETAIL'!$D$5 -> 898.7922
A43: 12’6” x 6’3” | B43: 2 | E43: =((([1]STRATA!AF43*'[1]MARK UP FOR RETAIL'!$D$14)*'[1]MARK UP FOR RETAIL'!$D$11)*'[1]MARK UP FOR RETAIL'!$D$5)+'[1]MARK UP FOR RETAIL'!$G$5 -> 1584.9756 | F43: =((([1]STRATA!AG43*'[1]MARK UP FOR RETAIL'!$D$14)*'[1]MARK UP FOR RETAIL'!$D$11)*'[1]MARK UP FOR RETAIL'!$D$5)+'[1]MARK UP FOR RETAIL'!$G$5 -> 1924.9812 | H43: =(([1]STRATA!AI43*'[1]MARK UP FOR RETAIL'!$D$14)*'[1]MARK UP FOR RETAIL'!$D$11)*'[1]MARK UP FOR RETAIL'!$D$5 -> 1068.309

Sheet GX 600
A1: GX 600 - 6'3" WIDE
A2: BASIC MODEL OPTIONS
E3: Aluminium frame, with drop doors and Bar Capping
A5: Size Length x Width | B5: Double Roof Vents | C5: Side Louvre | D5: Standard Door | E5: With Toughened Safety Glass | F5: With 6mm Twin wall Polycarbonate | H5: Hybrid Panels (coloured) | J5: POWDER COATED (extra)
A6: 4'5" x 6'3" | B6: 1 | C6: 2 | D6: Double Drop Doors | E6: =((('[1]GX 600'!R6*'[1]MARK UP FOR RETAIL'!$D$9)*'[1]MARK UP FOR RETAIL'!$D$11)*'[1]MARK UP FOR RETAIL'!$D$5)+'[1]MARK UP FOR RETAIL'!$G$5 -> 1275.8796 | F6: =((('[1]GX 600'!S6*'[1]MARK UP FOR RETAIL'!$D$9)*'[1]MARK UP FOR RETAIL'!$D$11)*'[1]MARK UP FOR RETAIL'!$D$5)+'[1]MARK UP FOR RETAIL'!$G$5 -> 1447.5996 | H6: =('[1]GX 600'!U6*'[1]MARK UP FOR RETAIL'!$D$11)*'[1]MARK UP FOR RETAIL'!$D$7 -> 246.7584 | J6: =('[1]GX 600'!W6*'[1]MARK UP FOR RETAIL'!$D$11)*'[1]MARK UP FOR RETAIL'!$D$5 -> 671.004
A7: 6’5” x 6’3” | B7: 1 | C7: 2 | E7: =((('[1]GX 600'!R7*'[1]MARK UP FOR RETAIL'!$D$9)*'[1]MARK UP FOR RETAIL'!$D$11)*'[1]MARK UP FOR RETAIL'!$D$5)+'[1]MARK UP FOR RETAIL'!$G$5 -> 1396.0836 | F7: =((('[1]GX 600'!S7*'[1]MARK UP FOR RETAIL'!$D$9)*'[1]MARK UP FOR RETAIL'!$D$11)*'[1]MARK UP FOR RETAIL'!$D$5)+'[1]MARK UP FOR RETAIL'!$G$5 -> 1609.0164 | H7: =('[1]GX 600'!U7*'[1]MARK UP FOR RETAIL'!$D$11)*'[1]MARK UP FOR RETAIL'!$D$7 -> 321.1488 | J7: =('[1]GX 600'!W7*'[1]MARK UP FOR RETAIL'!$D$11)*'[1]MARK UP FOR RETAIL'!$D$5 -> 753.9966
A8: 8’5” x 6’3” | B8: 2 | C8: 2 | E8: =((('[1]GX 600'!R8*'[1]MARK UP FOR RETAIL'!$D$9)*'[1]MARK UP FOR RETAIL'!$D$11)*'[1]MARK UP FOR RETAIL'!$D$5)+'[1]MARK UP FOR RETAIL'!$G$5 -> 1514.5704 | F8: =((('[1]GX 600'!S8*'[1]MARK UP FOR RETAIL'!$D$9)*'[1]MARK UP FOR RETAIL'!$D$11)*'[1]MARK UP FOR RETAIL'!$D$5)+'[1]MARK UP FOR RETAIL'!$G$5 -> 1779.0192 | H8: =('[1]GX 600'!U8*'[1]MARK UP FOR RETAIL'!$D$11)*'[1]MARK UP FOR RETAIL'!$D$7 -> 395.5392 | J8: =('[1]GX 600'!W8*'[1]MARK UP FOR RETAIL'!$D$11)*'[1]MARK UP FOR RETAIL'!$D$5 -> 805.2048
A9: 10’5” x 6’3” | B9: 2 | C9: 2 | E9: =((('[1]GX 600'!R9*'[1]MARK UP FOR RETAIL'!$D$9)*'[1]MARK UP FOR RETAIL'!$D$11)*'[1]MARK UP FOR RETAIL'!$D$5)+'[1]MARK UP FOR RETAIL'!$G$5 -> 1782.4536 | F9: =((('[1]GX 600'!S9*'[1]MARK UP FOR RETAIL'!$D$9)*'[1]MARK UP FOR RETAIL'!$D$11)*'[1]MARK UP FOR RETAIL'!$D$5)+'[1]MARK UP FOR RETAIL'!$G$5 -> 2057.2056 | H9: =('[1]GX 600'!U9*'[1]MARK UP FOR RETAIL'!$D$11)*'[1]MARK UP FOR RETAIL'!$D$7 -> 462.672 | J9: =('[1]GX 600'!W9*'[1]MARK UP FOR RETAIL'!$D$11)*'[1]MARK UP FOR RETAIL'!$D$5 -> 836.9892
A10: 12’6” x 6’3” | B10: 2 | C10: 2 | E10: =((('[1]GX 600'!R10*'[1]MARK UP FOR RETAIL'!$D$9)*'[1]MARK UP FOR RETAIL'!$D$11)*'[1]MARK UP FOR RETAIL'!$D$5)+'[1]MARK UP FOR RETAIL'!$G$5 -> 2053.7712 | F10: =((('[1]GX 600'!S10*'[1]MARK UP FOR RETAIL'!$D$9)*'[1]MARK UP FOR RETAIL'!$D$11)*'[1]MARK UP FOR RETAIL'!$D$5)+'[1]MARK UP FOR RETAIL'!$G$5 -> 2371.4532 | H10: =('[1]GX 600'!U10*'[1]MARK UP FOR RETAIL'!$D$11)*'[1]MARK UP FOR RETAIL'!$D$7 -> 533.4336 | J10: =('[1]GX 600'!W10*'[1]MARK UP FOR RETAIL'!$D$11)*'[1]MARK UP FOR RETAIL'!$D$5 -> 872.3052
A11: 14’6” x 6’3” | B11: 4 | C11: 2 | E11: =((('[1]GX 600'!R11*'[1]MARK UP FOR RETAIL'!$D$9)*'[1]MARK UP FOR RETAIL'!$D$11)*'[1]MARK UP FOR RETAIL'!$D$5)+'[1]MARK UP FOR RETAIL'!$G$5 -> 2349.1296 | F11: =((('[1]GX 600'!S11*'[1]MARK UP FOR RETAIL'!$D$9)*'[1]MARK UP FOR RETAIL'!$D$11)*'[1]MARK UP FOR RETAIL'!$D$5)+'[1]MARK UP FOR RETAIL'!$G$5 -> 2709.7416 | H11: =('[1]GX 600'!U11*'[1]MARK UP FOR RETAIL'!$D$11)*'[1]MARK UP FOR RETAIL'!$D$7 -> 607.824 | J11: =('[1]GX 600'!W11*'[1]MARK UP FOR RETAIL'!$D$11)*'[1]MARK UP FOR RETAIL'!$D$5 -> 990.6138
A12: 16’6” x 6’3” | B12: 4 | C12: 2 | E12: =((('[1]GX 600'!R12*'[1]MARK UP FOR RETAIL'!$D$9)*'[1]MARK UP FOR RETAIL'!$D$11)*'[1]MARK UP FOR RETAIL'!$D$5)+'[1]MARK UP FOR RETAIL'!$G$5 -> 2544.8904 | F12: =((('[1]GX 600'!S12*'[1]MARK UP FOR RETAIL'!$D$9)*'[1]MARK UP FOR RETAIL'!$D$11)*'[1]MARK UP FOR RETAIL'!$D$5)+'[1]MARK UP FOR RETAIL'!$G$5 -> 2912.3712 | H12: =('[1]GX 600'!U12*'[1]MARK UP FOR RETAIL'!$D$11)*'[1]MARK UP FOR RETAIL'!$D$7 -> 676.7712 | J12: =('[1]GX 600'!W12*'[1]MARK UP FOR RETAIL'!$D$11)*'[1]MARK UP FOR RETAIL'!$D$5 -> 1103.625
A13: 18’6” x 6’3” | B13: 6 | C13: 2 | E13: =((('[1]GX 600'!R13*'[1]MARK UP FOR RETAIL'!$D$9)*'[1]MARK UP FOR RETAIL'!$D$11)*'[1]MARK UP FOR RETAIL'!$D$5)+'[1]MARK UP FOR RETAIL'!$G$5 -> 2805.9048 | F13: =((('[1]GX 600'!S13*'[1]MARK UP FOR RETAIL'!$D$9)*'[1]MARK UP FOR RETAIL'!$D$11)*'[1]MARK UP FOR RETAIL'!$D$5)+'[1]MARK UP FOR RETAIL'!$G$5 -> 3209.4468 | H13: =('[1]GX 600'!U13*'[1]MARK UP FOR RETAIL'!$D$11)*'[1]MARK UP FOR RETAIL'!$D$7 -> 747.5328 | J13: =('[1]GX 600'!W13*'[1]MARK UP FOR RETAIL'!$D$11)*'[1]MARK UP FOR RETAIL'!$D$5 -> 1197.2124
A14: 20’6” x 6’3” | B14: 6 | C14: 2 | E14: =((('[1]GX 600'!R14*'[1]MARK UP FOR RETAIL'!$D$9)*'[1]MARK UP FOR RETAIL'!$D$11)*'[1]MARK UP FOR RETAIL'!$D$5)+'[1]MARK UP FOR RETAIL'!$G$5 -> 3118.4352 | F14: =((('[1]GX 600'!S14*'[1]MARK UP FOR RETAIL'!$D$9)*'[1]MARK UP FOR RETAIL'!$D$11)*'[1]MARK UP FOR RETAIL'!$D$5)+'[1]MARK UP FOR RETAIL'!$G$5 -> 3570.0588 | H14: =('[1]GX 600'!U14*'[1]MARK UP FOR RETAIL'!$D$11)*'[1]MARK UP FOR RETAIL'!$D$7 -> 820.1088 | J14: =('[1]GX 600'!W14*'[1]MARK UP FOR RETAIL'!$D$11)*'[1]MARK UP FOR RETAIL'!$D$5 -> 1317.2868
A15: Extra double door in the rear end | E15: =((('[1]GX 600'!R15*'[1]MARK UP FOR RETAIL'!$D$9)*'[1]MARK UP FOR RETAIL'!$D$11)*'[1]MARK UP FOR RETAIL'!$D$5) -> 298.7928 | J15: =('[1]GX 600'!W15*'[1]MARK UP FOR RETAIL'!$D$11)*'[1]MARK UP FOR RETAIL'!$D$5 -> 125.3718
A16: Partition with Single Door | E16: =((('[1]GX 600'!R16*'[1]MARK UP FOR RETAIL'!$D$9)*'[1]MARK UP FOR RETAIL'!$D$11)*'[1]MARK UP FOR RETAIL'!$D$5) -> 448.1892 | F16: =((('[1]GX 600'!S16*'[1]MARK UP FOR RETAIL'!$D$9)*'[1]MARK UP FOR RETAIL'!$D$11)*'[1]MARK UP FOR RETAIL'!$D$5) -> 494.5536 | H16: =('[1]GX 600'!U16*'[1]MARK UP FOR RETAIL'!$D$11)*'[1]MARK UP FOR RETAIL'!$D$7 -> 70.7616 | J16: =('[1]GX 600'!W16*'[1]MARK UP FOR RETAIL'!$D$11)*'[1]MARK UP FOR RETAIL'!$D$5 -> 169.5168
A17: Soft Soil Support | E17: =(('[1]GX 600'!R17*'[1]MARK UP FOR RETAIL'!$D$10)*'[1]MARK UP FOR RETAIL'!$D$11)*'[1]MARK UP FOR RETAIL'!$D$7 -> 39.4956 | J17: =('[1]GX 600'!W17*'[1]MARK UP FOR RETAIL'!$D$11)*'[1]MARK UP FOR RETAIL'!$D$5 -> 28.2528
A18: R-TYPE | E18: =((('[1]GX 600'!R18*'[1]MARK UP FOR RETAIL'!$D$9)*'[1]MARK UP FOR RETAIL'!$D$11)*'[1]MARK UP FOR RETAIL'!$D$5) -> -104.7492 | F18: =(('[1]GX 600'!S18*'[1]MARK UP FOR RETAIL'!$D$9)*'[1]MARK UP FOR RETAIL'!$D$11)*'[1]MARK UP FOR RETAIL'!$D$5 -> -109.9008 | J18: =('[1]GX 600'!W18*'[1]MARK UP FOR RETAIL'!$D$11)*'[1]MARK UP FOR RETAIL'!$D$5 -> -44.145
A20: EXTRAS | E20: Alloy | F20: Coloured (extra)
A21: KICK PLATES VENTED | E21: =(('[1]GX 600'!R21*'[1]MARK UP FOR RETAIL'!$D$10)*'[1]MARK UP FOR RETAIL'!$D$11)*'[1]MARK UP FOR RETAIL'!$D$7 -> 12.0204 | F21: =(('[1]GX 600'!S21*'[1]MARK UP FOR RETAIL'!$D$10)*'[1]MARK UP FOR RETAIL'!$D$11)*'[1]MARK UP FOR RETAIL'!$D$7 -> 12.0204
A22: KICK PLATES PLAIN | E22: =(('[1]GX 600'!R22*'[1]MARK UP FOR RETAIL'!$D$10)*'[1]MARK UP FOR RETAIL'!$D$11)*'[1]MARK UP FOR RETAIL'!$D$7 -> 8.586 | F22: =(('[1]GX 600'!S22*'[1]MARK UP FOR RETAIL'!$D$10)*'[1]MARK UP FOR RETAIL'!$D$11)*'[1]MARK UP FOR RETAIL'!$D$7 -> 8.586
A23: Extra DOUBLE ROOF VENT | E23: =(('[1]GX 600'!R23*'[1]MARK UP FOR RETAIL'!$D$10)*'[1]MARK UP FOR RETAIL'!$D$11)*'[1]MARK UP FOR RETAIL'!$D$7 -> 104.7492 | F23: =(('[1]GX 600'!S23*'[1]MARK UP FOR RETAIL'!$D$10)*'[1]MARK UP FOR RETAIL'!$D$11)*'[1]MARK UP FOR RETAIL'!$D$7 -> 89.2944
A25: GX 600 PACKAGE
A27: INCLUDES AS STANDARD | G27: PACKAGE EXTRAS
A29: Double Dropped Doors | G29: Diamond shelf to length - 2 slat
A30: At least one double roof vent | G30: Diamond staging to length - 5 slat
A31: Two 5 blade louvre | G31: One Bayliss MK 7 auto roof vent opener
A32: Integral gutters | G32: Two automatic louvre opener
A33: Bar Capping | G33: Standard rainwater collection kit
G34: Grow Hooks (6)
A38: Size Length x Width | B38: Double Roof Vents | C38: Side Louvre | D38: Standard Door | E38: With Toughened Safety Glass | G38: POWDER COATED (extra)
A39: 4'5" x 6'3" | B39: 1 | C39: 2 | D39: Double Drop Door | E39: =((('[1]GX 600'!R39*'[1]MARK UP FOR RETAIL'!$D$14)*'[1]MARK UP FOR RETAIL'!$D$11)*'[1]MARK UP FOR RETAIL'!$D$5)+'[1]MARK UP FOR RETAIL'!$G$5 -> 1579.824 | G39: =(('[1]GX 600'!T39*'[1]MARK UP FOR RETAIL'!$D$14)*'[1]MARK UP FOR RETAIL'!$D$11)*'[1]MARK UP FOR RETAIL'!$D$5 -> 755.7624
A40: 6’5” x 6’3” | B40: 1 | C40: 2 | E40: =((('[1]GX 600'!R40*'[1]MARK UP FOR RETAIL'!$D$14)*'[1]MARK UP FOR RETAIL'!$D$11)*'[1]MARK UP FOR RETAIL'!$D$5)+'[1]MARK UP FOR RETAIL'!$G$5 -> 1737.8064 | G40: =(('[1]GX 600'!T40*'[1]MARK UP FOR RETAIL'!$D$14)*'[1]MARK UP FOR RETAIL'!$D$11)*'[1]MARK UP FOR RETAIL'!$D$5 -> 872.3052
A41: 8’5” x 6’3” | B41: 2 | C41: 2 | E41: =((('[1]GX 600'!R41*'[1]MARK UP FOR RETAIL'!$D$14)*'[1]MARK UP FOR RETAIL'!$D$11)*'[1]MARK UP FOR RETAIL'!$D$5)+'[1]MARK UP FOR RETAIL'!$G$5 -> 1907.8092 | G41: =(('[1]GX 600'!T41*'[1]MARK UP FOR RETAIL'!$D$14)*'[1]MARK UP FOR RETAIL'!$D$11)*'[1]MARK UP FOR RETAIL'!$D$5 -> 957.0636
A42: 10’5” x 6’3” | B42: 2 | C42: 2 | E42: =((('[1]GX 600'!R42*'[1]MARK UP FOR RETAIL'!$D$14)*'[1]MARK UP FOR RETAIL'!$D$11)*'[1]MARK UP FOR RETAIL'!$D$5)+'[1]MARK UP FOR RETAIL'!$G$5 -> 2234.0772 | G42: =(('[1]GX 600'!T42*'[1]MARK UP FOR RETAIL'!$D$14)*'[1]MARK UP FOR RETAIL'!$D$11)*'[1]MARK UP FOR RETAIL'!$D$5 -> 1038.2904
A43: 12’6” x 6’3” | B43: 2 | C43: 2 | E43: =((('[1]GX 600'!R43*'[1]MARK UP FOR RETAIL'!$D$14)*'[1]MARK UP FOR RETAIL'!$D$11)*'[1]MARK UP FOR RETAIL'!$D$5)+'[1]MARK UP FOR RETAIL'!$G$5 -> 2544.8904 | G43: =(('[1]GX 600'!T43*'[1]MARK UP FOR RETAIL'!$D$14)*'[1]MARK UP FOR RETAIL'!$D$11)*'[1]MARK UP FOR RETAIL'!$D$5 -> 1098.3276
A44: 14’6” x 6’3” | B44: 4 | C44: 2 | E44: =((('[1]GX 600'!R44*'[1]MARK UP FOR RETAIL'!$D$14)*'[1]MARK UP FOR RETAIL'!$D$11)*'[1]MARK UP FOR RETAIL'!$D$5)+'[1]MARK UP FOR RETAIL'!$G$5 -> 2893.482 | G44: =(('[1]GX 600'!T44*'[1]MARK UP FOR RETAIL'!$D$14)*'[1]MARK UP FOR RETAIL'!$D$11)*'[1]MARK UP FOR RETAIL'!$D$5 -> 1257.2496

Sheet TITAN 600
A1: TITAN 600 - 6'3" WIDE
A3: BASIC MODEL OPTIONS | E3: Aluminium frame, Integral base with drop door(s), and Bar Capping
A6: Size Length x Width | B6: Single Roof Vent | C6: 10 Blade Louvre | D6: Standard Door | E6: 4mm With Toughened Glass | G6: With 6mm Twin wall Polycarbonate | H6: Hybrid Panels (coloured) | J6: Powder Coated Options are extra
A7: 6’5” x 6’3” | B7: 1 | C7: 1 | D7: Double Drop Doors | E7: =((('[1]TITAN 600'!S7*'[1]MARK UP FOR RETAIL'!$D$9)*'[1]MARK UP FOR RETAIL'!$D$11)*'[1]MARK UP FOR RETAIL'!$D$5)+'[1]MARK UP FOR RETAIL'!$G$5 -> 1492.2468 | G7: =((('[1]TITAN 600'!U7*'[1]MARK UP FOR RETAIL'!$D$9)*'[1]MARK UP FOR RETAIL'!$D$11)*'[1]MARK UP FOR RETAIL'!$D$5)+'[1]MARK UP FOR RETAIL'!$G$5 -> 1890.6372 | H7: =('[1]TITAN 600'!V7*'[1]MARK UP FOR RETAIL'!$D$11)*'[1]MARK UP FOR RETAIL'!$D$5 -> 395.5392 | J7: =('[1]TITAN 600'!X7*'[1]MARK UP FOR RETAIL'!$D$11)*'[1]MARK UP FOR RETAIL'!$D$5 -> 690.4278
A8: 8’5” x 6’3” | B8: 2 | C8: 1 | E8: =((('[1]TITAN 600'!S8*'[1]MARK UP FOR RETAIL'!$D$9)*'[1]MARK UP FOR RETAIL'!$D$11)*'[1]MARK UP FOR RETAIL'!$D$5)+'[1]MARK UP FOR RETAIL'!$G$5 -> 1770.4332 | G8: =((('[1]TITAN 600'!U8*'[1]MARK UP FOR RETAIL'!$D$9)*'[1]MARK UP FOR RETAIL'!$D$11)*'[1]MARK UP FOR RETAIL'!$D$5)+'[1]MARK UP FOR RETAIL'!$G$5 -> 2249.532 | H8: =('[1]TITAN 600'!V8*'[1]MARK UP FOR RETAIL'!$D$11)*'[1]MARK UP FOR RETAIL'!$D$5 -> 462.672 | J8: =('[1]TITAN 600'!X8*'[1]MARK UP FOR RETAIL'!$D$11)*'[1]MARK UP FOR RETAIL'!$D$5 -> 794.61
A9: 10’5” x 6’3” | B9: 2 | C9: 1 | E9: =((('[1]TITAN 600'!S9*'[1]MARK UP FOR RETAIL'!$D$9)*'[1]MARK UP FOR RETAIL'!$D$11)*'[1]MARK UP FOR RETAIL'!$D$5)+'[1]MARK UP FOR RETAIL'!$G$5 -> 2021.1444 | G9: =((('[1]TITAN 600'!U9*'[1]MARK UP FOR RETAIL'!$D$9)*'[1]MARK UP FOR RETAIL'!$D$11)*'[1]MARK UP FOR RETAIL'!$D$5)+'[1]MARK UP FOR RETAIL'!$G$5 -> 2570.6484 | H9: =('[1]TITAN 600'!V9*'[1]MARK UP FOR RETAIL'!$D$11)*'[1]MARK UP FOR RETAIL'!$D$5 -> 533.4336 | J9: =('[1]TITAN 600'!X9*'[1]MARK UP FOR RETAIL'!$D$11)*'[1]MARK UP FOR RETAIL'!$D$5 -> 875.8368
A10: 12’6” x 6’3” | B10: 2 | C10: 1 | E10: =((('[1]TITAN 600'!S10*'[1]MARK UP FOR RETAIL'!$D$9)*'[1]MARK UP FOR RETAIL'!$D$11)*'[1]MARK UP FOR RETAIL'!$D$5)+'[1]MARK UP FOR RETAIL'!$G$5 -> 2254.6836 | G10: =((('[1]TITAN 600'!U10*'[1]MARK UP FOR RETAIL'!$D$9)*'[1]MARK UP FOR RETAIL'!$D$11)*'[1]MARK UP FOR RETAIL'!$D$5)+'[1]MARK UP FOR RETAIL'!$G$5 -> 2866.0068 | H10: =('[1]TITAN 600'!V10*'[1]MARK UP FOR RETAIL'!$D$11)*'[1]MARK UP FOR RETAIL'!$D$5 -> 607.824 | J10: =('[1]TITAN 600'!X10*'[1]MARK UP FOR RETAIL'!$D$11)*'[1]MARK UP FOR RETAIL'!$D$5 -> 950.0004
A11: 14’6” x 6’3” | B11: 4 | C11: 1 | E11: =((('[1]TITAN 600'!S11*'[1]MARK UP FOR RETAIL'!$D$9)*'[1]MARK UP FOR RETAIL'!$D$11)*'[1]MARK UP FOR RETAIL'!$D$5)+'[1]MARK UP FOR RETAIL'!$G$5 -> 2572.3656 | G11: =((('[1]TITAN 600'!U11*'[1]MARK UP FOR RETAIL'!$D$9)*'[1]MARK UP FOR RETAIL'!$D$11)*'[1]MARK UP FOR RETAIL'!$D$5)+'[1]MARK UP FOR RETAIL'!$G$5 -> 3264.3972 | H11: =('[1]TITAN 600'!V11*'[1]MARK UP FOR RETAIL'!$D$11)*'[1]MARK UP FOR RETAIL'!$D$5 -> 676.7712 | J11: =('[1]TITAN 600'!X11*'[1]MARK UP FOR RETAIL'!$D$11)*'[1]MARK UP FOR RETAIL'!$D$5 -> 1094.796
A12: 16’6” x 6’3” | B12: 4 | C12: 1 | E12: =((('[1]TITAN 600'!S12*'[1]MARK UP FOR RETAIL'!$D$9)*'[1]MARK UP FOR RETAIL'!$D$11)*'[1]MARK UP FOR RETAIL'!$D$5)+'[1]MARK UP FOR RETAIL'!$G$5 -> 2823.0768 | G12: =((('[1]TITAN 600'!U12*'[1]MARK UP FOR RETAIL'!$D$9)*'[1]MARK UP FOR RETAIL'!$D$11)*'[1]MARK UP FOR RETAIL'!$D$5)+'[1]MARK UP FOR RETAIL'!$G$5 -> 3583.7964 | H12: =('[1]TITAN 600'!V12*'[1]MARK UP FOR RETAIL'!$D$11)*'[1]MARK UP FOR RETAIL'!$D$5 -> 747.5328 | J12: =('[1]TITAN 600'!X12*'[1]MARK UP FOR RETAIL'!$D$11)*'[1]MARK UP FOR RETAIL'!$D$5 -> 1181.3202
A13: 18’6” x 6’3” | B13: 6 | C13: 1 | E13: =((('[1]TITAN 600'!S13*'[1]MARK UP FOR RETAIL'!$D$9)*'[1]MARK UP FOR RETAIL'!$D$11)*'[1]MARK UP FOR RETAIL'!$D$5)+'[1]MARK UP FOR RETAIL'!$G$5 -> 3123.5868 | G13: =((('[1]TITAN 600'!U13*'[1]MARK UP FOR RETAIL'!$D$9)*'[1]MARK UP FOR RETAIL'!$D$11)*'[1]MARK UP FOR RETAIL'!$D$5)+'[1]MARK UP FOR RETAIL'!$G$5 -> 3966.732 | H13: =('[1]TITAN 600'!V13*'[1]MARK UP FOR RETAIL'!$D$11)*'[1]MARK UP FOR RETAIL'!$D$5 -> 820.1088 | J13: =('[1]TITAN 600'!X13*'[1]MARK UP FOR RETAIL'!$D$11)*'[1]MARK UP FOR RETAIL'!$D$5 -> 1290.7998
A14: 20’6” x 6’3” | B14: 6 | C14: 1 | E14: =((('[1]TITAN 600'!S14*'[1]MARK UP FOR RETAIL'!$D$9)*'[1]MARK UP FOR RETAIL'!$D$11)*'[1]MARK UP FOR RETAIL'!$D$5)+'[1]MARK UP FOR RETAIL'!$G$5 -> 3367.4292 | G14: =((('[1]TITAN 600'!U14*'[1]MARK UP FOR RETAIL'!$D$9)*'[1]MARK UP FOR RETAIL'!$D$11)*'[1]MARK UP FOR RETAIL'!$D$5)+'[1]MARK UP FOR RETAIL'!$G$5 -> 4272.3936 | H14: =('[1]TITAN 600'!V14*'[1]MARK UP FOR RETAIL'!$D$11)*'[1]MARK UP FOR RETAIL'!$D$5 -> 896.3136 | J14: =('[1]TITAN 600'!X14*'[1]MARK UP FOR RETAIL'!$D$11)*'[1]MARK UP FOR RETAIL'!$D$5 -> 1375.5582
A15: Extra double door in the rear end | E15: =((('[1]TITAN 600'!S15*'[1]MARK UP FOR RETAIL'!$D$9)*'[1]MARK UP FOR RETAIL'!$D$11)*'[1]MARK UP FOR RETAIL'!$D$5) -> 286.7724 | G15: =((('[1]TITAN 600'!U15*'[1]MARK UP FOR RETAIL'!$D$9)*'[1]MARK UP FOR RETAIL'!$D$11)*'[1]MARK UP FOR RETAIL'!$D$5) -> 286.7724 | H15: / | J15: =('[1]TITAN 600'!X15*'[1]MARK UP FOR RETAIL'!$D$11)*'[1]MARK UP FOR RETAIL'!$D$5 -> 143.0298
A16: Partition with Double Door | E16: =(('[1]TITAN 600'!S16*'[1]MARK UP FOR RETAIL'!$D$9)*'[1]MARK UP FOR RETAIL'!$D$11)*'[1]MARK UP FOR RETAIL'!$D$5 -> 465.3612 | G16: =((('[1]TITAN 600'!U16*'[1]MARK UP FOR RETAIL'!$D$9)*'[1]MARK UP FOR RETAIL'!$D$11)*'[1]MARK UP FOR RETAIL'!$D$5) -> 480.816 | H16: =('[1]TITAN 600'!V16*'[1]MARK UP FOR RETAIL'!$D$11)*'[1]MARK UP FOR RETAIL'!$D$5 -> 70.7616 | J16: =('[1]TITAN 600'!X16*'[1]MARK UP FOR RETAIL'!$D$11)*'[1]MARK UP FOR RETAIL'!$D$5 -> 218.9592
A17: Soft Soil Support | E17: =((('[1]TITAN 600'!S17*'[1]MARK UP FOR RETAIL'!$D$10)*'[1]MARK UP FOR RETAIL'!$D$11)*'[1]MARK UP FOR RETAIL'!$D$7) -> 39.4956 | H17: / | J17: =('[1]TITAN 600'!X17*'[1]MARK UP FOR RETAIL'!$D$11)*'[1]MARK UP FOR RETAIL'!$D$5 -> 28.2528
A18: R-TYPE | E18: =(('[1]TITAN 600'!S18*'[1]MARK UP FOR RETAIL'!$D$9)*'[1]MARK UP FOR RETAIL'!$D$11)*'[1]MARK UP FOR RETAIL'!$D$5 -> -94.446 | G18: =('[1]TITAN 600'!U18*'[1]MARK UP FOR RETAIL'!$D$11)*'[1]MARK UP FOR RETAIL'!$D$5 -> -101.3148 | J18: =('[1]TITAN 600'!X18*'[1]MARK UP FOR RETAIL'!$D$11)*'[1]MARK UP FOR RETAIL'!$D$5 -> -26.487
A23: TITAN 600 PACKAGE
A25: INCLUDES AS STANDARD | G25: PACKAGE EXTRAS
A27: Integral aluminium base | G27: Diamond shelf to length - 2 slat
A28: Double Dropped Doors | G28: Diamond staging to length - 5 slat
A29: At least one roof vent | G29: One Bayliss MK 7 auto roof vent opener
A30: One 10 blade louvre | G30: One automatic louvre opener
A31: Bar Capping | G31: Standard rainwater collection kit
A32: Cantilevers on every bar | G32: Grow Hooks (6)
A33: Door Lock and handle
A36: Size Length x Width | B36: Single Roof Vents | C36: 10 Blade Louvre | D36: Standard Door | E36: With Toughened Glass | G36: Powder Coated Options are extra
A37: 6’5” x 6’3” | B37: 1 | C37: 1 | D37: Double Drop Doors | E37: =((('[1]TITAN 600'!S37*'[1]MARK UP FOR RETAIL'!$D$14)*'[1]MARK UP FOR RETAIL'!$D$11)*'[1]MARK UP FOR RETAIL'!$D$5)+'[1]MARK UP FOR RETAIL'!$G$5 -> 1770.4332 | G37: =(('[1]TITAN 600'!U37*'[1]MARK UP FOR RETAIL'!$D$14)*'[1]MARK UP FOR RETAIL'!$D$11)*'[1]MARK UP FOR RETAIL'!$D$5 -> 803.439
A38: 8’5” x 6’3” | B38: 2 | C38: 1 | E38: =((('[1]TITAN 600'!S38*'[1]MARK UP FOR RETAIL'!$D$14)*'[1]MARK UP FOR RETAIL'!$D$11)*'[1]MARK UP FOR RETAIL'!$D$5)+'[1]MARK UP FOR RETAIL'!$G$5 -> 2093.2668 | G38: =(('[1]TITAN 600'!U38*'[1]MARK UP FOR RETAIL'!$D$14)*'[1]MARK UP FOR RETAIL'!$D$11)*'[1]MARK UP FOR RETAIL'!$D$5 -> 944.703
A39: 10’5” x 6’3” | B39: 2 | C39: 1 | E39: =((('[1]TITAN 600'!S39*'[1]MARK UP FOR RETAIL'!$D$14)*'[1]MARK UP FOR RETAIL'!$D$11)*'[1]MARK UP FOR RETAIL'!$D$5)+'[1]MARK UP FOR RETAIL'!$G$5 -> 2397.2112 | G39: =(('[1]TITAN 600'!U39*'[1]MARK UP FOR RETAIL'!$D$14)*'[1]MARK UP FOR RETAIL'!$D$11)*'[1]MARK UP FOR RETAIL'!$D$5 -> 1071.8406
A40: 12’6” x 6’3” | B40: 2 | C40: 1 | E40: =((('[1]TITAN 600'!S40*'[1]MARK UP FOR RETAIL'!$D$14)*'[1]MARK UP FOR RETAIL'!$D$11)*'[1]MARK UP FOR RETAIL'!$D$5)+'[1]MARK UP FOR RETAIL'!$G$5 -> 2666.8116 | G40: =(('[1]TITAN 600'!U40*'[1]MARK UP FOR RETAIL'!$D$14)*'[1]MARK UP FOR RETAIL'!$D$11)*'[1]MARK UP FOR RETAIL'!$D$5 -> 1177.7886
A41: 14’6” x 6’3” | B41: 4 | C41: 1 | E41: =((('[1]TITAN 600'!S41*'[1]MARK UP FOR RETAIL'!$D$14)*'[1]MARK UP FOR RETAIL'!$D$11)*'[1]MARK UP FOR RETAIL'!$D$5)+'[1]MARK UP FOR RETAIL'!$G$5 -> 3029.1408 | G41: =(('[1]TITAN 600'!U41*'[1]MARK UP FOR RETAIL'!$D$14)*'[1]MARK UP FOR RETAIL'!$D$11)*'[1]MARK UP FOR RETAIL'!$D$5 -> 1361.4318

Sheet SANCTUARY 6
A1: SANCTUARY 6 - 6'3" WIDE
A3: BASIC MODEL OPTIONS | F3: Aluminium frame, Integral base with drop door(s), and Bar Capping
A6: Size Length x Width | B6: Single Roof Vent | C6: Auto Roof Vent Opener | D6: 5 Blade Louvre | E6: Standard Door | F6: 4mm With Toughened Glass | I6: Hybrid Panels | K6: POWDER COATED (extra)
A7: 6’5” x 6’3” | B7: 1 | C7: 1 | D7: 2 | E7: Double Drop Doors | F7: =((('[1]SANCTUARY 6'!T7*'[1]MARK UP FOR RETAIL'!$D$9)*'[1]MARK UP FOR RETAIL'!$D$11)*'[1]MARK UP FOR RETAIL'!$D$5)+'[1]MARK UP FOR RETAIL'!$G$5 -> 1806.4429 | I7: =('[1]SANCTUARY 6'!W7*'[1]MARK UP FOR RETAIL'!$D$11)*'[1]MARK UP FOR RETAIL'!$D$5 -> 395.5392 | K7: =('[1]SANCTUARY 6'!Y7*'[1]MARK UP FOR RETAIL'!$D$11)*'[1]MARK UP FOR RETAIL'!$D$5 -> 957.91118
A8: 8’5” x 6’3” | B8: 2 | C8: 2 | D8: 2 | F8: =((('[1]SANCTUARY 6'!T8*'[1]MARK UP FOR RETAIL'!$D$9)*'[1]MARK UP FOR RETAIL'!$D$11)*'[1]MARK UP FOR RETAIL'!$D$5)+'[1]MARK UP FOR RETAIL'!$G$5 -> 2103.1579 | I8: =('[1]SANCTUARY 6'!W8*'[1]MARK UP FOR RETAIL'!$D$11)*'[1]MARK UP FOR RETAIL'!$D$5 -> 462.672 | K8: =('[1]SANCTUARY 6'!Y8*'[1]MARK UP FOR RETAIL'!$D$11)*'[1]MARK UP FOR RETAIL'!$D$5 -> 1094.3016
A9: 10’5” x 6’3” | B9: 2 | C9: 2 | D9: 2 | F9: =((('[1]SANCTUARY 6'!T9*'[1]MARK UP FOR RETAIL'!$D$9)*'[1]MARK UP FOR RETAIL'!$D$11)*'[1]MARK UP FOR RETAIL'!$D$5)+'[1]MARK UP FOR RETAIL'!$G$5 -> 2370.6805 | I9: =('[1]SANCTUARY 6'!W9*'[1]MARK UP FOR RETAIL'!$D$11)*'[1]MARK UP FOR RETAIL'!$D$5 -> 533.4336 | K9: =('[1]SANCTUARY 6'!Y9*'[1]MARK UP FOR RETAIL'!$D$11)*'[1]MARK UP FOR RETAIL'!$D$5 -> 1212.4159
A10: 12’6” x 6’3” | B10: 2 | C10: 2 | D10: 2 | F10: =((('[1]SANCTUARY 6'!T10*'[1]MARK UP FOR RETAIL'!$D$9)*'[1]MARK UP FOR RETAIL'!$D$11)*'[1]MARK UP FOR RETAIL'!$D$5)+'[1]MARK UP FOR RETAIL'!$G$5 -> 2655.8215 | I10: =('[1]SANCTUARY 6'!W10*'[1]MARK UP FOR RETAIL'!$D$11)*'[1]MARK UP FOR RETAIL'!$D$5 -> 607.824 | K10: =('[1]SANCTUARY 6'!Y10*'[1]MARK UP FOR RETAIL'!$D$11)*'[1]MARK UP FOR RETAIL'!$D$5 -> 1330.7775
A11: 14’6” x 6’3” | B11: 4 | C11: 4 | D11: 2 | F11: =((('[1]SANCTUARY 6'!T11*'[1]MARK UP FOR RETAIL'!$D$9)*'[1]MARK UP FOR RETAIL'!$D$11)*'[1]MARK UP FOR RETAIL'!$D$5)+'[1]MARK UP FOR RETAIL'!$G$5 -> 3011.9516 | I11: =('[1]SANCTUARY 6'!W11*'[1]MARK UP FOR RETAIL'!$D$11)*'[1]MARK UP FOR RETAIL'!$D$5 -> 676.7712 | K11: =('[1]SANCTUARY 6'!Y11*'[1]MARK UP FOR RETAIL'!$D$11)*'[1]MARK UP FOR RETAIL'!$D$5 -> 1496.9746
A12: 16’6” x 6’3” | B12: 4 | C12: 4 | D12: 2 | F12: =((('[1]SANCTUARY 6'!T12*'[1]MARK UP FOR RETAIL'!$D$9)*'[1]MARK UP FOR RETAIL'!$D$11)*'[1]MARK UP FOR RETAIL'!$D$5)+'[1]MARK UP FOR RETAIL'!$G$5 -> 3345.5177 | I12: =('[1]SANCTUARY 6'!W12*'[1]MARK UP FOR RETAIL'!$D$11)*'[1]MARK UP FOR RETAIL'!$D$5 -> 747.5328 | K12: =('[1]SANCTUARY 6'!Y12*'[1]MARK UP FOR RETAIL'!$D$11)*'[1]MARK UP FOR RETAIL'!$D$5 -> 1621.5165
A13: 18’6” x 6’3” | B13: 6 | C13: 6 | D13: 2 | F13: =((('[1]SANCTUARY 6'!T13*'[1]MARK UP FOR RETAIL'!$D$9)*'[1]MARK UP FOR RETAIL'!$D$11)*'[1]MARK UP FOR RETAIL'!$D$5)+'[1]MARK UP FOR RETAIL'!$G$5 -> 3752.3396 | I13: =('[1]SANCTUARY 6'!W13*'[1]MARK UP FOR RETAIL'!$D$11)*'[1]MARK UP FOR RETAIL'!$D$5 -> 820.1088 | K13: =('[1]SANCTUARY 6'!Y13*'[1]MARK UP FOR RETAIL'!$D$11)*'[1]MARK UP FOR RETAIL'!$D$5 -> 1776.0593
A14: 20’6” x 6’3” | B14: 6 | C14: 6 | D14: 2 | F14: =((('[1]SANCTUARY 6'!T14*'[1]MARK UP FOR RETAIL'!$D$9)*'[1]MARK UP FOR RETAIL'!$D$11)*'[1]MARK UP FOR RETAIL'!$D$5)+'[1]MARK UP FOR RETAIL'!$G$5 -> 4030.4573 | I14: =('[1]SANCTUARY 6'!W14*'[1]MARK UP FOR RETAIL'!$D$11)*'[1]MARK UP FOR RETAIL'!$D$5 -> 896.3136 | K14: =('[1]SANCTUARY 6'!Y14*'[1]MARK UP FOR RETAIL'!$D$11)*'[1]MARK UP FOR RETAIL'!$D$5 -> 1894.2973
A15: Extra double doors | F15: =((('[1]SANCTUARY 6'!T15*'[1]MARK UP FOR RETAIL'!$D$9)*'[1]MARK UP FOR RETAIL'!$D$11)*'[1]MARK UP FOR RETAIL'!$D$5) -> 303.9444 | I15: / | K15: =('[1]SANCTUARY 6'!Y15*'[1]MARK UP FOR RETAIL'!$D$11)*'[1]MARK UP FOR RETAIL'!$D$5 -> 160.6878
A16: Partition with Double Door | F16: =((('[1]SANCTUARY 6'!T16*'[1]MARK UP FOR RETAIL'!$D$9)*'[1]MARK UP FOR RETAIL'!$D$11)*'[1]MARK UP FOR RETAIL'!$D$5) -> 536.38459 | I16: =('[1]SANCTUARY 6'!W16*'[1]MARK UP FOR RETAIL'!$D$11)*'[1]MARK UP FOR RETAIL'!$D$5 -> 70.7616 | K16: =('[1]SANCTUARY 6'!Y16*'[1]MARK UP FOR RETAIL'!$D$11)*'[1]MARK UP FOR RETAIL'!$D$5 -> 242.88579
A17: Soft Soil Support on the Apex | F17: =((('[1]SANCTUARY 6'!T17*'[1]MARK UP FOR RETAIL'!$D$9)*'[1]MARK UP FOR RETAIL'!$D$11)*'[1]MARK UP FOR RETAIL'!$D$5) -> 39.4956 | I17: / | K17: =('[1]SANCTUARY 6'!Y17*'[1]MARK UP FOR RETAIL'!$D$11)*'[1]MARK UP FOR RETAIL'!$D$5 -> 28.2528
A18: Soft Soil Support on the Length - please check with the office
A20: SANCTUARY 6 PACKAGE
A22: INCLUDES AS STANDARD | H22: PACKAGE EXTRAS
A24: Integral aluminium base | H24: Diamond shelf to length - 2 slat
A25: Double Dropped Doors | H25: Diamond staging to length - 5 slat
A26: At least one roof vent | H26: One automatic louvre opener
A27: Auto roof vent on every vent | H27: Standard rainwater collection kit
A28: Two 5 blade louvre | H28: Grow Hooks (6)
A29: Bar Capping
A30: Cantilevers on every bar
A31: Door Lock and handle
A33: Size Length x Width | B33: Single Roof Vents | C33: Auto Roof Vent Opener | D33: 5 Blade Louvre | E33: Standard Door | F33: With 4mm Toughened Glass | H33: POWDER COATED (Extra)
A34: 6’5” x 6’3” | B34: 1 | C34: 1 | D34: 2 | E34: Double Drop Doors | F34: =((('[1]SANCTUARY 6'!T34*'[1]MARK UP FOR RETAIL'!$D$14)*'[1]MARK UP FOR RETAIL'!$D$11)*'[1]MARK UP FOR RETAIL'!$D$5)+'[1]MARK UP FOR RETAIL'!$G$5 -> 2042.0771 | H34: =(('[1]SANCTUARY 6'!V34*'[1]MARK UP FOR RETAIL'!$D$14)*'[1]MARK UP FOR RETAIL'!$D$11)*'[1]MARK UP FOR RETAIL'!$D$5 -> 1072.5469
A35: 8’5” x 6’3” | B35: 2 | C35: 2 | D35: 2 | F35: =((('[1]SANCTUARY 6'!T35*'[1]MARK UP FOR RETAIL'!$D$14)*'[1]MARK UP FOR RETAIL'!$D$11)*'[1]MARK UP FOR RETAIL'!$D$5)+'[1]MARK UP FOR RETAIL'!$G$5 -> 2387.2686 | H35: =(('[1]SANCTUARY 6'!V35*'[1]MARK UP FOR RETAIL'!$D$14)*'[1]MARK UP FOR RETAIL'!$D$11)*'[1]MARK UP FOR RETAIL'!$D$5 -> 1245.8602
A36: 10’5” x 6’3” | B36: 2 | C36: 2 | D36: 2 | F36: =((('[1]SANCTUARY 6'!T36*'[1]MARK UP FOR RETAIL'!$D$14)*'[1]MARK UP FOR RETAIL'!$D$11)*'[1]MARK UP FOR RETAIL'!$D$5)+'[1]MARK UP FOR RETAIL'!$G$5 -> 2719.2377 | H36: =(('[1]SANCTUARY 6'!V36*'[1]MARK UP FOR RETAIL'!$D$14)*'[1]MARK UP FOR RETAIL'!$D$11)*'[1]MARK UP FOR RETAIL'!$D$5 -> 1411.0508
A37: 12’6” x 6’3” | B37: 2 | C37: 2 | D37: 2 | F37: =((('[1]SANCTUARY 6'!T37*'[1]MARK UP FOR RETAIL'!$D$14)*'[1]MARK UP FOR RETAIL'!$D$11)*'[1]MARK UP FOR RETAIL'!$D$5)+'[1]MARK UP FOR RETAIL'!$G$5 -> 3043.4107 | H37: =(('[1]SANCTUARY 6'!V37*'[1]MARK UP FOR RETAIL'!$D$14)*'[1]MARK UP FOR RETAIL'!$D$11)*'[1]MARK UP FOR RETAIL'!$D$5 -> 1560.049
A38: 14’6” x 6’3” | B38: 4 | C38: 4 | D38: 2 | F38: =((('[1]SANCTUARY 6'!T38*'[1]MARK UP FOR RETAIL'!$D$14)*'[1]MARK UP FOR RETAIL'!$D$11)*'[1]MARK UP FOR RETAIL'!$D$5)+'[1]MARK UP FOR RETAIL'!$G$5 -> 3448.0174 | H38: =(('[1]SANCTUARY 6'!V38*'[1]MARK UP FOR RETAIL'!$D$14)*'[1]MARK UP FOR RETAIL'!$D$11)*'[1]MARK UP FOR RETAIL'!$D$5 -> 1763.169
A56: The above image demonstrates a 10' (Nominal) Sanctuary
A57: The double doors has been placed in bay 3 and 4 on the Length AND in the Width
A58: (1 set of double doors are standard - extra can be added)
A59: The double door can go in any bay providing each door has a bay to open on to
A60: * Drawing not to scale or specification.

Sheet THE EDGE 600
A1: THE EDGE 600 - 6'3" WIDE
A3: BASIC MODEL OPTIONS
E4: Aluminium frame Integral Base with drop door(s)
A6: Size Length x Width | B6: Single Front Vent | C6: 5 Blade Louvre | D6: Standard Door | E6: 4mm Toughened Safety Glass | F6: 6mm Twin Wall Polycarbonate | H6: POWDER COATED (extra)
A7: 8’5” x 6’3” | B7: 2 | C7: 1 | D7: Double Drop Doors on the Length | E7: =((('[1]THE EDGE 600'!P7*'[1]MARK UP FOR RETAIL'!$D$11)*'[1]MARK UP FOR RETAIL'!$D$9)*'[1]MARK UP FOR RETAIL'!$D$5)+'[1]MARK UP FOR RETAIL'!$G$5 -> 1971.3456 | F7: =((('[1]THE EDGE 600'!Q7*'[1]MARK UP FOR RETAIL'!$D$11)*'[1]MARK UP FOR RETAIL'!$D$9)*'[1]MARK UP FOR RETAIL'!$D$5)+'[1]MARK UP FOR RETAIL'!$G$5 -> 2266.704 | H7: =('[1]THE EDGE 600'!S7*'[1]MARK UP FOR RETAIL'!$D$11)*'[1]MARK UP FOR RETAIL'!$D$5 -> 769.8888
A8: 10’5” x 6’3” | B8: 2 | C8: 1 | E8: =((('[1]THE EDGE 600'!P8*'[1]MARK UP FOR RETAIL'!$D$11)*'[1]MARK UP FOR RETAIL'!$D$9)*'[1]MARK UP FOR RETAIL'!$D$5)+'[1]MARK UP FOR RETAIL'!$G$5 -> 2254.6836 | F8: =((('[1]THE EDGE 600'!Q8*'[1]MARK UP FOR RETAIL'!$D$11)*'[1]MARK UP FOR RETAIL'!$D$9)*'[1]MARK UP FOR RETAIL'!$D$5)+'[1]MARK UP FOR RETAIL'!$G$5 -> 2592.972 | H8: =('[1]THE EDGE 600'!S8*'[1]MARK UP FOR RETAIL'!$D$11)*'[1]MARK UP FOR RETAIL'!$D$5 -> 861.7104
A9: 12’6” x 6’3” | B9: 2 | C9: 1 | E9: =((('[1]THE EDGE 600'!P9*'[1]MARK UP FOR RETAIL'!$D$11)*'[1]MARK UP FOR RETAIL'!$D$9)*'[1]MARK UP FOR RETAIL'!$D$5)+'[1]MARK UP FOR RETAIL'!$G$5 -> 2539.7388 | F9: =((('[1]THE EDGE 600'!Q9*'[1]MARK UP FOR RETAIL'!$D$11)*'[1]MARK UP FOR RETAIL'!$D$9)*'[1]MARK UP FOR RETAIL'!$D$5)+'[1]MARK UP FOR RETAIL'!$G$5 -> 2919.24 | H9: =('[1]THE EDGE 600'!S9*'[1]MARK UP FOR RETAIL'!$D$11)*'[1]MARK UP FOR RETAIL'!$D$5 -> 957.0636
A10: 14’6” x 6’3” | B10: 2 | C10: 1 | E10: =((('[1]THE EDGE 600'!P10*'[1]MARK UP FOR RETAIL'!$D$11)*'[1]MARK UP FOR RETAIL'!$D$9)*'[1]MARK UP FOR RETAIL'!$D$5)+'[1]MARK UP FOR RETAIL'!$G$5 -> 2823.0768 | F10: =((('[1]THE EDGE 600'!Q10*'[1]MARK UP FOR RETAIL'!$D$11)*'[1]MARK UP FOR RETAIL'!$D$9)*'[1]MARK UP FOR RETAIL'!$D$5)+'[1]MARK UP FOR RETAIL'!$G$5 -> 3245.508 | H10: =('[1]THE EDGE 600'!S10*'[1]MARK UP FOR RETAIL'!$D$11)*'[1]MARK UP FOR RETAIL'!$D$5 -> 1066.5432
A11: 16’6” x 6’3” | B11: 2 | C11: 1 | E11: =((('[1]THE EDGE 600'!P11*'[1]MARK UP FOR RETAIL'!$D$11)*'[1]MARK UP FOR RETAIL'!$D$9)*'[1]MARK UP FOR RETAIL'!$D$5)+'[1]MARK UP FOR RETAIL'!$G$5 -> 3106.4148 | F11: =((('[1]THE EDGE 600'!Q11*'[1]MARK UP FOR RETAIL'!$D$11)*'[1]MARK UP FOR RETAIL'!$D$9)*'[1]MARK UP FOR RETAIL'!$D$5)+'[1]MARK UP FOR RETAIL'!$G$5 -> 3571.776 | H11: =('[1]THE EDGE 600'!S11*'[1]MARK UP FOR RETAIL'!$D$11)*'[1]MARK UP FOR RETAIL'!$D$5 -> 1158.3648
A12: 18’6” x 6’3” | B12: 2 | C12: 1 | E12: =((('[1]THE EDGE 600'!P12*'[1]MARK UP FOR RETAIL'!$D$11)*'[1]MARK UP FOR RETAIL'!$D$9)*'[1]MARK UP FOR RETAIL'!$D$5)+'[1]MARK UP FOR RETAIL'!$G$5 -> 3394.9044 | F12: =((('[1]THE EDGE 600'!Q12*'[1]MARK UP FOR RETAIL'!$D$11)*'[1]MARK UP FOR RETAIL'!$D$9)*'[1]MARK UP FOR RETAIL'!$D$5)+'[1]MARK UP FOR RETAIL'!$G$5 -> 3903.1956 | H12: =('[1]THE EDGE 600'!S12*'[1]MARK UP FOR RETAIL'!$D$11)*'[1]MARK UP FOR RETAIL'!$D$5 -> 1264.3128
A13: 20’6” x 6’3” | B13: 2 | C13: 1 | E13: =((('[1]THE EDGE 600'!P13*'[1]MARK UP FOR RETAIL'!$D$11)*'[1]MARK UP FOR RETAIL'!$D$9)*'[1]MARK UP FOR RETAIL'!$D$5)+'[1]MARK UP FOR RETAIL'!$G$5 -> 3698.8488 | F13: =((('[1]THE EDGE 600'!Q13*'[1]MARK UP FOR RETAIL'!$D$11)*'[1]MARK UP FOR RETAIL'!$D$9)*'[1]MARK UP FOR RETAIL'!$D$5)+'[1]MARK UP FOR RETAIL'!$G$5 -> 4251.7872 | H13: =('[1]THE EDGE 600'!S13*'[1]MARK UP FOR RETAIL'!$D$11)*'[1]MARK UP FOR RETAIL'!$D$5 -> 1359.666
A14: Extra double doors | E14: =(('[1]THE EDGE 600'!P14*'[1]MARK UP FOR RETAIL'!$D$11)*'[1]MARK UP FOR RETAIL'!$D$9)*'[1]MARK UP FOR RETAIL'!$D$5 -> 298.7928 | H14: =('[1]THE EDGE 600'!S14*'[1]MARK UP FOR RETAIL'!$D$11)*'[1]MARK UP FOR RETAIL'!$D$5 -> 151.8588
A18: THE EDGE 600 comes as standard with:
A21: Unlimited lengths available from 8'
A22: Titan heavy duty bar throughout
A23: 4mm thick Toughened Saftety Glass throughout
A24: Bar Capping
A25: Two Hinge Roof Vents (Additional hinge vents can not be purchased)
A26: One 5 Blade Louvre
A27: Double Doors on the Length
A28: Low Threshold with Cambered Cill
A30: Please advise door position when ordering The Edge
A54: The above image demonstrates a 12'x6' (Nominal) Edge 600
A55: The double doors has been placed in bay 3 and 4
... A57: * Drawing not to scale or specification.

Sheet  6' FEATURED DWARF WALL
A1: 6'3" FEATURED DWARF WALL
A4: BASIC MODEL OPTIONS
E5: Aluminium Frame
A7: Size Length x Width | B7: Roof Vents | D7: Standard Door | E7: With Toughened Safety Glass | H7: Bar Capping (TG only) | J7: Powder Coated Options are extra
A8: 4’4” x 6’3” | B8: 1 | D8: Single Drop Door | E8: =((('[1]6'' FEATURED DWARF WALL'!R8*'[1]MARK UP FOR RETAIL'!$D$9)*'[1]MARK UP FOR RETAIL'!$D$11)*'[1]MARK UP FOR RETAIL'!$D$5)+'[1]MARK UP FOR RETAIL'!$G$5 -> 843.1452 | H8: =(('[1]6'' FEATURED DWARF WALL'!U8*'[1]MARK UP FOR RETAIL'!$D$10)*'[1]MARK UP FOR RETAIL'!$D$11)*'[1]MARK UP FOR RETAIL'!$D$7 -> 109.9008 | J8: =('[1]6'' FEATURED DWARF WALL'!W8*'[1]MARK UP FOR RETAIL'!$D$11)*'[1]MARK UP FOR RETAIL'!$D$5 -> 233.0856
A9: 6’4” x 6’3” | B9: 1 | E9: =((('[1]6'' FEATURED DWARF WALL'!R9*'[1]MARK UP FOR RETAIL'!$D$9)*'[1]MARK UP FOR RETAIL'!$D$11)*'[1]MARK UP FOR RETAIL'!$D$5)+'[1]MARK UP FOR RETAIL'!$G$5 -> 944.46 | H9: =(('[1]6'' FEATURED DWARF WALL'!U9*'[1]MARK UP FOR RETAIL'!$D$10)*'[1]MARK UP FOR RETAIL'!$D$11)*'[1]MARK UP FOR RETAIL'!$D$7 -> 130.5072 | J9: =('[1]6'' FEATURED DWARF WALL'!W9*'[1]MARK UP FOR RETAIL'!$D$11)*'[1]MARK UP FOR RETAIL'!$D$5 -> 277.2306
A10: 8’5” x 6’3” | B10: 1 | E10: =((('[1]6'' FEATURED DWARF WALL'!R10*'[1]MARK UP FOR RETAIL'!$D$9)*'[1]MARK UP FOR RETAIL'!$D$11)*'[1]MARK UP FOR RETAIL'!$D$5)+'[1]MARK UP FOR RETAIL'!$G$5 -> 1056.078 | H10: =(('[1]6'' FEATURED DWARF WALL'!U10*'[1]MARK UP FOR RETAIL'!$D$10)*'[1]MARK UP FOR RETAIL'!$D$11)*'[1]MARK UP FOR RETAIL'!$D$7 -> 145.962 | J10: =('[1]6'' FEATURED DWARF WALL'!W10*'[1]MARK UP FOR RETAIL'!$D$11)*'[1]MARK UP FOR RETAIL'!$D$5 -> 333.7362
A11: 10’5” x 6’3” | B11: 2 | E11: =((('[1]6'' FEATURED DWARF WALL'!R11*'[1]MARK UP FOR RETAIL'!$D$9)*'[1]MARK UP FOR RETAIL'!$D$11)*'[1]MARK UP FOR RETAIL'!$D$5)+'[1]MARK UP FOR RETAIL'!$G$5 -> 1246.6872 | H11: =(('[1]6'' FEATURED DWARF WALL'!U11*'[1]MARK UP FOR RETAIL'!$D$10)*'[1]MARK UP FOR RETAIL'!$D$11)*'[1]MARK UP FOR RETAIL'!$D$7 -> 164.8512 | J11: =('[1]6'' FEATURED DWARF WALL'!W11*'[1]MARK UP FOR RETAIL'!$D$11)*'[1]MARK UP FOR RETAIL'!$D$5 -> 413.1972
A12: 12’6” x 6’3” | B12: 2 | E12: =((('[1]6'' FEATURED DWARF WALL'!R12*'[1]MARK UP FOR RETAIL'!$D$9)*'[1]MARK UP FOR RETAIL'!$D$11)*'[1]MARK UP FOR RETAIL'!$D$5)+'[1]MARK UP FOR RETAIL'!$G$5 -> 1449.3168 | H12: =(('[1]6'' FEATURED DWARF WALL'!U12*'[1]MARK UP FOR RETAIL'!$D$10)*'[1]MARK UP FOR RETAIL'!$D$11)*'[1]MARK UP FOR RETAIL'!$D$7 -> 178.5888 | J12: =('[1]6'' FEATURED DWARF WALL'!W12*'[1]MARK UP FOR RETAIL'!$D$11)*'[1]MARK UP FOR RETAIL'!$D$5 -> 527.9742
A13: 14’6” x 6’3” | B13: 3 | E13: =((('[1]6'' FEATURED DWARF WALL'!R13*'[1]MARK UP FOR RETAIL'!$D$9)*'[1]MARK UP FOR RETAIL'!$D$11)*'[1]MARK UP FOR RETAIL'!$D$5)+'[1]MARK UP FOR RETAIL'!$G$5 -> 1662.2496 | H13: =(('[1]6'' FEATURED DWARF WALL'!U13*'[1]MARK UP FOR RETAIL'!$D$10)*'[1]MARK UP FOR RETAIL'!$D$11)*'[1]MARK UP FOR RETAIL'!$D$7 -> 194.0436 | J13: =('[1]6'' FEATURED DWARF WALL'!W13*'[1]MARK UP FOR RETAIL'!$D$11)*'[1]MARK UP FOR RETAIL'!$D$5 -> 639.2196
A14: 16’6” x 6’3” | B14: 3 | E14: =((('[1]6'' FEATURED DWARF WALL'!R14*'[1]MARK UP FOR RETAIL'!$D$9)*'[1]MARK UP FOR RETAIL'!$D$11)*'[1]MARK UP FOR RETAIL'!$D$5)+'[1]MARK UP FOR RETAIL'!$G$5 -> 1876.8996 | H14: =(('[1]6'' FEATURED DWARF WALL'!U14*'[1]MARK UP FOR RETAIL'!$D$10)*'[1]MARK UP FOR RETAIL'!$D$11)*'[1]MARK UP FOR RETAIL'!$D$7 -> 211.2156 | J14: =('[1]6'' FEATURED DWARF WALL'!W14*'[1]MARK UP FOR RETAIL'!$D$11)*'[1]MARK UP FOR RETAIL'!$D$5 -> 750.465
A15: 18’6” x 6’3” | B15: 4 | E15: =((('[1]6'' FEATURED DWARF WALL'!R15*'[1]MARK UP FOR RETAIL'!$D$9)*'[1]MARK UP FOR RETAIL'!$D$11)*'[1]MARK UP FOR RETAIL'!$D$5)+'[1]MARK UP FOR RETAIL'!$G$5 -> 2100.1356 | H15: =(('[1]6'' FEATURED DWARF WALL'!U15*'[1]MARK UP FOR RETAIL'!$D$10)*'[1]MARK UP FOR RETAIL'!$D$11)*'[1]MARK UP FOR RETAIL'!$D$7 -> 223.236 | J15: =('[1]6'' FEATURED DWARF WALL'!W15*'[1]MARK UP FOR RETAIL'!$D$11)*'[1]MARK UP FOR RETAIL'!$D$5 -> 902.3238
A16: 20’6” x 6’3” | B16: 4 | E16: =((('[1]6'' FEATURED DWARF WALL'!R16*'[1]MARK UP FOR RETAIL'!$D$9)*'[1]MARK UP FOR RETAIL'!$D$11)*'[1]MARK UP FOR RETAIL'!$D$5)+'[1]MARK UP FOR RETAIL'!$G$5 -> 2357.7156 | H16: =(('[1]6'' FEATURED DWARF WALL'!U16*'[1]MARK UP FOR RETAIL'!$D$10)*'[1]MARK UP FOR RETAIL'!$D$11)*'[1]MARK UP FOR RETAIL'!$D$7 -> 242.1252 | J16: =('[1]6'' FEATURED DWARF WALL'!W16*'[1]MARK UP FOR RETAIL'!$D$11)*'[1]MARK UP FOR RETAIL'!$D$5 -> 1047.1194
A17: Partition with Double Door | E17: =((('[1]6'' FEATURED DWARF WALL'!R17*'[1]MARK UP FOR RETAIL'!$D$9)*'[1]MARK UP FOR RETAIL'!$D$11)*'[1]MARK UP FOR RETAIL'!$D$5) -> 340.0056 | H17: =(('[1]6'' FEATURED DWARF WALL'!U17*'[1]MARK UP FOR RETAIL'!$D$10)*'[1]MARK UP FOR RETAIL'!$D$11)*'[1]MARK UP FOR RETAIL'!$D$7 -> 48.0816 | J17: =('[1]6'' FEATURED DWARF WALL'!W17*'[1]MARK UP FOR RETAIL'!$D$11)*'[1]MARK UP FOR RETAIL'!$D$5 -> 125.3718
A18: R-TYPE | E18: =((('[1]6'' FEATURED DWARF WALL'!R18*'[1]MARK UP FOR RETAIL'!$D$9)*'[1]MARK UP FOR RETAIL'!$D$11)*'[1]MARK UP FOR RETAIL'!$D$5) -> -85.86 | H18: =(('[1]6'' FEATURED DWARF WALL'!U18*'[1]MARK UP FOR RETAIL'!$D$10)*'[1]MARK UP FOR RETAIL'!$D$11)*'[1]MARK UP FOR RETAIL'!$D$7 -> -15.4548 | J18: =('[1]6'' FEATURED DWARF WALL'!W18*'[1]MARK UP FOR RETAIL'!$D$11)*'[1]MARK UP FOR RETAIL'!$D$5 -> -42.3792
A20: WIDTH | C20: 1912 mm | F20: The 6'3" wide featured Dwarf Wall is where the eaves height is part brickwork and the remainder aluminium and glazing. The greenhouse fits into a dwarf wall height of 762mm and the single door is then dropped into the wall opening to create a low threshold access
A21: DOOR WIDTH | C21: 644 mm
A22: BRICK WALL HEIGHT | C22: 762 mm
A23: EAVES HEIGHT | C23: 1492 mm
A24: RIDGE HEIGHT | C24: 2515 mm
A30: ANY GREENHOUSE CAN BE CUSTOMISED TO GO ON A DWARF WALL
A31: You specify your precise brick and eaves height. Elite adjust the greenhouse or lean-to from our comprehensive range to your exact requirements. Please note: The width or pitch of the roof cannot be altered. Elite will supply a detailed base plan upon receipt of order. Please contact the office for a price

Sheet THYME 6
A1: THYME 6 - 6'3" WIDE
A3: BASIC MODEL OPTIONS
E4: INTEGRAL BASE
A6: Size Length x Width | B6: Roof Vents | C6: Side Louvre | D6: Standard Door | E6: With Toughened Safety Glass | F6: With 6mm Twin wall Polycarbonate | G6: Bar Capping | H6: Hybrid Panels (coloured) | J6: Powder Coated Options are extra
A7: 4'5" x 6'3" | B7: 1 | C7: 2 | D7: Double Drop Doors | E7: =((('[1]THYME 6'!AD7*'[1]MARK UP FOR RETAIL'!$D$9)*'[1]MARK UP FOR RETAIL'!$D$11)*'[1]MARK UP FOR RETAIL'!$D$5)+'[1]MARK UP FOR RETAIL'!$G$5 -> 1177.9992 | F7: =((('[1]THYME 6'!AE7*'[1]MARK UP FOR RETAIL'!$D$9)*'[1]MARK UP FOR RETAIL'!$D$11)*'[1]MARK UP FOR RETAIL'!$D$5)+'[1]MARK UP FOR RETAIL'!$G$5 -> 1452.7512 | G7: =((('[1]THYME 6'!AF7*'[1]MARK UP FOR RETAIL'!$D$9)*'[1]MARK UP FOR RETAIL'!$D$11)*'[1]MARK UP FOR RETAIL'!$D$5) -> 202.6296 | H7: =((('[1]THYME 6'!AG7*'[1]MARK UP FOR RETAIL'!$D$9)*'[1]MARK UP FOR RETAIL'!$D$11)*'[1]MARK UP FOR RETAIL'!$D$5) -> 395.5392 | J7: =((('[1]THYME 6'!AI7*'[1]MARK UP FOR RETAIL'!$D$9)*'[1]MARK UP FOR RETAIL'!$D$11)*'[1]MARK UP FOR RETAIL'!$D$5) -> 723.978
A8: 6’5” x 6’3” | B8: 1 | C8: 2 | E8: =((('[1]THYME 6'!AD8*'[1]MARK UP FOR RETAIL'!$D$9)*'[1]MARK UP FOR RETAIL'!$D$11)*'[1]MARK UP FOR RETAIL'!$D$5)+'[1]MARK UP FOR RETAIL'!$G$5 -> 1354.8708 | F8: =((('[1]THYME 6'!AE8*'[1]MARK UP FOR RETAIL'!$D$9)*'[1]MARK UP FOR RETAIL'!$D$11)*'[1]MARK UP FOR RETAIL'!$D$5)+'[1]MARK UP FOR RETAIL'!$G$5 -> 1691.442 | G8: =((('[1]THYME 6'!AF8*'[1]MARK UP FOR RETAIL'!$D$9)*'[1]MARK UP FOR RETAIL'!$D$11)*'[1]MARK UP FOR RETAIL'!$D$5) -> 240.408 | H8: =((('[1]THYME 6'!AG8*'[1]MARK UP FOR RETAIL'!$D$9)*'[1]MARK UP FOR RETAIL'!$D$11)*'[1]MARK UP FOR RETAIL'!$D$5) -> 482.6304 | J8: =((('[1]THYME 6'!AI8*'[1]MARK UP FOR RETAIL'!$D$9)*'[1]MARK UP FOR RETAIL'!$D$11)*'[1]MARK UP FOR RETAIL'!$D$5) -> 798.1416
A9: 8’5” x 6’3” | B9: 2 | C9: 2 | E9: =((('[1]THYME 6'!AD9*'[1]MARK UP FOR RETAIL'!$D$9)*'[1]MARK UP FOR RETAIL'!$D$11)*'[1]MARK UP FOR RETAIL'!$D$5)+'[1]MARK UP FOR RETAIL'!$G$5 -> 1540.3284 | F9: =((('[1]THYME 6'!AE9*'[1]MARK UP FOR RETAIL'!$D$9)*'[1]MARK UP FOR RETAIL'!$D$11)*'[1]MARK UP FOR RETAIL'!$D$5)+'[1]MARK UP FOR RETAIL'!$G$5 -> 1966.194 | G9: =((('[1]THYME 6'!AF9*'[1]MARK UP FOR RETAIL'!$D$9)*'[1]MARK UP FOR RETAIL'!$D$11)*'[1]MARK UP FOR RETAIL'!$D$5) -> 274.752 | H9: =((('[1]THYME 6'!AG9*'[1]MARK UP FOR RETAIL'!$D$9)*'[1]MARK UP FOR RETAIL'!$D$11)*'[1]MARK UP FOR RETAIL'!$D$5) -> 569.7216 | J9: =((('[1]THYME 6'!AI9*'[1]MARK UP FOR RETAIL'!$D$9)*'[1]MARK UP FOR RETAIL'!$D$11)*'[1]MARK UP FOR RETAIL'!$D$5) -> 905.8554
A10: 10’5” x 6’3” | B10: 2 | C10: 2 | E10: =((('[1]THYME 6'!AD10*'[1]MARK UP FOR RETAIL'!$D$9)*'[1]MARK UP FOR RETAIL'!$D$11)*'[1]MARK UP FOR RETAIL'!$D$5)+'[1]MARK UP FOR RETAIL'!$G$5 -> 1761.8472 | F10: =((('[1]THYME 6'!AE10*'[1]MARK UP FOR RETAIL'!$D$9)*'[1]MARK UP FOR RETAIL'!$D$11)*'[1]MARK UP FOR RETAIL'!$D$5)+'[1]MARK UP FOR RETAIL'!$G$5 -> 2230.6428 | G10: =((('[1]THYME 6'!AF10*'[1]MARK UP FOR RETAIL'!$D$9)*'[1]MARK UP FOR RETAIL'!$D$11)*'[1]MARK UP FOR RETAIL'!$D$5) -> 314.2476 | H10: =((('[1]THYME 6'!AG10*'[1]MARK UP FOR RETAIL'!$D$9)*'[1]MARK UP FOR RETAIL'!$D$11)*'[1]MARK UP FOR RETAIL'!$D$5) -> 658.6272 | J10: =((('[1]THYME 6'!AI10*'[1]MARK UP FOR RETAIL'!$D$9)*'[1]MARK UP FOR RETAIL'!$D$11)*'[1]MARK UP FOR RETAIL'!$D$5) -> 1031.2272
A11: 12’6” x 6’3” | B11: 2 | C11: 2 | E11: =((('[1]THYME 6'!AD11*'[1]MARK UP FOR RETAIL'!$D$9)*'[1]MARK UP FOR RETAIL'!$D$11)*'[1]MARK UP FOR RETAIL'!$D$5)+'[1]MARK UP FOR RETAIL'!$G$5 -> 1976.4972 | F11: =((('[1]THYME 6'!AE11*'[1]MARK UP FOR RETAIL'!$D$9)*'[1]MARK UP FOR RETAIL'!$D$11)*'[1]MARK UP FOR RETAIL'!$D$5)+'[1]MARK UP FOR RETAIL'!$G$5 -> 2508.8292 | G11: =((('[1]THYME 6'!AF11*'[1]MARK UP FOR RETAIL'!$D$9)*'[1]MARK UP FOR RETAIL'!$D$11)*'[1]MARK UP FOR RETAIL'!$D$5) -> 338.2884 | H11: =((('[1]THYME 6'!AG11*'[1]MARK UP FOR RETAIL'!$D$9)*'[1]MARK UP FOR RETAIL'!$D$11)*'[1]MARK UP FOR RETAIL'!$D$5) -> 745.7184 | J11: =((('[1]THYME 6'!AI11*'[1]MARK UP FOR RETAIL'!$D$9)*'[1]MARK UP FOR RETAIL'!$D$11)*'[1]MARK UP FOR RETAIL'!$D$5) -> 1213.1046
A12: 14’6” x 6’3” | B12: 4 | C12: 2 | E12: =((('[1]THYME 6'!AD12*'[1]MARK UP FOR RETAIL'!$D$9)*'[1]MARK UP FOR RETAIL'!$D$11)*'[1]MARK UP FOR RETAIL'!$D$5)+'[1]MARK UP FOR RETAIL'!$G$5 -> 2246.0976 | F12: =((('[1]THYME 6'!AE12*'[1]MARK UP FOR RETAIL'!$D$9)*'[1]MARK UP FOR RETAIL'!$D$11)*'[1]MARK UP FOR RETAIL'!$D$5)+'[1]MARK UP FOR RETAIL'!$G$5 -> 2812.7736 | G12: =((('[1]THYME 6'!AF12*'[1]MARK UP FOR RETAIL'!$D$9)*'[1]MARK UP FOR RETAIL'!$D$11)*'[1]MARK UP FOR RETAIL'!$D$5) -> 379.5012 | H12: =((('[1]THYME 6'!AG12*'[1]MARK UP FOR RETAIL'!$D$9)*'[1]MARK UP FOR RETAIL'!$D$11)*'[1]MARK UP FOR RETAIL'!$D$5) -> 832.8096 | J12: =((('[1]THYME 6'!AI12*'[1]MARK UP FOR RETAIL'!$D$9)*'[1]MARK UP FOR RETAIL'!$D$11)*'[1]MARK UP FOR RETAIL'!$D$5) -> 1394.982
A13: 16’6” x 6’3” | B13: 4 | C13: 2 | E13: =((('[1]THYME 6'!AD13*'[1]MARK UP FOR RETAIL'!$D$9)*'[1]MARK UP FOR RETAIL'!$D$11)*'[1]MARK UP FOR RETAIL'!$D$5)+'[1]MARK UP FOR RETAIL'!$G$5 -> 2434.9896 | F13: =((('[1]THYME 6'!AE13*'[1]MARK UP FOR RETAIL'!$D$9)*'[1]MARK UP FOR RETAIL'!$D$11)*'[1]MARK UP FOR RETAIL'!$D$5)+'[1]MARK UP FOR RETAIL'!$G$5 -> 3061.7676 | G13: =((('[1]THYME 6'!AF13*'[1]MARK UP FOR RETAIL'!$D$9)*'[1]MARK UP FOR RETAIL'!$D$11)*'[1]MARK UP FOR RETAIL'!$D$5) -> 413.8452 | H13: =((('[1]THYME 6'!AG13*'[1]MARK UP FOR RETAIL'!$D$9)*'[1]MARK UP FOR RETAIL'!$D$11)*'[1]MARK UP FOR RETAIL'!$D$5) -> 919.9008 | J13: =((('[1]THYME 6'!AI13*'[1]MARK UP FOR RETAIL'!$D$9)*'[1]MARK UP FOR RETAIL'!$D$11)*'[1]MARK UP FOR RETAIL'!$D$5) -> 1500.93
A14: 18’6” x 6’3” | B14: 6 | C14: 2 | E14: =((('[1]THYME 6'!AD14*'[1]MARK UP FOR RETAIL'!$D$9)*'[1]MARK UP FOR RETAIL'!$D$11)*'[1]MARK UP FOR RETAIL'!$D$5)+'[1]MARK UP FOR RETAIL'!$G$5 -> 2670.246 | F14: =((('[1]THYME 6'!AE14*'[1]MARK UP FOR RETAIL'!$D$9)*'[1]MARK UP FOR RETAIL'!$D$11)*'[1]MARK UP FOR RETAIL'!$D$5)+'[1]MARK UP FOR RETAIL'!$G$5 -> 3365.712 | G14: =((('[1]THYME 6'!AF14*'[1]MARK UP FOR RETAIL'!$D$9)*'[1]MARK UP FOR RETAIL'!$D$11)*'[1]MARK UP FOR RETAIL'!$D$5) -> 455.058 | H14: =((('[1]THYME 6'!AG14*'[1]MARK UP FOR RETAIL'!$D$9)*'[1]MARK UP FOR RETAIL'!$D$11)*'[1]MARK UP FOR RETAIL'!$D$5) -> 1010.6208 | J14: =((('[1]THYME 6'!AI14*'[1]MARK UP FOR RETAIL'!$D$9)*'[1]MARK UP FOR RETAIL'!$D$11)*'[1]MARK UP FOR RETAIL'!$D$5) -> 1725.1866
A15: 20’6” x 6’3” | B15: 6 | C15: 2 | E15: =((('[1]THYME 6'!AD15*'[1]MARK UP FOR RETAIL'!$D$9)*'[1]MARK UP FOR RETAIL'!$D$11)*'[1]MARK UP FOR RETAIL'!$D$5)+'[1]MARK UP FOR RETAIL'!$G$5 -> 2836.8144 | F15: =((('[1]THYME 6'!AE15*'[1]MARK UP FOR RETAIL'!$D$9)*'[1]MARK UP FOR RETAIL'!$D$11)*'[1]MARK UP FOR RETAIL'!$D$5)+'[1]MARK UP FOR RETAIL'!$G$5 -> 3592.3824 | G15: =((('[1]THYME 6'!AF15*'[1]MARK UP FOR RETAIL'!$D$9)*'[1]MARK UP FOR RETAIL'!$D$11)*'[1]MARK UP FOR RETAIL'!$D$5) -> 497.988 | H15: =((('[1]THYME 6'!AG15*'[1]MARK UP FOR RETAIL'!$D$9)*'[1]MARK UP FOR RETAIL'!$D$11)*'[1]MARK UP FOR RETAIL'!$D$5) -> 1097.712 | J15: =((('[1]THYME 6'!AI15*'[1]MARK UP FOR RETAIL'!$D$9)*'[1]MARK UP FOR RETAIL'!$D$11)*'[1]MARK UP FOR RETAIL'!$D$5) -> 1836.432
A16: Extra double door in the rear end | E16: =((('[1]THYME 6'!AD16*'[1]MARK UP FOR RETAIL'!$D$9)*'[1]MARK UP FOR RETAIL'!$D$11)*'[1]MARK UP FOR RETAIL'!$D$5) -> 163.134 | F16: =((('[1]THYME 6'!AE16*'[1]MARK UP FOR RETAIL'!$D$9)*'[1]MARK UP FOR RETAIL'!$D$11)*'[1]MARK UP FOR RETAIL'!$D$5) -> 163.134 | G16: =((('[1]THYME 6'!AF16*'[1]MARK UP FOR RETAIL'!$D$9)*'[1]MARK UP FOR RETAIL'!$D$11)*'[1]MARK UP FOR RETAIL'!$D$5) -> 32.6268 | H16: / | J16: =((('[1]THYME 6'!AI16*'[1]MARK UP FOR RETAIL'!$D$9)*'[1]MARK UP FOR RETAIL'!$D$11)*'[1]MARK UP FOR RETAIL'!$D$5) -> 75.9294
A17: Partition with Single Door | E17: =((('[1]THYME 6'!AD17*'[1]MARK UP FOR RETAIL'!$D$9)*'[1]MARK UP FOR RETAIL'!$D$11)*'[1]MARK UP FOR RETAIL'!$D$5) -> 329.7024 | F17: =((('[1]THYME 6'!AE17*'[1]MARK UP FOR RETAIL'!$D$9)*'[1]MARK UP FOR RETAIL'!$D$11)*'[1]MARK UP FOR RETAIL'!$D$5) -> 408.6936 | G17: =((('[1]THYME 6'!AF17*'[1]MARK UP FOR RETAIL'!$D$9)*'[1]MARK UP FOR RETAIL'!$D$11)*'[1]MARK UP FOR RETAIL'!$D$5) -> 78.9912 | H17: =((('[1]THYME 6'!AG17*'[1]MARK UP FOR RETAIL'!$D$9)*'[1]MARK UP FOR RETAIL'!$D$11)*'[1]MARK UP FOR RETAIL'!$D$5) -> 87.0912 | J17: =((('[1]THYME 6'!AI17*'[1]MARK UP FOR RETAIL'!$D$9)*'[1]MARK UP FOR RETAIL'!$D$11)*'[1]MARK UP FOR RETAIL'!$D$5) -> 210.1302
A18: Soft Soil Support | E18: =((('[1]THYME 6'!AD18*'[1]MARK UP FOR RETAIL'!$D$9)*'[1]MARK UP FOR RETAIL'!$D$11)*'[1]MARK UP FOR RETAIL'!$D$5) -> 39.4956 | G18: / | H18: / | J18: =((('[1]THYME 6'!AI18*'[1]MARK UP FOR RETAIL'!$D$9)*'[1]MARK UP FOR RETAIL'!$D$11)*'[1]MARK UP FOR RETAIL'!$D$5) -> 28.2528
A19: R-TYPE | E19: =((('[1]THYME 6'!AD19*'[1]MARK UP FOR RETAIL'!$D$9)*'[1]MARK UP FOR RETAIL'!$D$11)*'[1]MARK UP FOR RETAIL'!$D$5)+'[1]MARK UP FOR RETAIL'!$G$5 -> -109.9008 | F19: =((('[1]THYME 6'!AE19*'[1]MARK UP FOR RETAIL'!$D$9)*'[1]MARK UP FOR RETAIL'!$D$11)*'[1]MARK UP FOR RETAIL'!$D$5)+'[1]MARK UP FOR RETAIL'!$G$5 -> -137.376 | G19: =((('[1]THYME 6'!AF19*'[1]MARK UP FOR RETAIL'!$D$9)*'[1]MARK UP FOR RETAIL'!$D$11)*'[1]MARK UP FOR RETAIL'!$D$5) -> -24.0408 | J19: =((('[1]THYME 6'!AI19*'[1]MARK UP FOR RETAIL'!$D$9)*'[1]MARK UP FOR RETAIL'!$D$11)*'[1]MARK UP FOR RETAIL'!$D$5) -> -56.5056
A24: BASIC MODEL OPTIONS
E25: DWARF WALL
A27: Size Length x Width | B27: Roof Vents | C27: Side Louvre | D27: Standard Door | E27: With Toughened Safety Glass | F27: With 6mm Twin wall Polycarbonate | G27: Bar Capping (TG only) | J27: Powder Coated Options are extra
A28: 4'5" x 6'3" | B28: 1 | C28: 2 | D28: Double Drop Doors | E28: =((('[1]THYME 6'!AD28*'[1]MARK UP FOR RETAIL'!$D$9)*'[1]MARK UP FOR RETAIL'!$D$11)*'[1]MARK UP FOR RETAIL'!$D$5)+'[1]MARK UP FOR RETAIL'!$G$5 -> 1061.2296 | F28: =((('[1]THYME 6'!AE28*'[1]MARK UP FOR RETAIL'!$D$9)*'[1]MARK UP FOR RETAIL'!$D$11)*'[1]MARK UP FOR RETAIL'!$D$5)+'[1]MARK UP FOR RETAIL'!$G$5 -> 1310.2236 | G28: =(('[1]THYME 6'!AF28*'[1]MARK UP FOR RETAIL'!$D$10)*'[1]MARK UP FOR RETAIL'!$D$11)*'[1]MARK UP FOR RETAIL'!$D$7 -> 194.0436 | J28: =('[1]THYME 6'!AI28*'[1]MARK UP FOR RETAIL'!$D$11)*'[1]MARK UP FOR RETAIL'!$D$5 -> 653.346
A29: 6’5” x 6’3” | B29: 1 | C29: 2 | E29: =((('[1]THYME 6'!AD29*'[1]MARK UP FOR RETAIL'!$D$9)*'[1]MARK UP FOR RETAIL'!$D$11)*'[1]MARK UP FOR RETAIL'!$D$5)+'[1]MARK UP FOR RETAIL'!$G$5 -> 1220.9292 | F29: =((('[1]THYME 6'!AE29*'[1]MARK UP FOR RETAIL'!$D$9)*'[1]MARK UP FOR RETAIL'!$D$11)*'[1]MARK UP FOR RETAIL'!$D$5)+'[1]MARK UP FOR RETAIL'!$G$5 -> 1523.1564 | G29: =(('[1]THYME 6'!AF29*'[1]MARK UP FOR RETAIL'!$D$10)*'[1]MARK UP FOR RETAIL'!$D$11)*'[1]MARK UP FOR RETAIL'!$D$7 -> 223.236 | J29: =('[1]THYME 6'!AI29*'[1]MARK UP FOR RETAIL'!$D$11)*'[1]MARK UP FOR RETAIL'!$D$5 -> 722.2122
A30: 8’5” x 6’3” | B30: 2 | C30: 2 | E30: =((('[1]THYME 6'!AD30*'[1]MARK UP FOR RETAIL'!$D$9)*'[1]MARK UP FOR RETAIL'!$D$11)*'[1]MARK UP FOR RETAIL'!$D$5)+'[1]MARK UP FOR RETAIL'!$G$5 -> 1390.932 | F30: =((('[1]THYME 6'!AE30*'[1]MARK UP FOR RETAIL'!$D$9)*'[1]MARK UP FOR RETAIL'!$D$11)*'[1]MARK UP FOR RETAIL'!$D$5)+'[1]MARK UP FOR RETAIL'!$G$5 -> 1765.2816 | G30: =(('[1]THYME 6'!AF30*'[1]MARK UP FOR RETAIL'!$D$10)*'[1]MARK UP FOR RETAIL'!$D$11)*'[1]MARK UP FOR RETAIL'!$D$7 -> 254.1456 | J30: =('[1]THYME 6'!AI30*'[1]MARK UP FOR RETAIL'!$D$11)*'[1]MARK UP FOR RETAIL'!$D$5 -> 817.5654
A31: 10’5” x 6’3” | B31: 2 | C31: 2 | E31: =((('[1]THYME 6'!AD31*'[1]MARK UP FOR RETAIL'!$D$9)*'[1]MARK UP FOR RETAIL'!$D$11)*'[1]MARK UP FOR RETAIL'!$D$5)+'[1]MARK UP FOR RETAIL'!$G$5 -> 1584.9756 | F31: =((('[1]THYME 6'!AE31*'[1]MARK UP FOR RETAIL'!$D$9)*'[1]MARK UP FOR RETAIL'!$D$11)*'[1]MARK UP FOR RETAIL'!$D$5)+'[1]MARK UP FOR RETAIL'!$G$5 -> 2009.124 | G31: =(('[1]THYME 6'!AF31*'[1]MARK UP FOR RETAIL'!$D$10)*'[1]MARK UP FOR RETAIL'!$D$11)*'[1]MARK UP FOR RETAIL'!$D$7 -> 286.7724 | J31: =('[1]THYME 6'!AI31*'[1]MARK UP FOR RETAIL'!$D$11)*'[1]MARK UP FOR RETAIL'!$D$5 -> 927.045
A32: 12’6” x 6’3” | B32: 2 | C32: 2 | E32: =((('[1]THYME 6'!AD32*'[1]MARK UP FOR RETAIL'!$D$9)*'[1]MARK UP FOR RETAIL'!$D$11)*'[1]MARK UP FOR RETAIL'!$D$5)+'[1]MARK UP FOR RETAIL'!$G$5 -> 1782.4536 | F32: =((('[1]THYME 6'!AE32*'[1]MARK UP FOR RETAIL'!$D$9)*'[1]MARK UP FOR RETAIL'!$D$11)*'[1]MARK UP FOR RETAIL'!$D$5)+'[1]MARK UP FOR RETAIL'!$G$5 -> 2258.118 | G32: =(('[1]THYME 6'!AF32*'[1]MARK UP FOR RETAIL'!$D$10)*'[1]MARK UP FOR RETAIL'!$D$11)*'[1]MARK UP FOR RETAIL'!$D$7 -> 321.1164 | J32: =('[1]THYME 6'!AI32*'[1]MARK UP FOR RETAIL'!$D$11)*'[1]MARK UP FOR RETAIL'!$D$5 -> 1091.2644
A33: 14’6” x 6’3” | B33: 4 | C33: 2 | E33: =((('[1]THYME 6'!AD33*'[1]MARK UP FOR RETAIL'!$D$9)*'[1]MARK UP FOR RETAIL'!$D$11)*'[1]MARK UP FOR RETAIL'!$D$5)+'[1]MARK UP FOR RETAIL'!$G$5 -> 2021.1444 | F33: =((('[1]THYME 6'!AE33*'[1]MARK UP FOR RETAIL'!$D$9)*'[1]MARK UP FOR RETAIL'!$D$11)*'[1]MARK UP FOR RETAIL'!$D$5)+'[1]MARK UP FOR RETAIL'!$G$5 -> 2531.1528 | G33: =(('[1]THYME 6'!AF33*'[1]MARK UP FOR RETAIL'!$D$10)*'[1]MARK UP FOR RETAIL'!$D$11)*'[1]MARK UP FOR RETAIL'!$D$7 -> 353.7432 | J33: =('[1]THYME 6'!AI33*'[1]MARK UP FOR RETAIL'!$D$11)*'[1]MARK UP FOR RETAIL'!$D$5 -> 1255.4838
A34: 16’6” x 6’3” | B34: 4 | C34: 2 | E34: =((('[1]THYME 6'!AD34*'[1]MARK UP FOR RETAIL'!$D$9)*'[1]MARK UP FOR RETAIL'!$D$11)*'[1]MARK UP FOR RETAIL'!$D$5)+'[1]MARK UP FOR RETAIL'!$G$5 -> 2192.8644 | F34: =((('[1]THYME 6'!AE34*'[1]MARK UP FOR RETAIL'!$D$9)*'[1]MARK UP FOR RETAIL'!$D$11)*'[1]MARK UP FOR RETAIL'!$D$5)+'[1]MARK UP FOR RETAIL'!$G$5 -> 2757.8232 | G34: =(('[1]THYME 6'!AF34*'[1]MARK UP FOR RETAIL'!$D$10)*'[1]MARK UP FOR RETAIL'!$D$11)*'[1]MARK UP FOR RETAIL'!$D$7 -> 388.0872 | J34: =('[1]THYME 6'!AI34*'[1]MARK UP FOR RETAIL'!$D$11)*'[1]MARK UP FOR RETAIL'!$D$5 -> 1350.837
A35: 18’6” x 6’3” | B35: 6 | C35: 2 | E35: =((('[1]THYME 6'!AD35*'[1]MARK UP FOR RETAIL'!$D$9)*'[1]MARK UP FOR RETAIL'!$D$11)*'[1]MARK UP FOR RETAIL'!$D$5)+'[1]MARK UP FOR RETAIL'!$G$5 -> 2405.7972 | F35: =((('[1]THYME 6'!AE35*'[1]MARK UP FOR RETAIL'!$D$9)*'[1]MARK UP FOR RETAIL'!$D$11)*'[1]MARK UP FOR RETAIL'!$D$5)+'[1]MARK UP FOR RETAIL'!$G$5 -> 3029.1408 | G35: =(('[1]THYME 6'!AF35*'[1]MARK UP FOR RETAIL'!$D$10)*'[1]MARK UP FOR RETAIL'!$D$11)*'[1]MARK UP FOR RETAIL'!$D$7 -> 417.2796 | J35: =('[1]THYME 6'!AI35*'[1]MARK UP FOR RETAIL'!$D$11)*'[1]MARK UP FOR RETAIL'!$D$5 -> 1548.6066
A36: 20’6” x 6’3” | B36: 6 | C36: 2 | E36: =((('[1]THYME 6'!AD36*'[1]MARK UP FOR RETAIL'!$D$9)*'[1]MARK UP FOR RETAIL'!$D$11)*'[1]MARK UP FOR RETAIL'!$D$5)+'[1]MARK UP FOR RETAIL'!$G$5 -> 2555.1936 | F36: =((('[1]THYME 6'!AE36*'[1]MARK UP FOR RETAIL'!$D$9)*'[1]MARK UP FOR RETAIL'!$D$11)*'[1]MARK UP FOR RETAIL'!$D$5)+'[1]MARK UP FOR RETAIL'!$G$5 -> 3231.7704 | G36: =(('[1]THYME 6'!AF36*'[1]MARK UP FOR RETAIL'!$D$10)*'[1]MARK UP FOR RETAIL'!$D$11)*'[1]MARK UP FOR RETAIL'!$D$7 -> 448.1892 | J36: =('[1]THYME 6'!AI36*'[1]MARK UP FOR RETAIL'!$D$11)*'[1]MARK UP FOR RETAIL'!$D$5 -> 1651.023
A37: Extra double door in the rear end | E37: =((('[1]THYME 6'!AD37*'[1]MARK UP FOR RETAIL'!$D$9)*'[1]MARK UP FOR RETAIL'!$D$11)*'[1]MARK UP FOR RETAIL'!$D$5) -> 163.134 | F37: =((('[1]THYME 6'!AE37*'[1]MARK UP FOR RETAIL'!$D$9)*'[1]MARK UP FOR RETAIL'!$D$11)*'[1]MARK UP FOR RETAIL'!$D$5) -> 163.134 | G37: =(('[1]THYME 6'!AF37*'[1]MARK UP FOR RETAIL'!$D$10)*'[1]MARK UP FOR RETAIL'!$D$11)*'[1]MARK UP FOR RETAIL'!$D$7 -> 32.6268 | J37: =('[1]THYME 6'!AI37*'[1]MARK UP FOR RETAIL'!$D$11)*'[1]MARK UP FOR RETAIL'!$D$5 -> 75.9294
A38: Partition with Single Door | E38: =((('[1]THYME 6'!AD38*'[1]MARK UP FOR RETAIL'!$D$9)*'[1]MARK UP FOR RETAIL'!$D$11)*'[1]MARK UP FOR RETAIL'!$D$5) -> 293.6412 | F38: =((('[1]THYME 6'!AE38*'[1]MARK UP FOR RETAIL'!$D$9)*'[1]MARK UP FOR RETAIL'!$D$11)*'[1]MARK UP FOR RETAIL'!$D$5) -> 367.4808 | G38: =(('[1]THYME 6'!AF38*'[1]MARK UP FOR RETAIL'!$D$10)*'[1]MARK UP FOR RETAIL'!$D$11)*'[1]MARK UP FOR RETAIL'!$D$7 -> 78.9912 | J38: =('[1]THYME 6'!AI38*'[1]MARK UP FOR RETAIL'!$D$11)*'[1]MARK UP FOR RETAIL'!$D$5 -> 187.1748
A39: R-TYPE | E39: =((('[1]THYME 6'!AD39*'[1]MARK UP FOR RETAIL'!$D$9)*'[1]MARK UP FOR RETAIL'!$D$11)*'[1]MARK UP FOR RETAIL'!$D$5) -> -97.8804 | F39: =((('[1]THYME 6'!AE39*'[1]MARK UP FOR RETAIL'!$D$9)*'[1]MARK UP FOR RETAIL'!$D$11)*'[1]MARK UP FOR RETAIL'!$D$5)+'[1]MARK UP FOR RETAIL'!$G$5 -> -120.204 | G39: =(('[1]THYME 6'!AF39*'[1]MARK UP FOR RETAIL'!$D$10)*'[1]MARK UP FOR RETAIL'!$D$11)*'[1]MARK UP FOR RETAIL'!$D$7 -> -18.8892 | J39: =('[1]THYME 6'!AI39*'[1]MARK UP FOR RETAIL'!$D$11)*'[1]MARK UP FOR RETAIL'!$D$5 -> -56.5056

Sheet VANTAGE
A1: VANTAGE: 7'5" WIDE
A2: BASIC MODEL OPTIONS
E3: Aluminium frame, Integral base with drop door(s)
A5: Size Length x Width | B5: Roof Vents | D5: Standard Door | E5: With Horticultural Glass | F5: With Toughened Safety Glass | G5: With 6mm Twin wall Polycarbonate | H5: Bar Capping (TG only) | I5: Hybrid Panels (coloured) | J5: 52 | K5: Powder Coated Options are extra
A6: 2’3” x 7’5” NOT FREE STANDING | B6: 0 | D6: Double Drop Door | E6: =((([1]VANTAGE!AF6*'[1]MARK UP FOR RETAIL'!$D$9)*'[1]MARK UP FOR RETAIL'!$D$11)*'[1]MARK UP FOR RETAIL'!$D$5)+'[1]MARK UP FOR RETAIL'!$G$5 -> 635.364 | F6: =((([1]VANTAGE!AG6*'[1]MARK UP FOR RETAIL'!$D$9)*'[1]MARK UP FOR RETAIL'!$D$11)*'[1]MARK UP FOR RETAIL'!$D$5)+'[1]MARK UP FOR RETAIL'!$G$5 -> 774.4572 | G6: =((([1]VANTAGE!AH6*'[1]MARK UP FOR RETAIL'!$D$9)*'[1]MARK UP FOR RETAIL'!$D$11)*'[1]MARK UP FOR RETAIL'!$D$5)+'[1]MARK UP FOR RETAIL'!$G$5 -> 973.6524 | H6: =(([1]VANTAGE!AI6*'[1]MARK UP FOR RETAIL'!$D$10)*'[1]MARK UP FOR RETAIL'!$D$11)*'[1]MARK UP FOR RETAIL'!$D$7 -> 133.9416 | I6: =([1]VANTAGE!AJ6*'[1]MARK UP FOR RETAIL'!$D$11)*'[1]MARK UP FOR RETAIL'!$D$5 -> 141.5232 | K6: =([1]VANTAGE!AL6*'[1]MARK UP FOR RETAIL'!$D$11)*'[1]MARK UP FOR RETAIL'!$D$5 -> 347.8626
A7: 4’5” x 7’5” | B7: 1 | E7: =((([1]VANTAGE!AF7*'[1]MARK UP FOR RETAIL'!$D$9)*'[1]MARK UP FOR RETAIL'!$D$11)*'[1]MARK UP FOR RETAIL'!$D$5)+'[1]MARK UP FOR RETAIL'!$G$5 -> 760.7196 | F7: =((([1]VANTAGE!AG7*'[1]MARK UP FOR RETAIL'!$D$9)*'[1]MARK UP FOR RETAIL'!$D$11)*'[1]MARK UP FOR RETAIL'!$D$5)+'[1]MARK UP FOR RETAIL'!$G$5 -> 947.8944 | G7: =((([1]VANTAGE!AH7*'[1]MARK UP FOR RETAIL'!$D$9)*'[1]MARK UP FOR RETAIL'!$D$11)*'[1]MARK UP FOR RETAIL'!$D$5)+'[1]MARK UP FOR RETAIL'!$G$5 -> 1138.5036 | H7: =(([1]VANTAGE!AI7*'[1]MARK UP FOR RETAIL'!$D$10)*'[1]MARK UP FOR RETAIL'!$D$11)*'[1]MARK UP FOR RETAIL'!$D$7 -> 152.8308 | I7: =([1]VANTAGE!AJ7*'[1]MARK UP FOR RETAIL'!$D$11)*'[1]MARK UP FOR RETAIL'!$D$5 -> 344.736 | K7: =([1]VANTAGE!AL7*'[1]MARK UP FOR RETAIL'!$D$11)*'[1]MARK UP FOR RETAIL'!$D$5 -> 436.1526
A8: 6’5” x 7’5” | B8: 1 | E8: =((([1]VANTAGE!AF8*'[1]MARK UP FOR RETAIL'!$D$9)*'[1]MARK UP FOR RETAIL'!$D$11)*'[1]MARK UP FOR RETAIL'!$D$5)+'[1]MARK UP FOR RETAIL'!$G$5 -> 837.9936 | F8: =((([1]VANTAGE!AG8*'[1]MARK UP FOR RETAIL'!$D$9)*'[1]MARK UP FOR RETAIL'!$D$11)*'[1]MARK UP FOR RETAIL'!$D$5)+'[1]MARK UP FOR RETAIL'!$G$5 -> 1093.8564 | G8: =((([1]VANTAGE!AH8*'[1]MARK UP FOR RETAIL'!$D$9)*'[1]MARK UP FOR RETAIL'!$D$11)*'[1]MARK UP FOR RETAIL'!$D$5)+'[1]MARK UP FOR RETAIL'!$G$5 -> 1308.5064 | H8: =(([1]VANTAGE!AI8*'[1]MARK UP FOR RETAIL'!$D$10)*'[1]MARK UP FOR RETAIL'!$D$11)*'[1]MARK UP FOR RETAIL'!$D$7 -> 171.72 | I8: =([1]VANTAGE!AJ8*'[1]MARK UP FOR RETAIL'!$D$11)*'[1]MARK UP FOR RETAIL'!$D$5 -> 417.312 | K8: =([1]VANTAGE!AL8*'[1]MARK UP FOR RETAIL'!$D$11)*'[1]MARK UP FOR RETAIL'!$D$5 -> 517.3794
A9: 8’5” x 7’5” | B9: 2 | E9: =((([1]VANTAGE!AF9*'[1]MARK UP FOR RETAIL'!$D$9)*'[1]MARK UP FOR RETAIL'!$D$11)*'[1]MARK UP FOR RETAIL'!$D$5)+'[1]MARK UP FOR RETAIL'!$G$5 -> 971.9352 | F9: =((([1]VANTAGE!AG9*'[1]MARK UP FOR RETAIL'!$D$9)*'[1]MARK UP FOR RETAIL'!$D$11)*'[1]MARK UP FOR RETAIL'!$D$5)+'[1]MARK UP FOR RETAIL'!$G$5 -> 1267.2936 | G9: =((([1]VANTAGE!AH9*'[1]MARK UP FOR RETAIL'!$D$9)*'[1]MARK UP FOR RETAIL'!$D$11)*'[1]MARK UP FOR RETAIL'!$D$5)+'[1]MARK UP FOR RETAIL'!$G$5 -> 1514.5704 | H9: =(([1]VANTAGE!AI9*'[1]MARK UP FOR RETAIL'!$D$10)*'[1]MARK UP FOR RETAIL'!$D$11)*'[1]MARK UP FOR RETAIL'!$D$7 -> 192.3264 | I9: =([1]VANTAGE!AJ9*'[1]MARK UP FOR RETAIL'!$D$11)*'[1]MARK UP FOR RETAIL'!$D$5 -> 486.2592 | K9: =([1]VANTAGE!AL9*'[1]MARK UP FOR RETAIL'!$D$11)*'[1]MARK UP FOR RETAIL'!$D$5 -> 623.3274
A10: 10’5” x 7’5” | B10: 2 | E10: =((([1]VANTAGE!AF10*'[1]MARK UP FOR RETAIL'!$D$9)*'[1]MARK UP FOR RETAIL'!$D$11)*'[1]MARK UP FOR RETAIL'!$D$5)+'[1]MARK UP FOR RETAIL'!$G$5 -> 1117.8972 | F10: =((([1]VANTAGE!AG10*'[1]MARK UP FOR RETAIL'!$D$9)*'[1]MARK UP FOR RETAIL'!$D$11)*'[1]MARK UP FOR RETAIL'!$D$5)+'[1]MARK UP FOR RETAIL'!$G$5 -> 1444.1652 | G10: =((([1]VANTAGE!AH10*'[1]MARK UP FOR RETAIL'!$D$9)*'[1]MARK UP FOR RETAIL'!$D$11)*'[1]MARK UP FOR RETAIL'!$D$5)+'[1]MARK UP FOR RETAIL'!$G$5 -> 1730.9376 | H10: =(([1]VANTAGE!AI10*'[1]MARK UP FOR RETAIL'!$D$10)*'[1]MARK UP FOR RETAIL'!$D$11)*'[1]MARK UP FOR RETAIL'!$D$7 -> 212.9328 | I10: =([1]VANTAGE!AJ10*'[1]MARK UP FOR RETAIL'!$D$11)*'[1]MARK UP FOR RETAIL'!$D$5 -> 558.8352 | K10: =([1]VANTAGE!AL10*'[1]MARK UP FOR RETAIL'!$D$11)*'[1]MARK UP FOR RETAIL'!$D$5 -> 727.5096
A11: 12’6” x 7’5” | B11: 2 | E11: =((([1]VANTAGE!AF11*'[1]MARK UP FOR RETAIL'!$D$9)*'[1]MARK UP FOR RETAIL'!$D$11)*'[1]MARK UP FOR RETAIL'!$D$5)+'[1]MARK UP FOR RETAIL'!$G$5 -> 1270.728 | F11: =((([1]VANTAGE!AG11*'[1]MARK UP FOR RETAIL'!$D$9)*'[1]MARK UP FOR RETAIL'!$D$11)*'[1]MARK UP FOR RETAIL'!$D$5)+'[1]MARK UP FOR RETAIL'!$G$5 -> 1624.4712 | G11: =((([1]VANTAGE!AH11*'[1]MARK UP FOR RETAIL'!$D$9)*'[1]MARK UP FOR RETAIL'!$D$11)*'[1]MARK UP FOR RETAIL'!$D$5)+'[1]MARK UP FOR RETAIL'!$G$5 -> 1949.022 | H11: =(([1]VANTAGE!AI11*'[1]MARK UP FOR RETAIL'!$D$10)*'[1]MARK UP FOR RETAIL'!$D$11)*'[1]MARK UP FOR RETAIL'!$D$7 -> 230.1048 | I11: =([1]VANTAGE!AJ11*'[1]MARK UP FOR RETAIL'!$D$11)*'[1]MARK UP FOR RETAIL'!$D$5 -> 631.4112 | K11: =([1]VANTAGE!AL11*'[1]MARK UP FOR RETAIL'!$D$11)*'[1]MARK UP FOR RETAIL'!$D$5 -> 845.8182
A12: 14’6” x 7’5” | B12: 3 | E12: =((([1]VANTAGE!AF12*'[1]MARK UP FOR RETAIL'!$D$9)*'[1]MARK UP FOR RETAIL'!$D$11)*'[1]MARK UP FOR RETAIL'!$D$5)+'[1]MARK UP FOR RETAIL'!$G$5 -> 1473.3576 | F12: =((([1]VANTAGE!AG12*'[1]MARK UP FOR RETAIL'!$D$9)*'[1]MARK UP FOR RETAIL'!$D$11)*'[1]MARK UP FOR RETAIL'!$D$5)+'[1]MARK UP FOR RETAIL'!$G$5 -> 1858.0104 | G12: =((([1]VANTAGE!AH12*'[1]MARK UP FOR RETAIL'!$D$9)*'[1]MARK UP FOR RETAIL'!$D$11)*'[1]MARK UP FOR RETAIL'!$D$5)+'[1]MARK UP FOR RETAIL'!$G$5 -> 2228.9256 | H12: =(([1]VANTAGE!AI12*'[1]MARK UP FOR RETAIL'!$D$10)*'[1]MARK UP FOR RETAIL'!$D$11)*'[1]MARK UP FOR RETAIL'!$D$7 -> 252.4284 | I12: =([1]VANTAGE!AJ12*'[1]MARK UP FOR RETAIL'!$D$11)*'[1]MARK UP FOR RETAIL'!$D$5 -> 702.1728 | K12: =([1]VANTAGE!AL12*'[1]MARK UP FOR RETAIL'!$D$11)*'[1]MARK UP FOR RETAIL'!$D$5 -> 960.5952
A13: 16’6” x 7’5” | B13: 4 | E13: =((([1]VANTAGE!AF13*'[1]MARK UP FOR RETAIL'!$D$9)*'[1]MARK UP FOR RETAIL'!$D$11)*'[1]MARK UP FOR RETAIL'!$D$5)+'[1]MARK UP FOR RETAIL'!$G$5 -> 1701.7452 | F13: =((([1]VANTAGE!AG13*'[1]MARK UP FOR RETAIL'!$D$9)*'[1]MARK UP FOR RETAIL'!$D$11)*'[1]MARK UP FOR RETAIL'!$D$5)+'[1]MARK UP FOR RETAIL'!$G$5 -> 2107.0044 | G13: =((([1]VANTAGE!AH13*'[1]MARK UP FOR RETAIL'!$D$9)*'[1]MARK UP FOR RETAIL'!$D$11)*'[1]MARK UP FOR RETAIL'!$D$5)+'[1]MARK UP FOR RETAIL'!$G$5 -> 2529.4356 | H13: =(([1]VANTAGE!AI13*'[1]MARK UP FOR RETAIL'!$D$10)*'[1]MARK UP FOR RETAIL'!$D$11)*'[1]MARK UP FOR RETAIL'!$D$7 -> 271.3176 | I13: =([1]VANTAGE!AJ13*'[1]MARK UP FOR RETAIL'!$D$11)*'[1]MARK UP FOR RETAIL'!$D$5 -> 772.9344 | K13: =([1]VANTAGE!AL13*'[1]MARK UP FOR RETAIL'!$D$11)*'[1]MARK UP FOR RETAIL'!$D$5 -> 1108.9224
A14: 18’6” x 7’5” | B14: 5 | E14: =((([1]VANTAGE!AF14*'[1]MARK UP FOR RETAIL'!$D$9)*'[1]MARK UP FOR RETAIL'!$D$11)*'[1]MARK UP FOR RETAIL'!$D$5)+'[1]MARK UP FOR RETAIL'!$G$5 -> 1907.8092 | F14: =((([1]VANTAGE!AG14*'[1]MARK UP FOR RETAIL'!$D$9)*'[1]MARK UP FOR RETAIL'!$D$11)*'[1]MARK UP FOR RETAIL'!$D$5)+'[1]MARK UP FOR RETAIL'!$G$5 -> 2386.908 | G14: =((([1]VANTAGE!AH14*'[1]MARK UP FOR RETAIL'!$D$9)*'[1]MARK UP FOR RETAIL'!$D$11)*'[1]MARK UP FOR RETAIL'!$D$5)+'[1]MARK UP FOR RETAIL'!$G$5 -> 2864.2896 | H14: =(([1]VANTAGE!AI14*'[1]MARK UP FOR RETAIL'!$D$10)*'[1]MARK UP FOR RETAIL'!$D$11)*'[1]MARK UP FOR RETAIL'!$D$7 -> 288.4896 | I14: =([1]VANTAGE!AJ14*'[1]MARK UP FOR RETAIL'!$D$11)*'[1]MARK UP FOR RETAIL'!$D$5 -> 847.3248 | K14: =([1]VANTAGE!AL14*'[1]MARK UP FOR RETAIL'!$D$11)*'[1]MARK UP FOR RETAIL'!$D$5 -> 1289.034
A15: 20’7” x 7’5” | B15: 6 | E15: =((([1]VANTAGE!AF15*'[1]MARK UP FOR RETAIL'!$D$9)*'[1]MARK UP FOR RETAIL'!$D$11)*'[1]MARK UP FOR RETAIL'!$D$5)+'[1]MARK UP FOR RETAIL'!$G$5 -> 2161.9548 | F15: =((([1]VANTAGE!AG15*'[1]MARK UP FOR RETAIL'!$D$9)*'[1]MARK UP FOR RETAIL'!$D$11)*'[1]MARK UP FOR RETAIL'!$D$5)+'[1]MARK UP FOR RETAIL'!$G$5 -> 2683.9836 | G15: =((([1]VANTAGE!AH15*'[1]MARK UP FOR RETAIL'!$D$9)*'[1]MARK UP FOR RETAIL'!$D$11)*'[1]MARK UP FOR RETAIL'!$D$5)+'[1]MARK UP FOR RETAIL'!$G$5 -> 3224.9016 | H15: =(([1]VANTAGE!AI15*'[1]MARK UP FOR RETAIL'!$D$10)*'[1]MARK UP FOR RETAIL'!$D$11)*'[1]MARK UP FOR RETAIL'!$D$7 -> 309.096 | I15: =([1]VANTAGE!AJ15*'[1]MARK UP FOR RETAIL'!$D$11)*'[1]MARK UP FOR RETAIL'!$D$5 -> 916.272 | K15: =([1]VANTAGE!AL15*'[1]MARK UP FOR RETAIL'!$D$11)*'[1]MARK UP FOR RETAIL'!$D$5 -> 1488.5694
A16: Extra double door in the rear end | E16: =((([1]VANTAGE!AF16*'[1]MARK UP FOR RETAIL'!$D$9)*'[1]MARK UP FOR RETAIL'!$D$11)*'[1]MARK UP FOR RETAIL'!$D$5) -> 226.6704 | H16: =(([1]VANTAGE!AI16*'[1]MARK UP FOR RETAIL'!$D$10)*'[1]MARK UP FOR RETAIL'!$D$11)*'[1]MARK UP FOR RETAIL'!$D$7 -> 27.4752 | I16: / | K16: =([1]VANTAGE!AL16*'[1]MARK UP FOR RETAIL'!$D$11)*'[1]MARK UP FOR RETAIL'!$D$5 -> 134.2008
A17: Partition with double door | E17: =((([1]VANTAGE!AF17*'[1]MARK UP FOR RETAIL'!$D$9)*'[1]MARK UP FOR RETAIL'!$D$11)*'[1]MARK UP FOR RETAIL'!$D$5) -> 261.0144 | F17: =((([1]VANTAGE!AG17*'[1]MARK UP FOR RETAIL'!$D$9)*'[1]MARK UP FOR RETAIL'!$D$11)*'[1]MARK UP FOR RETAIL'!$D$5) -> 369.198 | G17: =((([1]VANTAGE!AH17*'[1]MARK UP FOR RETAIL'!$D$9)*'[1]MARK UP FOR RETAIL'!$D$11)*'[1]MARK UP FOR RETAIL'!$D$5) -> 443.0376 | H17: =(([1]VANTAGE!AI17*'[1]MARK UP FOR RETAIL'!$D$10)*'[1]MARK UP FOR RETAIL'!$D$11)*'[1]MARK UP FOR RETAIL'!$D$7 -> 56.6676 | I17: =([1]VANTAGE!AJ17*'[1]MARK UP FOR RETAIL'!$D$11)*'[1]MARK UP FOR RETAIL'!$D$5 -> 70.7616 | K17: =([1]VANTAGE!AL17*'[1]MARK UP FOR RETAIL'!$D$11)*'[1]MARK UP FOR RETAIL'!$D$5 -> 176.58
A18: Soft Soil Support | E18: =(([1]VANTAGE!AF18*'[1]MARK UP FOR RETAIL'!$D$10)*'[1]MARK UP FOR RETAIL'!$D$11)*'[1]MARK UP FOR RETAIL'!$D$7 -> 42.93 | H18: / | I18: / | K18: =([1]VANTAGE!AL18*'[1]MARK UP FOR RETAIL'!$D$11)*'[1]MARK UP FOR RETAIL'!$D$5 -> 33.5502
A19: R-TYPE | E19: =((([1]VANTAGE!AF19*'[1]MARK UP FOR RETAIL'!$D$11)*'[1]MARK UP FOR RETAIL'!$D$9)*'[1]MARK UP FOR RETAIL'!$D$5) -> -73.8396 | F19: =((([1]VANTAGE!AG19*'[1]MARK UP FOR RETAIL'!$D$11)*'[1]MARK UP FOR RETAIL'!$D$9)*'[1]MARK UP FOR RETAIL'!$D$5) -> -111.618 | G19: =((([1]VANTAGE!AH19*'[1]MARK UP FOR RETAIL'!$D$11)*'[1]MARK UP FOR RETAIL'!$D$9)*'[1]MARK UP FOR RETAIL'!$D$5) -> -137.376 | H19: =(([1]VANTAGE!AI19*'[1]MARK UP FOR RETAIL'!$D$10)*'[1]MARK UP FOR RETAIL'!$D$11)*'[1]MARK UP FOR RETAIL'!$D$7 -> -18.8892 | K19: =([1]VANTAGE!AL19*'[1]MARK UP FOR RETAIL'!$D$11)*'[1]MARK UP FOR RETAIL'!$D$5 -> -51.2082
A23: VANTAGE PACKAGE
A25: INCLUDES AS STANDARD | H25: PACKAGE EXTRAS
A27: Integral aluminium base with dropped doors | H27: Diamond shelf to length - 2 slat
A28: Double Dropped Doors | H28: Diamond staging to length - 7 slat
A29: At least one roof vent | H29: One 5 blade louvre
A30: Integral Gutters | H30: One automatic roof vent opener
H31: One automatic louvre opener
H32: Standard rainwater collection kit
H33: Grow Hooks (6)
A37: Size Length x Width | B37: Roof Vents | D37: Standard Door | E37: With Horticultural Glass | F37: With Toughened Safety Glass | H37: Powder Coated Options are extra
A38: 6’5” x 7’5” | B38: 1 | D38: Double Drop Door | E38: =((([1]VANTAGE!AF38*'[1]MARK UP FOR RETAIL'!$D$14)*'[1]MARK UP FOR RETAIL'!$D$11)*'[1]MARK UP FOR RETAIL'!$D$5)+'[1]MARK UP FOR RETAIL'!$G$5 -> 1229.5152 | F38: =((([1]VANTAGE!AG38*'[1]MARK UP FOR RETAIL'!$D$14)*'[1]MARK UP FOR RETAIL'!$D$11)*'[1]MARK UP FOR RETAIL'!$D$5)+'[1]MARK UP FOR RETAIL'!$G$5 -> 1478.5092 | H38: =(([1]VANTAGE!AI38*'[1]MARK UP FOR RETAIL'!$D$14)*'[1]MARK UP FOR RETAIL'!$D$11)*'[1]MARK UP FOR RETAIL'!$D$5 -> 709.8516
A39: 8’5” x 7’5” | B39: 2 | E39: =((([1]VANTAGE!AF39*'[1]MARK UP FOR RETAIL'!$D$14)*'[1]MARK UP FOR RETAIL'!$D$11)*'[1]MARK UP FOR RETAIL'!$D$5)+'[1]MARK UP FOR RETAIL'!$G$5 -> 1420.1244 | F39: =((([1]VANTAGE!AG39*'[1]MARK UP FOR RETAIL'!$D$14)*'[1]MARK UP FOR RETAIL'!$D$11)*'[1]MARK UP FOR RETAIL'!$D$5)+'[1]MARK UP FOR RETAIL'!$G$5 -> 1718.9172 | H39: =(([1]VANTAGE!AI39*'[1]MARK UP FOR RETAIL'!$D$14)*'[1]MARK UP FOR RETAIL'!$D$11)*'[1]MARK UP FOR RETAIL'!$D$5 -> 861.7104
A40: 10’5” x 7’5” | B40: 2 | E40: =((([1]VANTAGE!AF40*'[1]MARK UP FOR RETAIL'!$D$14)*'[1]MARK UP FOR RETAIL'!$D$11)*'[1]MARK UP FOR RETAIL'!$D$5)+'[1]MARK UP FOR RETAIL'!$G$5 -> 1646.7948 | F40: =((([1]VANTAGE!AG40*'[1]MARK UP FOR RETAIL'!$D$14)*'[1]MARK UP FOR RETAIL'!$D$11)*'[1]MARK UP FOR RETAIL'!$D$5)+'[1]MARK UP FOR RETAIL'!$G$5 -> 1974.78 | H40: =(([1]VANTAGE!AI40*'[1]MARK UP FOR RETAIL'!$D$14)*'[1]MARK UP FOR RETAIL'!$D$11)*'[1]MARK UP FOR RETAIL'!$D$5 -> 1029.4614
A41: 12’6” x 7’5” | B41: 2 | E41: =((([1]VANTAGE!AF41*'[1]MARK UP FOR RETAIL'!$D$14)*'[1]MARK UP FOR RETAIL'!$D$11)*'[1]MARK UP FOR RETAIL'!$D$5)+'[1]MARK UP FOR RETAIL'!$G$5 -> 1856.2932 | F41: =((([1]VANTAGE!AG41*'[1]MARK UP FOR RETAIL'!$D$14)*'[1]MARK UP FOR RETAIL'!$D$11)*'[1]MARK UP FOR RETAIL'!$D$5)+'[1]MARK UP FOR RETAIL'!$G$5 -> 2208.3192 | H41: =(([1]VANTAGE!AI41*'[1]MARK UP FOR RETAIL'!$D$14)*'[1]MARK UP FOR RETAIL'!$D$11)*'[1]MARK UP FOR RETAIL'!$D$5 -> 1184.8518
A42: 14’6” x 7’5” | B42: 3 | E42: =((([1]VANTAGE!AF42*'[1]MARK UP FOR RETAIL'!$D$14)*'[1]MARK UP FOR RETAIL'!$D$11)*'[1]MARK UP FOR RETAIL'!$D$5)+'[1]MARK UP FOR RETAIL'!$G$5 -> 2120.742 | F42: =((([1]VANTAGE!AG42*'[1]MARK UP FOR RETAIL'!$D$14)*'[1]MARK UP FOR RETAIL'!$D$11)*'[1]MARK UP FOR RETAIL'!$D$5)+'[1]MARK UP FOR RETAIL'!$G$5 -> 2508.8292 | H42: =(([1]VANTAGE!AI42*'[1]MARK UP FOR RETAIL'!$D$14)*'[1]MARK UP FOR RETAIL'!$D$11)*'[1]MARK UP FOR RETAIL'!$D$5 -> 1349.0712
A43: 16’6” x 7’5” | B43: 4 | E43: =((([1]VANTAGE!AF43*'[1]MARK UP FOR RETAIL'!$D$14)*'[1]MARK UP FOR RETAIL'!$D$11)*'[1]MARK UP FOR RETAIL'!$D$5)+'[1]MARK UP FOR RETAIL'!$G$5 -> 2409.2316 | F43: =((([1]VANTAGE!AG43*'[1]MARK UP FOR RETAIL'!$D$14)*'[1]MARK UP FOR RETAIL'!$D$11)*'[1]MARK UP FOR RETAIL'!$D$5)+'[1]MARK UP FOR RETAIL'!$G$5 -> 2816.208 | H43: =(([1]VANTAGE!AI43*'[1]MARK UP FOR RETAIL'!$D$14)*'[1]MARK UP FOR RETAIL'!$D$11)*'[1]MARK UP FOR RETAIL'!$D$5 -> 1539.7776

Sheet TITAN 700
A1: TITAN 700 - 7'5" WIDE
A3: BASIC MODEL OPTIONS | E3: Aluminium frame, Integral base with drop door(s), and Bar Capping
A6: Size Length x Width | B6: Single Roof Vent | C6: 10 Blade Louvre | D6: Standard Door | E6: With 4mm Toughened Glass | G6: With 6mm Twin wall Polycarbonate | H6: Hybrid Panels (coloured) | J6: Powder Coated Options are extra
A7: 6’5” x 7’5” | B7: 1 | C7: 1 | D7: Double Drop Doors | E7: =((('[1]TITAN 700'!T7*'[1]MARK UP FOR RETAIL'!$D$9)*'[1]MARK UP FOR RETAIL'!$D$11)*'[1]MARK UP FOR RETAIL'!$D$5)+'[1]MARK UP FOR RETAIL'!$G$5 -> 1815.0804 | G7: =((('[1]TITAN 700'!V7*'[1]MARK UP FOR RETAIL'!$D$9)*'[1]MARK UP FOR RETAIL'!$D$11)*'[1]MARK UP FOR RETAIL'!$D$5)+'[1]MARK UP FOR RETAIL'!$G$5 -> 2271.8556 | H7: =('[1]TITAN 700'!W7*'[1]MARK UP FOR RETAIL'!$D$11)*'[1]MARK UP FOR RETAIL'!$D$5 -> 415.4976 | J7: =(('[1]TITAN 700'!Y7*'[1]MARK UP FOR RETAIL'!$D$11)*'[1]MARK UP FOR RETAIL'!$D$5) -> 748.6992
A8: 8’5” x 7’5” | B8: 2 | C8: 1 | E8: =((('[1]TITAN 700'!T8*'[1]MARK UP FOR RETAIL'!$D$9)*'[1]MARK UP FOR RETAIL'!$D$11)*'[1]MARK UP FOR RETAIL'!$D$5)+'[1]MARK UP FOR RETAIL'!$G$5 -> 2077.812 | G8: =((('[1]TITAN 700'!V8*'[1]MARK UP FOR RETAIL'!$D$9)*'[1]MARK UP FOR RETAIL'!$D$11)*'[1]MARK UP FOR RETAIL'!$D$5)+'[1]MARK UP FOR RETAIL'!$G$5 -> 2594.6892 | H8: =('[1]TITAN 700'!W8*'[1]MARK UP FOR RETAIL'!$D$11)*'[1]MARK UP FOR RETAIL'!$D$5 -> 488.0736 | J8: =(('[1]TITAN 700'!Y8*'[1]MARK UP FOR RETAIL'!$D$11)*'[1]MARK UP FOR RETAIL'!$D$5) -> 881.1342
A9: 10’5” x 7’5” | B9: 2 | C9: 1 | E9: =((('[1]TITAN 700'!T9*'[1]MARK UP FOR RETAIL'!$D$9)*'[1]MARK UP FOR RETAIL'!$D$11)*'[1]MARK UP FOR RETAIL'!$D$5)+'[1]MARK UP FOR RETAIL'!$G$5 -> 2335.392 | G9: =((('[1]TITAN 700'!V9*'[1]MARK UP FOR RETAIL'!$D$9)*'[1]MARK UP FOR RETAIL'!$D$11)*'[1]MARK UP FOR RETAIL'!$D$5)+'[1]MARK UP FOR RETAIL'!$G$5 -> 2919.24 | H9: =('[1]TITAN 700'!W9*'[1]MARK UP FOR RETAIL'!$D$11)*'[1]MARK UP FOR RETAIL'!$D$5 -> 558.8352 | J9: =(('[1]TITAN 700'!Y9*'[1]MARK UP FOR RETAIL'!$D$11)*'[1]MARK UP FOR RETAIL'!$D$5) -> 1029.4614
A10: 12’6” x 7’5” | B10: 2 | C10: 1 | E10: =((('[1]TITAN 700'!T10*'[1]MARK UP FOR RETAIL'!$D$9)*'[1]MARK UP FOR RETAIL'!$D$11)*'[1]MARK UP FOR RETAIL'!$D$5)+'[1]MARK UP FOR RETAIL'!$G$5 -> 2599.8408 | G10: =((('[1]TITAN 700'!V10*'[1]MARK UP FOR RETAIL'!$D$9)*'[1]MARK UP FOR RETAIL'!$D$11)*'[1]MARK UP FOR RETAIL'!$D$5)+'[1]MARK UP FOR RETAIL'!$G$5 -> 3248.9424 | H10: =('[1]TITAN 700'!W10*'[1]MARK UP FOR RETAIL'!$D$11)*'[1]MARK UP FOR RETAIL'!$D$5 -> 629.5968 | J10: =(('[1]TITAN 700'!Y10*'[1]MARK UP FOR RETAIL'!$D$11)*'[1]MARK UP FOR RETAIL'!$D$5) -> 1179.5544
A11: 14’6” x 7’5” | B11: 4 | C11: 1 | E11: =((('[1]TITAN 700'!T11*'[1]MARK UP FOR RETAIL'!$D$9)*'[1]MARK UP FOR RETAIL'!$D$11)*'[1]MARK UP FOR RETAIL'!$D$5)+'[1]MARK UP FOR RETAIL'!$G$5 -> 2927.826 | G11: =((('[1]TITAN 700'!V11*'[1]MARK UP FOR RETAIL'!$D$9)*'[1]MARK UP FOR RETAIL'!$D$11)*'[1]MARK UP FOR RETAIL'!$D$5)+'[1]MARK UP FOR RETAIL'!$G$5 -> 3657.636 | H11: =('[1]TITAN 700'!W11*'[1]MARK UP FOR RETAIL'!$D$11)*'[1]MARK UP FOR RETAIL'!$D$5 -> 703.9872 | J11: =(('[1]TITAN 700'!Y11*'[1]MARK UP FOR RETAIL'!$D$11)*'[1]MARK UP FOR RETAIL'!$D$5) -> 1334.9448
A12: 16’6” x 7’5” | B12: 4 | C12: 1 | E12: =((('[1]TITAN 700'!T12*'[1]MARK UP FOR RETAIL'!$D$9)*'[1]MARK UP FOR RETAIL'!$D$11)*'[1]MARK UP FOR RETAIL'!$D$5)+'[1]MARK UP FOR RETAIL'!$G$5 -> 3279.852 | G12: =((('[1]TITAN 700'!V12*'[1]MARK UP FOR RETAIL'!$D$9)*'[1]MARK UP FOR RETAIL'!$D$11)*'[1]MARK UP FOR RETAIL'!$D$5)+'[1]MARK UP FOR RETAIL'!$G$5 -> 4098.9564 | H12: =('[1]TITAN 700'!W12*'[1]MARK UP FOR RETAIL'!$D$11)*'[1]MARK UP FOR RETAIL'!$D$5 -> 772.9344 | J12: =(('[1]TITAN 700'!Y12*'[1]MARK UP FOR RETAIL'!$D$11)*'[1]MARK UP FOR RETAIL'!$D$5) -> 1530.9486
A13: 18’6” x 7’5” | B13: 6 | C13: 1 | E13: =((('[1]TITAN 700'!T13*'[1]MARK UP FOR RETAIL'!$D$9)*'[1]MARK UP FOR RETAIL'!$D$11)*'[1]MARK UP FOR RETAIL'!$D$5)+'[1]MARK UP FOR RETAIL'!$G$5 -> 3667.9392 | G13: =((('[1]TITAN 700'!V13*'[1]MARK UP FOR RETAIL'!$D$9)*'[1]MARK UP FOR RETAIL'!$D$11)*'[1]MARK UP FOR RETAIL'!$D$5)+'[1]MARK UP FOR RETAIL'!$G$5 -> 4586.6412 | H13: =('[1]TITAN 700'!W13*'[1]MARK UP FOR RETAIL'!$D$11)*'[1]MARK UP FOR RETAIL'!$D$5 -> 847.3248 | J13: =(('[1]TITAN 700'!Y13*'[1]MARK UP FOR RETAIL'!$D$11)*'[1]MARK UP FOR RETAIL'!$D$5) -> 1771.0974
A14: 20’7” x 7’5” | B14: 6 | C14: 1 | E14: =((('[1]TITAN 700'!T14*'[1]MARK UP FOR RETAIL'!$D$9)*'[1]MARK UP FOR RETAIL'!$D$11)*'[1]MARK UP FOR RETAIL'!$D$5)+'[1]MARK UP FOR RETAIL'!$G$5 -> 4085.2188 | G14: =((('[1]TITAN 700'!V14*'[1]MARK UP FOR RETAIL'!$D$9)*'[1]MARK UP FOR RETAIL'!$D$11)*'[1]MARK UP FOR RETAIL'!$D$5)+'[1]MARK UP FOR RETAIL'!$G$5 -> 5103.5184 | H14: =('[1]TITAN 700'!W14*'[1]MARK UP FOR RETAIL'!$D$11)*'[1]MARK UP FOR RETAIL'!$D$5 -> 916.272 | J14: =(('[1]TITAN 700'!Y14*'[1]MARK UP FOR RETAIL'!$D$11)*'[1]MARK UP FOR RETAIL'!$D$5) -> 2034.2016
A15: Extra double door in the rear end | E15: =((('[1]TITAN 700'!T15*'[1]MARK UP FOR RETAIL'!$D$9)*'[1]MARK UP FOR RETAIL'!$D$11)*'[1]MARK UP FOR RETAIL'!$D$5) -> 226.6704 | G15: =((('[1]TITAN 700'!V15*'[1]MARK UP FOR RETAIL'!$D$9)*'[1]MARK UP FOR RETAIL'!$D$11)*'[1]MARK UP FOR RETAIL'!$D$5)+'[1]MARK UP FOR RETAIL'!$G$5 -> 226.6704 | H15: / | J15: =(('[1]TITAN 700'!Y15*'[1]MARK UP FOR RETAIL'!$D$11)*'[1]MARK UP FOR RETAIL'!$D$5) -> 135.9666
A16: Partition with Double Door | E16: =((('[1]TITAN 700'!T16*'[1]MARK UP FOR RETAIL'!$D$9)*'[1]MARK UP FOR RETAIL'!$D$11)*'[1]MARK UP FOR RETAIL'!$D$5)+'[1]MARK UP FOR RETAIL'!$G$5 -> 564.9588 | G16: =((('[1]TITAN 700'!V16*'[1]MARK UP FOR RETAIL'!$D$9)*'[1]MARK UP FOR RETAIL'!$D$11)*'[1]MARK UP FOR RETAIL'!$D$5)+'[1]MARK UP FOR RETAIL'!$G$5 -> 587.2824 | H16: =('[1]TITAN 700'!W16*'[1]MARK UP FOR RETAIL'!$D$11)*'[1]MARK UP FOR RETAIL'!$D$5 -> 68.9472 | J16: =(('[1]TITAN 700'!Y16*'[1]MARK UP FOR RETAIL'!$D$11)*'[1]MARK UP FOR RETAIL'!$D$5) -> 248.9778
A17: Soft Soil Support | E17: =(('[1]TITAN 700'!T17*'[1]MARK UP FOR RETAIL'!$D$10)*'[1]MARK UP FOR RETAIL'!$D$11)*'[1]MARK UP FOR RETAIL'!$D$7 -> 42.93 | H17: / | J17: =(('[1]TITAN 700'!Y17*'[1]MARK UP FOR RETAIL'!$D$11)*'[1]MARK UP FOR RETAIL'!$D$5) -> 33.5502
A18: R-TYPE | E18: =((('[1]TITAN 700'!T18*'[1]MARK UP FOR RETAIL'!$D$9)*'[1]MARK UP FOR RETAIL'!$D$11)*'[1]MARK UP FOR RETAIL'!$D$5) -> -106.4664 | G18: =((('[1]TITAN 700'!V18*'[1]MARK UP FOR RETAIL'!$D$9)*'[1]MARK UP FOR RETAIL'!$D$11)*'[1]MARK UP FOR RETAIL'!$D$5) -> -118.4868 | J18: =(('[1]TITAN 700'!Y18*'[1]MARK UP FOR RETAIL'!$D$11)*'[1]MARK UP FOR RETAIL'!$D$5) -> -40.6134
A23: TITAN 700 PACKAGE
A25: INCLUDES AS STANDARD | G25: PACKAGE EXTRAS
A27: Integral aluminium base | G27: Diamond shelf to length - 2 slat
A28: Double Dropped Doors | G28: Diamond staging to length - 7 slat
A29: At least one roof vent | G29: One Bayliss MK 7 auto roof vent opener
A30: One 10 blade louvre | G30: One automatic louvre opener
A31: Bar Capping | G31: Standard rainwater collection kit
A32: Cantilevers on every bar | G32: Grow Hooks (6)
A33: Door Lock and handle
A37: Size Length x Width | B37: Single Roof Vents | C37: 10 Blade Louvre | D37: Standard Door | E37: With Toughened Glass | G37: Powder Coated Options are extra
A38: 6’5” x 7’5” | B38: 1 | C38: 1 | D38: Double Drop Door | E38: =((('[1]TITAN 700'!T38*'[1]MARK UP FOR RETAIL'!$D$14)*'[1]MARK UP FOR RETAIL'!$D$11)*'[1]MARK UP FOR RETAIL'!$D$5)+'[1]MARK UP FOR RETAIL'!$G$5 -> 2204.8848 | G38: =(('[1]TITAN 700'!V38*'[1]MARK UP FOR RETAIL'!$D$14)*'[1]MARK UP FOR RETAIL'!$D$11)*'[1]MARK UP FOR RETAIL'!$D$5 -> 893.4948
A39: 8’5” x 7’5” | B39: 2 | C39: 1 | E39: =((('[1]TITAN 700'!T39*'[1]MARK UP FOR RETAIL'!$D$14)*'[1]MARK UP FOR RETAIL'!$D$11)*'[1]MARK UP FOR RETAIL'!$D$5)+'[1]MARK UP FOR RETAIL'!$G$5 -> 2527.7184 | G39: =(('[1]TITAN 700'!V39*'[1]MARK UP FOR RETAIL'!$D$14)*'[1]MARK UP FOR RETAIL'!$D$11)*'[1]MARK UP FOR RETAIL'!$D$5 -> 1063.0116
A40: 10’5” x 7’5” | B40: 2 | C40: 1 | E40: =((('[1]TITAN 700'!T40*'[1]MARK UP FOR RETAIL'!$D$14)*'[1]MARK UP FOR RETAIL'!$D$11)*'[1]MARK UP FOR RETAIL'!$D$5)+'[1]MARK UP FOR RETAIL'!$G$5 -> 2864.2896 | G40: =(('[1]TITAN 700'!V40*'[1]MARK UP FOR RETAIL'!$D$14)*'[1]MARK UP FOR RETAIL'!$D$11)*'[1]MARK UP FOR RETAIL'!$D$5 -> 1281.9708
A41: 12’6” x 7’5” | B41: 2 | C41: 1 | E41: =((('[1]TITAN 700'!T41*'[1]MARK UP FOR RETAIL'!$D$14)*'[1]MARK UP FOR RETAIL'!$D$11)*'[1]MARK UP FOR RETAIL'!$D$5)+'[1]MARK UP FOR RETAIL'!$G$5 -> 3183.6888 | G41: =(('[1]TITAN 700'!V41*'[1]MARK UP FOR RETAIL'!$D$14)*'[1]MARK UP FOR RETAIL'!$D$11)*'[1]MARK UP FOR RETAIL'!$D$5 -> 1476.2088
A42: 14’6” x 7’5” | B42: 4 | C42: 1 | E42: =((('[1]TITAN 700'!T42*'[1]MARK UP FOR RETAIL'!$D$14)*'[1]MARK UP FOR RETAIL'!$D$11)*'[1]MARK UP FOR RETAIL'!$D$5)+'[1]MARK UP FOR RETAIL'!$G$5 -> 3575.2104 | G42: =(('[1]TITAN 700'!V42*'[1]MARK UP FOR RETAIL'!$D$14)*'[1]MARK UP FOR RETAIL'!$D$11)*'[1]MARK UP FOR RETAIL'!$D$5 -> 1677.51

Sheet BELMONT
A1: BELMONT: 8'5" WIDE
A2: BASIC MODEL OPTIONS
E3: Aluminium frame, Integral base with drop door(s) | K3: Powder Coated Options are extra
A5: Size Length x Width | B5: Roof Vents | D5: Standard Door | E5: With Horticultural Glass | F5: With Toughened Safety Glass | G5: With 6mm Twin wall Polycarbonate | H5: Bar Capping (TG only) | I5: Hybrid Panels (coloured) | K5: Powder Coated Options are extra
A6: 2’5” x 8’5” NOT FREE STANDING | B6: 0 | D6: Single Drop Door | E6: =((([1]BELMONT!AR6*'[1]MARK UP FOR RETAIL'!$D$11)*'[1]MARK UP FOR RETAIL'!$D$9)*'[1]MARK UP FOR RETAIL'!$D$5)+'[1]MARK UP FOR RETAIL'!$G$5 -> 568.3932 | F6: =((([1]BELMONT!AS6*'[1]MARK UP FOR RETAIL'!$D$11)*'[1]MARK UP FOR RETAIL'!$D$9)*'[1]MARK UP FOR RETAIL'!$D$5)+'[1]MARK UP FOR RETAIL'!$G$5 -> 745.2648 | G6: =((([1]BELMONT!AT6*'[1]MARK UP FOR RETAIL'!$D$11)*'[1]MARK UP FOR RETAIL'!$D$9)*'[1]MARK UP FOR RETAIL'!$D$5)+'[1]MARK UP FOR RETAIL'!$G$5 -> 939.3084 | H6: =(([1]BELMONT!AU6*'[1]MARK UP FOR RETAIL'!$D$10)*'[1]MARK UP FOR RETAIL'!$D$11)*'[1]MARK UP FOR RETAIL'!$D$7 -> 164.8512 | I6: =([1]BELMONT!AV6*'[1]MARK UP FOR RETAIL'!$D$11)*'[1]MARK UP FOR RETAIL'!$D$5 -> 114.3072 | K6: =([1]BELMONT!AX6*'[1]MARK UP FOR RETAIL'!$D$11)*'[1]MARK UP FOR RETAIL'!$D$5 -> 319.6098
A7: 4’5” x 8’5” | B7: 1 | E7: =((([1]BELMONT!AR7*'[1]MARK UP FOR RETAIL'!$D$11)*'[1]MARK UP FOR RETAIL'!$D$9)*'[1]MARK UP FOR RETAIL'!$D$5)+'[1]MARK UP FOR RETAIL'!$G$5 -> 702.3348 | F7: =((([1]BELMONT!AS7*'[1]MARK UP FOR RETAIL'!$D$11)*'[1]MARK UP FOR RETAIL'!$D$9)*'[1]MARK UP FOR RETAIL'!$D$5)+'[1]MARK UP FOR RETAIL'!$G$5 -> 916.9848 | G7: =((([1]BELMONT!AT7*'[1]MARK UP FOR RETAIL'!$D$11)*'[1]MARK UP FOR RETAIL'!$D$9)*'[1]MARK UP FOR RETAIL'!$D$5)+'[1]MARK UP FOR RETAIL'!$G$5 -> 1188.3024 | H7: =(([1]BELMONT!AU7*'[1]MARK UP FOR RETAIL'!$D$10)*'[1]MARK UP FOR RETAIL'!$D$11)*'[1]MARK UP FOR RETAIL'!$D$7 -> 182.0232 | I7: =([1]BELMONT!AV7*'[1]MARK UP FOR RETAIL'!$D$11)*'[1]MARK UP FOR RETAIL'!$D$5 -> 410.0544 | K7: =([1]BELMONT!AX7*'[1]MARK UP FOR RETAIL'!$D$11)*'[1]MARK UP FOR RETAIL'!$D$5 -> 411.4314
A8: 6’5” x 8’5” | B8: 1 | E8: =((([1]BELMONT!AR8*'[1]MARK UP FOR RETAIL'!$D$11)*'[1]MARK UP FOR RETAIL'!$D$9)*'[1]MARK UP FOR RETAIL'!$D$5)+'[1]MARK UP FOR RETAIL'!$G$5 -> 827.6904 | F8: =((([1]BELMONT!AS8*'[1]MARK UP FOR RETAIL'!$D$11)*'[1]MARK UP FOR RETAIL'!$D$9)*'[1]MARK UP FOR RETAIL'!$D$5)+'[1]MARK UP FOR RETAIL'!$G$5 -> 1081.836 | G8: =((([1]BELMONT!AT8*'[1]MARK UP FOR RETAIL'!$D$11)*'[1]MARK UP FOR RETAIL'!$D$9)*'[1]MARK UP FOR RETAIL'!$D$5)+'[1]MARK UP FOR RETAIL'!$G$5 -> 1433.862 | H8: =(([1]BELMONT!AU8*'[1]MARK UP FOR RETAIL'!$D$10)*'[1]MARK UP FOR RETAIL'!$D$11)*'[1]MARK UP FOR RETAIL'!$D$7 -> 199.1952 | I8: =([1]BELMONT!AV8*'[1]MARK UP FOR RETAIL'!$D$11)*'[1]MARK UP FOR RETAIL'!$D$5 -> 482.6304 | K8: =([1]BELMONT!AX8*'[1]MARK UP FOR RETAIL'!$D$11)*'[1]MARK UP FOR RETAIL'!$D$5 -> 508.5504
A9: 8’5” x 8’5” | B9: 2 | E9: =((([1]BELMONT!AR9*'[1]MARK UP FOR RETAIL'!$D$11)*'[1]MARK UP FOR RETAIL'!$D$9)*'[1]MARK UP FOR RETAIL'!$D$5)+'[1]MARK UP FOR RETAIL'!$G$5 -> 961.632 | F9: =((([1]BELMONT!AS9*'[1]MARK UP FOR RETAIL'!$D$11)*'[1]MARK UP FOR RETAIL'!$D$9)*'[1]MARK UP FOR RETAIL'!$D$5)+'[1]MARK UP FOR RETAIL'!$G$5 -> 1255.2732 | G9: =((([1]BELMONT!AT9*'[1]MARK UP FOR RETAIL'!$D$11)*'[1]MARK UP FOR RETAIL'!$D$9)*'[1]MARK UP FOR RETAIL'!$D$5)+'[1]MARK UP FOR RETAIL'!$G$5 -> 1691.442 | H9: =(([1]BELMONT!AU9*'[1]MARK UP FOR RETAIL'!$D$10)*'[1]MARK UP FOR RETAIL'!$D$11)*'[1]MARK UP FOR RETAIL'!$D$7 -> 214.65 | I9: =([1]BELMONT!AV9*'[1]MARK UP FOR RETAIL'!$D$11)*'[1]MARK UP FOR RETAIL'!$D$5 -> 551.5776 | K9: =([1]BELMONT!AX9*'[1]MARK UP FOR RETAIL'!$D$11)*'[1]MARK UP FOR RETAIL'!$D$5 -> 616.2642
A10: 10’5” x 8’5” | B10: 2 | E10: =((([1]BELMONT!AR10*'[1]MARK UP FOR RETAIL'!$D$11)*'[1]MARK UP FOR RETAIL'!$D$9)*'[1]MARK UP FOR RETAIL'!$D$5)+'[1]MARK UP FOR RETAIL'!$G$5 -> 1121.3316 | F10: =((([1]BELMONT!AS10*'[1]MARK UP FOR RETAIL'!$D$11)*'[1]MARK UP FOR RETAIL'!$D$9)*'[1]MARK UP FOR RETAIL'!$D$5)+'[1]MARK UP FOR RETAIL'!$G$5 -> 1442.448 | G10: =((([1]BELMONT!AT10*'[1]MARK UP FOR RETAIL'!$D$11)*'[1]MARK UP FOR RETAIL'!$D$9)*'[1]MARK UP FOR RETAIL'!$D$5)+'[1]MARK UP FOR RETAIL'!$G$5 -> 1961.0424 | H10: =(([1]BELMONT!AU10*'[1]MARK UP FOR RETAIL'!$D$10)*'[1]MARK UP FOR RETAIL'!$D$11)*'[1]MARK UP FOR RETAIL'!$D$7 -> 230.1048 | I10: =([1]BELMONT!AV10*'[1]MARK UP FOR RETAIL'!$D$11)*'[1]MARK UP FOR RETAIL'!$D$5 -> 624.1536 | K10: =([1]BELMONT!AX10*'[1]MARK UP FOR RETAIL'!$D$11)*'[1]MARK UP FOR RETAIL'!$D$5 -> 723.978
A11: 12’6” x 8’5” | B11: 2 | E11: =((([1]BELMONT!AR11*'[1]MARK UP FOR RETAIL'!$D$11)*'[1]MARK UP FOR RETAIL'!$D$9)*'[1]MARK UP FOR RETAIL'!$D$5)+'[1]MARK UP FOR RETAIL'!$G$5 -> 1294.7688 | F11: =((([1]BELMONT!AS11*'[1]MARK UP FOR RETAIL'!$D$11)*'[1]MARK UP FOR RETAIL'!$D$9)*'[1]MARK UP FOR RETAIL'!$D$5)+'[1]MARK UP FOR RETAIL'!$G$5 -> 1657.098 | G11: =((([1]BELMONT!AT11*'[1]MARK UP FOR RETAIL'!$D$11)*'[1]MARK UP FOR RETAIL'!$D$9)*'[1]MARK UP FOR RETAIL'!$D$5)+'[1]MARK UP FOR RETAIL'!$G$5 -> 2237.5116 | H11: =(([1]BELMONT!AU11*'[1]MARK UP FOR RETAIL'!$D$10)*'[1]MARK UP FOR RETAIL'!$D$11)*'[1]MARK UP FOR RETAIL'!$D$7 -> 254.1456 | I11: =([1]BELMONT!AV11*'[1]MARK UP FOR RETAIL'!$D$11)*'[1]MARK UP FOR RETAIL'!$D$5 -> 696.7296 | K11: =([1]BELMONT!AX11*'[1]MARK UP FOR RETAIL'!$D$11)*'[1]MARK UP FOR RETAIL'!$D$5 -> 835.2234
A12: 14’6” x 8’5” | B12: 3 | E12: =((([1]BELMONT!AR12*'[1]MARK UP FOR RETAIL'!$D$11)*'[1]MARK UP FOR RETAIL'!$D$9)*'[1]MARK UP FOR RETAIL'!$D$5)+'[1]MARK UP FOR RETAIL'!$G$5 -> 1488.8124 | F12: =((([1]BELMONT!AS12*'[1]MARK UP FOR RETAIL'!$D$11)*'[1]MARK UP FOR RETAIL'!$D$9)*'[1]MARK UP FOR RETAIL'!$D$5)+'[1]MARK UP FOR RETAIL'!$G$5 -> 1876.8996 | G12: =((([1]BELMONT!AT12*'[1]MARK UP FOR RETAIL'!$D$11)*'[1]MARK UP FOR RETAIL'!$D$9)*'[1]MARK UP FOR RETAIL'!$D$5)+'[1]MARK UP FOR RETAIL'!$G$5 -> 2465.8992 | H12: =(([1]BELMONT!AU12*'[1]MARK UP FOR RETAIL'!$D$10)*'[1]MARK UP FOR RETAIL'!$D$11)*'[1]MARK UP FOR RETAIL'!$D$7 -> 274.752 | I12: =([1]BELMONT!AV12*'[1]MARK UP FOR RETAIL'!$D$11)*'[1]MARK UP FOR RETAIL'!$D$5 -> 767.4912 | K12: =([1]BELMONT!AX12*'[1]MARK UP FOR RETAIL'!$D$11)*'[1]MARK UP FOR RETAIL'!$D$5 -> 946.4688
A13: 16’6” x 8’5” | B13: 4 | E13: =((([1]BELMONT!AR13*'[1]MARK UP FOR RETAIL'!$D$11)*'[1]MARK UP FOR RETAIL'!$D$9)*'[1]MARK UP FOR RETAIL'!$D$5)+'[1]MARK UP FOR RETAIL'!$G$5 -> 1718.9172 | F13: =((([1]BELMONT!AS13*'[1]MARK UP FOR RETAIL'!$D$11)*'[1]MARK UP FOR RETAIL'!$D$9)*'[1]MARK UP FOR RETAIL'!$D$5)+'[1]MARK UP FOR RETAIL'!$G$5 -> 2136.1968 | G13: =((([1]BELMONT!AT13*'[1]MARK UP FOR RETAIL'!$D$11)*'[1]MARK UP FOR RETAIL'!$D$9)*'[1]MARK UP FOR RETAIL'!$D$5)+'[1]MARK UP FOR RETAIL'!$G$5 -> 2697.7212 | H13: =(([1]BELMONT!AU13*'[1]MARK UP FOR RETAIL'!$D$10)*'[1]MARK UP FOR RETAIL'!$D$11)*'[1]MARK UP FOR RETAIL'!$D$7 -> 298.7928 | I13: =([1]BELMONT!AV13*'[1]MARK UP FOR RETAIL'!$D$11)*'[1]MARK UP FOR RETAIL'!$D$5 -> 838.2528 | K13: =([1]BELMONT!AX13*'[1]MARK UP FOR RETAIL'!$D$11)*'[1]MARK UP FOR RETAIL'!$D$5 -> 1098.3276
A14: 18’6” x 8’5” | B14: 5 | E14: =((([1]BELMONT!AR14*'[1]MARK UP FOR RETAIL'!$D$11)*'[1]MARK UP FOR RETAIL'!$D$9)*'[1]MARK UP FOR RETAIL'!$D$5)+'[1]MARK UP FOR RETAIL'!$G$5 -> 2014.2756 | F14: =((([1]BELMONT!AS14*'[1]MARK UP FOR RETAIL'!$D$11)*'[1]MARK UP FOR RETAIL'!$D$9)*'[1]MARK UP FOR RETAIL'!$D$5)+'[1]MARK UP FOR RETAIL'!$G$5 -> 2474.4852 | G14: =((([1]BELMONT!AT14*'[1]MARK UP FOR RETAIL'!$D$11)*'[1]MARK UP FOR RETAIL'!$D$9)*'[1]MARK UP FOR RETAIL'!$D$5)+'[1]MARK UP FOR RETAIL'!$G$5 -> 3075.5052 | H14: =(([1]BELMONT!AU14*'[1]MARK UP FOR RETAIL'!$D$10)*'[1]MARK UP FOR RETAIL'!$D$11)*'[1]MARK UP FOR RETAIL'!$D$7 -> 314.2476 | I14: =([1]BELMONT!AV14*'[1]MARK UP FOR RETAIL'!$D$11)*'[1]MARK UP FOR RETAIL'!$D$5 -> 910.8288 | K14: =([1]BELMONT!AX14*'[1]MARK UP FOR RETAIL'!$D$11)*'[1]MARK UP FOR RETAIL'!$D$5 -> 1213.1046
A15: 20’6” x 8’5” | B15: 6 | E15: =((([1]BELMONT!AR15*'[1]MARK UP FOR RETAIL'!$D$11)*'[1]MARK UP FOR RETAIL'!$D$9)*'[1]MARK UP FOR RETAIL'!$D$5)+'[1]MARK UP FOR RETAIL'!$G$5 -> 2287.3104 | F15: =((([1]BELMONT!AS15*'[1]MARK UP FOR RETAIL'!$D$11)*'[1]MARK UP FOR RETAIL'!$D$9)*'[1]MARK UP FOR RETAIL'!$D$5)+'[1]MARK UP FOR RETAIL'!$G$5 -> 2804.1876 | G15: =((([1]BELMONT!AT15*'[1]MARK UP FOR RETAIL'!$D$11)*'[1]MARK UP FOR RETAIL'!$D$9)*'[1]MARK UP FOR RETAIL'!$D$5)+'[1]MARK UP FOR RETAIL'!$G$5 -> 3432.6828 | H15: =(([1]BELMONT!AU15*'[1]MARK UP FOR RETAIL'!$D$10)*'[1]MARK UP FOR RETAIL'!$D$11)*'[1]MARK UP FOR RETAIL'!$D$7 -> 334.854 | I15: =([1]BELMONT!AV15*'[1]MARK UP FOR RETAIL'!$D$11)*'[1]MARK UP FOR RETAIL'!$D$5 -> 981.5904 | K15: =([1]BELMONT!AX15*'[1]MARK UP FOR RETAIL'!$D$11)*'[1]MARK UP FOR RETAIL'!$D$5 -> 1281.9708
A16: Extra door making double, or extra single door | E16: =((([1]BELMONT!AR16*'[1]MARK UP FOR RETAIL'!$D$11)*'[1]MARK UP FOR RETAIL'!$D$9)*'[1]MARK UP FOR RETAIL'!$D$5) -> 109.9008 | H16: =(([1]BELMONT!AU16*'[1]MARK UP FOR RETAIL'!$D$10)*'[1]MARK UP FOR RETAIL'!$D$11)*'[1]MARK UP FOR RETAIL'!$D$7 -> 27.4752 | I16: / | K16: =([1]BELMONT!AX16*'[1]MARK UP FOR RETAIL'!$D$11)*'[1]MARK UP FOR RETAIL'!$D$5 -> 49.4424
A17: Partition with double door | E17: =((([1]BELMONT!AR17*'[1]MARK UP FOR RETAIL'!$D$11)*'[1]MARK UP FOR RETAIL'!$D$9)*'[1]MARK UP FOR RETAIL'!$D$5) -> 315.9648 | F17: =((([1]BELMONT!AS17*'[1]MARK UP FOR RETAIL'!$D$11)*'[1]MARK UP FOR RETAIL'!$D$9)*'[1]MARK UP FOR RETAIL'!$D$5) -> 417.2796 | G17: =((([1]BELMONT!AT17*'[1]MARK UP FOR RETAIL'!$D$11)*'[1]MARK UP FOR RETAIL'!$D$9)*'[1]MARK UP FOR RETAIL'!$D$5) -> 472.23 | H17: =(([1]BELMONT!AU17*'[1]MARK UP FOR RETAIL'!$D$10)*'[1]MARK UP FOR RETAIL'!$D$11)*'[1]MARK UP FOR RETAIL'!$D$7 -> 77.274 | I17: =([1]BELMONT!AV17*'[1]MARK UP FOR RETAIL'!$D$11)*'[1]MARK UP FOR RETAIL'!$D$5 -> 107.0496 | K17: =([1]BELMONT!AX17*'[1]MARK UP FOR RETAIL'!$D$11)*'[1]MARK UP FOR RETAIL'!$D$5 -> 199.5354
A18: Soft Soil Support | E18: =(([1]BELMONT!AR18*'[1]MARK UP FOR RETAIL'!$D$10)*'[1]MARK UP FOR RETAIL'!$D$11)*'[1]MARK UP FOR RETAIL'!$D$7 -> 49.7988 | H18: / | I18: / | K18: =([1]BELMONT!AX18*'[1]MARK UP FOR RETAIL'!$D$11)*'[1]MARK UP FOR RETAIL'!$D$5 -> 37.0818
A19: R-TYPE | E19: =((([1]BELMONT!AR19*'[1]MARK UP FOR RETAIL'!$D$11)*'[1]MARK UP FOR RETAIL'!$D$9)*'[1]MARK UP FOR RETAIL'!$D$5) -> -80.7084 | F19: =((([1]BELMONT!AS19*'[1]MARK UP FOR RETAIL'!$D$11)*'[1]MARK UP FOR RETAIL'!$D$9)*'[1]MARK UP FOR RETAIL'!$D$5) -> -125.3556 | G19: =((([1]BELMONT!AT19*'[1]MARK UP FOR RETAIL'!$D$11)*'[1]MARK UP FOR RETAIL'!$D$9)*'[1]MARK UP FOR RETAIL'!$D$5) -> -145.962 | H19: =(([1]BELMONT!AU19*'[1]MARK UP FOR RETAIL'!$D$10)*'[1]MARK UP FOR RETAIL'!$D$11)*'[1]MARK UP FOR RETAIL'!$D$7 -> -24.0408 | K19: =([1]BELMONT!AX19*'[1]MARK UP FOR RETAIL'!$D$11)*'[1]MARK UP FOR RETAIL'!$D$5 -> -65.3346
A22: BELMONT PACKAGE
A24: INCLUDES AS STANDARD | H24: PACKAGE EXTRAS
H26: Double Dropped Doors
A27: Integral aluminium base with dropped doors | H27: Diamond shelf to length - 2 slat
A28: At least one roof vent | H28: Diamond staging to length - 7 slat
A29: Integral Gutters | H29: One 5 blade louvre
H30: One automatic roof vent opener
H31: One automatic louvre opener
H32: Standard rainwater collection kit
H33: Grow Hooks (6)
A37: Size Length x Width | B37: Roof Vents | D37: Standard Door | E37: With Horticultural Glass | F37: With Toughened Safety Glass | H37: Powder Coated Options are extra
A38: 6’5” x 8’5” | B38: 1 | D38: Double Drop Door | E38: =((([1]BELMONT!AR38*'[1]MARK UP FOR RETAIL'!$D$14)*'[1]MARK UP FOR RETAIL'!$D$11)*'[1]MARK UP FOR RETAIL'!$D$5)+'[1]MARK UP FOR RETAIL'!$G$5 -> 1329.1128 | F38: =((([1]BELMONT!AS38*'[1]MARK UP FOR RETAIL'!$D$14)*'[1]MARK UP FOR RETAIL'!$D$11)*'[1]MARK UP FOR RETAIL'!$D$5)+'[1]MARK UP FOR RETAIL'!$G$5 -> 1583.2584 | H38: =(([1]BELMONT!AU38*'[1]MARK UP FOR RETAIL'!$D$14)*'[1]MARK UP FOR RETAIL'!$D$11)*'[1]MARK UP FOR RETAIL'!$D$5 -> 750.465
A39: 8’5” x 8’5” | B39: 2 | E39: =((([1]BELMONT!AR39*'[1]MARK UP FOR RETAIL'!$D$14)*'[1]MARK UP FOR RETAIL'!$D$11)*'[1]MARK UP FOR RETAIL'!$D$5)+'[1]MARK UP FOR RETAIL'!$G$5 -> 1526.5908 | F39: =((([1]BELMONT!AS39*'[1]MARK UP FOR RETAIL'!$D$14)*'[1]MARK UP FOR RETAIL'!$D$11)*'[1]MARK UP FOR RETAIL'!$D$5)+'[1]MARK UP FOR RETAIL'!$G$5 -> 1823.6664 | H39: =(([1]BELMONT!AU39*'[1]MARK UP FOR RETAIL'!$D$14)*'[1]MARK UP FOR RETAIL'!$D$11)*'[1]MARK UP FOR RETAIL'!$D$5 -> 904.0896
A40: 10’5” x 8’5” | B40: 2 | E40: =((([1]BELMONT!AR40*'[1]MARK UP FOR RETAIL'!$D$14)*'[1]MARK UP FOR RETAIL'!$D$11)*'[1]MARK UP FOR RETAIL'!$D$5)+'[1]MARK UP FOR RETAIL'!$G$5 -> 1763.5644 | F40: =((([1]BELMONT!AS40*'[1]MARK UP FOR RETAIL'!$D$14)*'[1]MARK UP FOR RETAIL'!$D$11)*'[1]MARK UP FOR RETAIL'!$D$5)+'[1]MARK UP FOR RETAIL'!$G$5 -> 2084.6808 | H40: =(([1]BELMONT!AU40*'[1]MARK UP FOR RETAIL'!$D$14)*'[1]MARK UP FOR RETAIL'!$D$11)*'[1]MARK UP FOR RETAIL'!$D$5 -> 1071.8406
A41: 12’6” x 8’5” | B41: 2 | E41: =((([1]BELMONT!AR41*'[1]MARK UP FOR RETAIL'!$D$14)*'[1]MARK UP FOR RETAIL'!$D$11)*'[1]MARK UP FOR RETAIL'!$D$5)+'[1]MARK UP FOR RETAIL'!$G$5 -> 1993.6692 | F41: =((([1]BELMONT!AS41*'[1]MARK UP FOR RETAIL'!$D$14)*'[1]MARK UP FOR RETAIL'!$D$11)*'[1]MARK UP FOR RETAIL'!$D$5)+'[1]MARK UP FOR RETAIL'!$G$5 -> 2352.564 | H41: =(([1]BELMONT!AU41*'[1]MARK UP FOR RETAIL'!$D$14)*'[1]MARK UP FOR RETAIL'!$D$11)*'[1]MARK UP FOR RETAIL'!$D$5 -> 1225.4652
A42: 14’6” x 8’5” | B42: 3 | E42: =((([1]BELMONT!AR42*'[1]MARK UP FOR RETAIL'!$D$14)*'[1]MARK UP FOR RETAIL'!$D$11)*'[1]MARK UP FOR RETAIL'!$D$5)+'[1]MARK UP FOR RETAIL'!$G$5 -> 2246.0976 | F42: =((([1]BELMONT!AS42*'[1]MARK UP FOR RETAIL'!$D$14)*'[1]MARK UP FOR RETAIL'!$D$11)*'[1]MARK UP FOR RETAIL'!$D$5)+'[1]MARK UP FOR RETAIL'!$G$5 -> 2637.6192 | H42: =(([1]BELMONT!AU42*'[1]MARK UP FOR RETAIL'!$D$14)*'[1]MARK UP FOR RETAIL'!$D$11)*'[1]MARK UP FOR RETAIL'!$D$5 -> 1386.153
A43: 16’6” x 8’5” | B43: 4 | E43: =((([1]BELMONT!AR43*'[1]MARK UP FOR RETAIL'!$D$14)*'[1]MARK UP FOR RETAIL'!$D$11)*'[1]MARK UP FOR RETAIL'!$D$5)+'[1]MARK UP FOR RETAIL'!$G$5 -> 2541.456 | F43: =((([1]BELMONT!AS43*'[1]MARK UP FOR RETAIL'!$D$14)*'[1]MARK UP FOR RETAIL'!$D$11)*'[1]MARK UP FOR RETAIL'!$D$5)+'[1]MARK UP FOR RETAIL'!$G$5 -> 2958.7356 | H43: =(([1]BELMONT!AU43*'[1]MARK UP FOR RETAIL'!$D$14)*'[1]MARK UP FOR RETAIL'!$D$11)*'[1]MARK UP FOR RETAIL'!$D$5 -> 1582.1568

Sheet GX 800
A1: GX 800 - 8'5" WIDE
A2: BASIC MODEL OPTIONS
E3: Aluminium frame, with drop doors and Bar Capping
A5: Size Length x Width | B5: Double Roof Vents | C5: Side Louvre | D5: Standard Door | E5: With Toughened Safety Glass | F5: With 6mm Twin wall Polycarbonate | H5: Hybrid Panels (coloured) | J5: Powder Coated Options are extra
A6: 6’5” x 8’5” | B6: 1 | C6: 2 | D6: Double Drop Doors | E6: =((('[1]GX 800'!AM6*'[1]MARK UP FOR RETAIL'!$D$9)*'[1]MARK UP FOR RETAIL'!$D$11)*'[1]MARK UP FOR RETAIL'!$D$5)+'[1]MARK UP FOR RETAIL'!$G$5 -> 1675.9872 | F6: =((('[1]GX 800'!AN6*'[1]MARK UP FOR RETAIL'!$D$9)*'[1]MARK UP FOR RETAIL'!$D$11)*'[1]MARK UP FOR RETAIL'!$D$5)+'[1]MARK UP FOR RETAIL'!$G$5 -> 1909.5264 | H6: =('[1]GX 800'!AP6*'[1]MARK UP FOR RETAIL'!$D$11)*'[1]MARK UP FOR RETAIL'!$D$7 -> 437.2704 | J6: =('[1]GX 800'!AR6*'[1]MARK UP FOR RETAIL'!$D$11)*'[1]MARK UP FOR RETAIL'!$D$5 -> 796.3758
A7: 8’5” x 8’5” | B7: 2 | C7: 2 | E7: =((('[1]GX 800'!AM7*'[1]MARK UP FOR RETAIL'!$D$9)*'[1]MARK UP FOR RETAIL'!$D$11)*'[1]MARK UP FOR RETAIL'!$D$5)+'[1]MARK UP FOR RETAIL'!$G$5 -> 1895.7888 | F7: =((('[1]GX 800'!AN7*'[1]MARK UP FOR RETAIL'!$D$9)*'[1]MARK UP FOR RETAIL'!$D$11)*'[1]MARK UP FOR RETAIL'!$D$5)+'[1]MARK UP FOR RETAIL'!$G$5 -> 2182.5612 | H7: =('[1]GX 800'!AP7*'[1]MARK UP FOR RETAIL'!$D$11)*'[1]MARK UP FOR RETAIL'!$D$7 -> 509.8464 | J7: =('[1]GX 800'!AR7*'[1]MARK UP FOR RETAIL'!$D$11)*'[1]MARK UP FOR RETAIL'!$D$5 -> 810.5022
A8: 10’5” x 8’5” | B8: 2 | C8: 2 | E8: =((('[1]GX 800'!AM8*'[1]MARK UP FOR RETAIL'!$D$9)*'[1]MARK UP FOR RETAIL'!$D$11)*'[1]MARK UP FOR RETAIL'!$D$5)+'[1]MARK UP FOR RETAIL'!$G$5 -> 2136.1968 | F8: =((('[1]GX 800'!AN8*'[1]MARK UP FOR RETAIL'!$D$9)*'[1]MARK UP FOR RETAIL'!$D$11)*'[1]MARK UP FOR RETAIL'!$D$5)+'[1]MARK UP FOR RETAIL'!$G$5 -> 2472.768 | H8: =('[1]GX 800'!AP8*'[1]MARK UP FOR RETAIL'!$D$11)*'[1]MARK UP FOR RETAIL'!$D$7 -> 580.608 | J8: =('[1]GX 800'!AR8*'[1]MARK UP FOR RETAIL'!$D$11)*'[1]MARK UP FOR RETAIL'!$D$5 -> 861.7104
A9: 12’6” x 8’5” | B9: 2 | C9: 2 | E9: =((('[1]GX 800'!AM9*'[1]MARK UP FOR RETAIL'!$D$9)*'[1]MARK UP FOR RETAIL'!$D$11)*'[1]MARK UP FOR RETAIL'!$D$5)+'[1]MARK UP FOR RETAIL'!$G$5 -> 2395.494 | F9: =((('[1]GX 800'!AN9*'[1]MARK UP FOR RETAIL'!$D$9)*'[1]MARK UP FOR RETAIL'!$D$11)*'[1]MARK UP FOR RETAIL'!$D$5)+'[1]MARK UP FOR RETAIL'!$G$5 -> 2778.4296 | H9: =('[1]GX 800'!AP9*'[1]MARK UP FOR RETAIL'!$D$11)*'[1]MARK UP FOR RETAIL'!$D$7 -> 649.5552 | J9: =('[1]GX 800'!AR9*'[1]MARK UP FOR RETAIL'!$D$11)*'[1]MARK UP FOR RETAIL'!$D$5 -> 937.6398
A10: 14’6” x 8’5” | B10: 4 | C10: 2 | E10: =((('[1]GX 800'!AM10*'[1]MARK UP FOR RETAIL'!$D$9)*'[1]MARK UP FOR RETAIL'!$D$11)*'[1]MARK UP FOR RETAIL'!$D$5)+'[1]MARK UP FOR RETAIL'!$G$5 -> 2634.1848 | F10: =((('[1]GX 800'!AN10*'[1]MARK UP FOR RETAIL'!$D$9)*'[1]MARK UP FOR RETAIL'!$D$11)*'[1]MARK UP FOR RETAIL'!$D$5)+'[1]MARK UP FOR RETAIL'!$G$5 -> 3020.5548 | H10: =('[1]GX 800'!AP10*'[1]MARK UP FOR RETAIL'!$D$11)*'[1]MARK UP FOR RETAIL'!$D$7 -> 723.9456 | J10: =('[1]GX 800'!AR10*'[1]MARK UP FOR RETAIL'!$D$11)*'[1]MARK UP FOR RETAIL'!$D$5 -> 1045.3536
A11: 16’6” x 8’5” | B11: 4 | C11: 2 | E11: =((('[1]GX 800'!AM11*'[1]MARK UP FOR RETAIL'!$D$9)*'[1]MARK UP FOR RETAIL'!$D$11)*'[1]MARK UP FOR RETAIL'!$D$5)+'[1]MARK UP FOR RETAIL'!$G$5 -> 2919.24 | F11: =((('[1]GX 800'!AN11*'[1]MARK UP FOR RETAIL'!$D$9)*'[1]MARK UP FOR RETAIL'!$D$11)*'[1]MARK UP FOR RETAIL'!$D$5)+'[1]MARK UP FOR RETAIL'!$G$5 -> 3305.61 | H11: =('[1]GX 800'!AP11*'[1]MARK UP FOR RETAIL'!$D$11)*'[1]MARK UP FOR RETAIL'!$D$7 -> 794.7072 | J11: =('[1]GX 800'!AR11*'[1]MARK UP FOR RETAIL'!$D$11)*'[1]MARK UP FOR RETAIL'!$D$5 -> 1236.06
A12: 18’6” x 8’5” | B12: 6 | C12: 2 | E12: =((('[1]GX 800'!AM12*'[1]MARK UP FOR RETAIL'!$D$9)*'[1]MARK UP FOR RETAIL'!$D$11)*'[1]MARK UP FOR RETAIL'!$D$5)+'[1]MARK UP FOR RETAIL'!$G$5 -> 3341.6712 | F12: =((('[1]GX 800'!AN12*'[1]MARK UP FOR RETAIL'!$D$9)*'[1]MARK UP FOR RETAIL'!$D$11)*'[1]MARK UP FOR RETAIL'!$D$5)+'[1]MARK UP FOR RETAIL'!$G$5 -> 3764.1024 | H12: =('[1]GX 800'!AP12*'[1]MARK UP FOR RETAIL'!$D$11)*'[1]MARK UP FOR RETAIL'!$D$7 -> 863.6544 | J12: =('[1]GX 800'!AR12*'[1]MARK UP FOR RETAIL'!$D$11)*'[1]MARK UP FOR RETAIL'!$D$5 -> 1380.8556
A13: 20’6” x 8’5” | B13: 6 | C13: 2 | E13: =((('[1]GX 800'!AM13*'[1]MARK UP FOR RETAIL'!$D$9)*'[1]MARK UP FOR RETAIL'!$D$11)*'[1]MARK UP FOR RETAIL'!$D$5)+'[1]MARK UP FOR RETAIL'!$G$5 -> 3738.3444 | F13: =((('[1]GX 800'!AN13*'[1]MARK UP FOR RETAIL'!$D$9)*'[1]MARK UP FOR RETAIL'!$D$11)*'[1]MARK UP FOR RETAIL'!$D$5)+'[1]MARK UP FOR RETAIL'!$G$5 -> 4181.382 | H13: =('[1]GX 800'!AP13*'[1]MARK UP FOR RETAIL'!$D$11)*'[1]MARK UP FOR RETAIL'!$D$7 -> 938.0448 | J13: =('[1]GX 800'!AR13*'[1]MARK UP FOR RETAIL'!$D$11)*'[1]MARK UP FOR RETAIL'!$D$5 -> 1596.2832
A14: Extra double door in the rear end | E14: =((('[1]GX 800'!AM14*'[1]MARK UP FOR RETAIL'!$D$9)*'[1]MARK UP FOR RETAIL'!$D$11)*'[1]MARK UP FOR RETAIL'!$D$5) -> 298.7928 | F14: =((('[1]GX 800'!AN14*'[1]MARK UP FOR RETAIL'!$D$9)*'[1]MARK UP FOR RETAIL'!$D$11)*'[1]MARK UP FOR RETAIL'!$D$5) -> 298.7928 | H14: / | J14: =('[1]GX 800'!AR14*'[1]MARK UP FOR RETAIL'!$D$11)*'[1]MARK UP FOR RETAIL'!$D$5 -> 123.606
A15: Partition with Double door | E15: =((('[1]GX 800'!AM15*'[1]MARK UP FOR RETAIL'!$D$9)*'[1]MARK UP FOR RETAIL'!$D$11)*'[1]MARK UP FOR RETAIL'!$D$5) -> 534.0492 | F15: =((('[1]GX 800'!AN15*'[1]MARK UP FOR RETAIL'!$D$9)*'[1]MARK UP FOR RETAIL'!$D$11)*'[1]MARK UP FOR RETAIL'!$D$5) -> 578.6964 | H15: =('[1]GX 800'!AP15*'[1]MARK UP FOR RETAIL'!$D$11)*'[1]MARK UP FOR RETAIL'!$D$7 -> 114.3072 | J15: =('[1]GX 800'!AR15*'[1]MARK UP FOR RETAIL'!$D$11)*'[1]MARK UP FOR RETAIL'!$D$5 -> 174.8142
A16: Soft Soil Support | E16: =(('[1]GX 800'!AM16*'[1]MARK UP FOR RETAIL'!$D$10)*'[1]MARK UP FOR RETAIL'!$D$11)*'[1]MARK UP FOR RETAIL'!$D$7 -> 49.7988 | H16: / | J16: =('[1]GX 800'!AR16*'[1]MARK UP FOR RETAIL'!$D$11)*'[1]MARK UP FOR RETAIL'!$D$5 -> 37.0818
A17: R-TYPE | E17: =((('[1]GX 800'!AM17*'[1]MARK UP FOR RETAIL'!$D$9)*'[1]MARK UP FOR RETAIL'!$D$11)*'[1]MARK UP FOR RETAIL'!$D$5) -> -120.204 | F17: =((('[1]GX 800'!AN17*'[1]MARK UP FOR RETAIL'!$D$9)*'[1]MARK UP FOR RETAIL'!$D$11)*'[1]MARK UP FOR RETAIL'!$D$5) -> -127.0728 | J17: =('[1]GX 800'!AR17*'[1]MARK UP FOR RETAIL'!$D$11)*'[1]MARK UP FOR RETAIL'!$D$5 -> -44.145
A19: EXTRAS | E19: Alloy | F19: Coloured (extra)
A20: KICK PLATES VENTED | E20: =(('[1]GX 800'!AM20*'[1]MARK UP FOR RETAIL'!$D$10)*'[1]MARK UP FOR RETAIL'!$D$11)*'[1]MARK UP FOR RETAIL'!$D$7 -> 13.7376 | F20: 7.8
A21: KICK PLATES PLAIN | E21: =(('[1]GX 800'!AM21*'[1]MARK UP FOR RETAIL'!$D$10)*'[1]MARK UP FOR RETAIL'!$D$11)*'[1]MARK UP FOR RETAIL'!$D$7 -> 12.0204 | F21: =(('[1]GX 800'!AN21*'[1]MARK UP FOR RETAIL'!$D$10)*'[1]MARK UP FOR RETAIL'!$D$11)*'[1]MARK UP FOR RETAIL'!$D$7 -> 12.0204
A22: Extra DOUBLE ROOF VENT | E22: =(('[1]GX 800'!AM22*'[1]MARK UP FOR RETAIL'!$D$10)*'[1]MARK UP FOR RETAIL'!$D$11)*'[1]MARK UP FOR RETAIL'!$D$7 -> 104.7492 | F22: =(('[1]GX 800'!AN22*'[1]MARK UP FOR RETAIL'!$D$10)*'[1]MARK UP FOR RETAIL'!$D$11)*'[1]MARK UP FOR RETAIL'!$D$7 -> 89.2944
A24: GX 800 PACKAGE
A26: INCLUDES AS STANDARD | G26: PACKAGE EXTRAS
A28: Double Dropped Doors | G28: Diamond shelf to length - 2 slat
A29: At least one double roof vent | G29: Diamond staging to length - 7 slat
A30: Two 5 blade louvre | G30: One Bayliss MK 7 auto roof vent opener
A31: Integral gutters | G31: Two automatic louvre opener
A32: Bar Capping | G32: Standard rainwater collection kit
G33: Grow Hooks (6)
A37: Size Length x Width | B37: Double Roof Vents | C37: Side Louvre | D37: Standard Door | E37: With Toughened Safety Glass | G37: Powder Coated Options are extra
A38: 6’5” x 8’5” | B38: 1 | C38: 2 | D38: Double Drop Door | E38: =((('[1]GX 800'!AM38*'[1]MARK UP FOR RETAIL'!$D$14)*'[1]MARK UP FOR RETAIL'!$D$11)*'[1]MARK UP FOR RETAIL'!$D$5)+'[1]MARK UP FOR RETAIL'!$G$5 -> 2057.2056 | G38: =(('[1]GX 800'!AO38*'[1]MARK UP FOR RETAIL'!$D$14)*'[1]MARK UP FOR RETAIL'!$D$11)*'[1]MARK UP FOR RETAIL'!$D$5 -> 944.703
A39: 8’5” x 8’5” | B39: 2 | C39: 2 | E39: =((('[1]GX 800'!AM39*'[1]MARK UP FOR RETAIL'!$D$14)*'[1]MARK UP FOR RETAIL'!$D$11)*'[1]MARK UP FOR RETAIL'!$D$5)+'[1]MARK UP FOR RETAIL'!$G$5 -> 2345.6952 | G39: =(('[1]GX 800'!AO39*'[1]MARK UP FOR RETAIL'!$D$14)*'[1]MARK UP FOR RETAIL'!$D$11)*'[1]MARK UP FOR RETAIL'!$D$5 -> 1002.9744
A40: 10’5” x 8’5” | B40: 2 | C40: 2 | E40: =((('[1]GX 800'!AM40*'[1]MARK UP FOR RETAIL'!$D$14)*'[1]MARK UP FOR RETAIL'!$D$11)*'[1]MARK UP FOR RETAIL'!$D$5)+'[1]MARK UP FOR RETAIL'!$G$5 -> 2663.3772 | G40: =(('[1]GX 800'!AO40*'[1]MARK UP FOR RETAIL'!$D$14)*'[1]MARK UP FOR RETAIL'!$D$11)*'[1]MARK UP FOR RETAIL'!$D$5 -> 1114.2198
A41: 12’6” x 8’5” | B41: 2 | C41: 2 | E41: =((('[1]GX 800'!AM41*'[1]MARK UP FOR RETAIL'!$D$14)*'[1]MARK UP FOR RETAIL'!$D$11)*'[1]MARK UP FOR RETAIL'!$D$5)+'[1]MARK UP FOR RETAIL'!$G$5 -> 2981.0592 | G41: =(('[1]GX 800'!AO41*'[1]MARK UP FOR RETAIL'!$D$14)*'[1]MARK UP FOR RETAIL'!$D$11)*'[1]MARK UP FOR RETAIL'!$D$5 -> 1236.06
A42: 14’6” x 8’5” | B42: 4 | C42: 2 | E42: =((('[1]GX 800'!AM42*'[1]MARK UP FOR RETAIL'!$D$14)*'[1]MARK UP FOR RETAIL'!$D$11)*'[1]MARK UP FOR RETAIL'!$D$5)+'[1]MARK UP FOR RETAIL'!$G$5 -> 3276.4176 | G42: =(('[1]GX 800'!AO42*'[1]MARK UP FOR RETAIL'!$D$14)*'[1]MARK UP FOR RETAIL'!$D$11)*'[1]MARK UP FOR RETAIL'!$D$5 -> 1386.153
A43: 16’6” x 8’5” | B43: 4 | C43: 2 | E43: =((('[1]GX 800'!AM43*'[1]MARK UP FOR RETAIL'!$D$14)*'[1]MARK UP FOR RETAIL'!$D$11)*'[1]MARK UP FOR RETAIL'!$D$5)+'[1]MARK UP FOR RETAIL'!$G$5 -> 3623.292 | G43: =(('[1]GX 800'!AO43*'[1]MARK UP FOR RETAIL'!$D$14)*'[1]MARK UP FOR RETAIL'!$D$11)*'[1]MARK UP FOR RETAIL'!$D$5 -> 1617.4728

Sheet SANCTUARY 8
A1: SANCTUARY 8 - 8'5" WIDE
A3: BASIC MODEL OPTIONS | F3: Aluminium frame, Integral base with drop door(s), and Bar Capping
A6: Size Length x Width | B6: Single Roof Vent | C6: Auto Roof Vent Opener | D6: 5 Blade Louvre | E6: Standard Door | F6: 4mm With Toughened Glass | I6: Hybrid Panels | K6: POWDER COATED (extra)
A7: 6’5” x 8’5” | B7: 1 | C7: 1 | D7: 2 | E7: Double Drop Doors | F7: =((('[1]SANCTUARY 8'!T7*'[1]MARK UP FOR RETAIL'!$D$9)*'[1]MARK UP FOR RETAIL'!$D$11)*'[1]MARK UP FOR RETAIL'!$D$5)+'[1]MARK UP FOR RETAIL'!$G$5 -> 2235.8116 | I7: =('[1]SANCTUARY 8'!W7*'[1]MARK UP FOR RETAIL'!$D$11)*'[1]MARK UP FOR RETAIL'!$D$5 -> 430.0128 | K7: =('[1]SANCTUARY 8'!Y7*'[1]MARK UP FOR RETAIL'!$D$11)*'[1]MARK UP FOR RETAIL'!$D$5 -> 955.42141
A8: 8’5” x 8’5” | B8: 2 | C8: 2 | D8: 2 | F8: =((('[1]SANCTUARY 8'!T8*'[1]MARK UP FOR RETAIL'!$D$9)*'[1]MARK UP FOR RETAIL'!$D$11)*'[1]MARK UP FOR RETAIL'!$D$5)+'[1]MARK UP FOR RETAIL'!$G$5 -> 2529.0235 | I8: =('[1]SANCTUARY 8'!W8*'[1]MARK UP FOR RETAIL'!$D$11)*'[1]MARK UP FOR RETAIL'!$D$5 -> 500.7744 | K8: =('[1]SANCTUARY 8'!Y8*'[1]MARK UP FOR RETAIL'!$D$11)*'[1]MARK UP FOR RETAIL'!$D$5 -> 1078.8685
A9: 10’5” x 8’5” | B9: 2 | C9: 2 | D9: 2 | F9: =((('[1]SANCTUARY 8'!T9*'[1]MARK UP FOR RETAIL'!$D$9)*'[1]MARK UP FOR RETAIL'!$D$11)*'[1]MARK UP FOR RETAIL'!$D$5)+'[1]MARK UP FOR RETAIL'!$G$5 -> 2826.8718 | I9: =('[1]SANCTUARY 8'!W9*'[1]MARK UP FOR RETAIL'!$D$11)*'[1]MARK UP FOR RETAIL'!$D$5 -> 569.7216 | K9: =('[1]SANCTUARY 8'!Y9*'[1]MARK UP FOR RETAIL'!$D$11)*'[1]MARK UP FOR RETAIL'!$D$5 -> 1202.2096
A10: 12’6” x 8’5” | B10: 2 | C10: 2 | D10: 2 | F10: =((('[1]SANCTUARY 8'!T10*'[1]MARK UP FOR RETAIL'!$D$9)*'[1]MARK UP FOR RETAIL'!$D$11)*'[1]MARK UP FOR RETAIL'!$D$5)+'[1]MARK UP FOR RETAIL'!$G$5 -> 3130.2495 | I10: =('[1]SANCTUARY 8'!W10*'[1]MARK UP FOR RETAIL'!$D$11)*'[1]MARK UP FOR RETAIL'!$D$5 -> 642.2976 | K10: =('[1]SANCTUARY 8'!Y10*'[1]MARK UP FOR RETAIL'!$D$11)*'[1]MARK UP FOR RETAIL'!$D$5 -> 1325.6567
A11: 14’6” x 8’5” | B11: 4 | C11: 4 | D11: 2 | F11: =((('[1]SANCTUARY 8'!T11*'[1]MARK UP FOR RETAIL'!$D$9)*'[1]MARK UP FOR RETAIL'!$D$11)*'[1]MARK UP FOR RETAIL'!$D$5)+'[1]MARK UP FOR RETAIL'!$G$5 -> 3573.5104 | I11: =('[1]SANCTUARY 8'!W11*'[1]MARK UP FOR RETAIL'!$D$11)*'[1]MARK UP FOR RETAIL'!$D$5 -> 713.0592 | K11: =('[1]SANCTUARY 8'!Y11*'[1]MARK UP FOR RETAIL'!$D$11)*'[1]MARK UP FOR RETAIL'!$D$5 -> 1492.1893
A12: 16’6” x 8’5” | B12: 4 | C12: 4 | D12: 2 | F12: =((('[1]SANCTUARY 8'!T12*'[1]MARK UP FOR RETAIL'!$D$9)*'[1]MARK UP FOR RETAIL'!$D$11)*'[1]MARK UP FOR RETAIL'!$D$5)+'[1]MARK UP FOR RETAIL'!$G$5 -> 3872.784 | I12: =('[1]SANCTUARY 8'!W12*'[1]MARK UP FOR RETAIL'!$D$11)*'[1]MARK UP FOR RETAIL'!$D$5 -> 787.4496 | K12: =('[1]SANCTUARY 8'!Y12*'[1]MARK UP FOR RETAIL'!$D$11)*'[1]MARK UP FOR RETAIL'!$D$5 -> 1615.7776
A13: 18’6” x 8’5” | B13: 6 | C13: 6 | D13: 2 | F13: =((('[1]SANCTUARY 8'!T13*'[1]MARK UP FOR RETAIL'!$D$9)*'[1]MARK UP FOR RETAIL'!$D$11)*'[1]MARK UP FOR RETAIL'!$D$5)+'[1]MARK UP FOR RETAIL'!$G$5 -> 4307.6649 | I13: =('[1]SANCTUARY 8'!W13*'[1]MARK UP FOR RETAIL'!$D$11)*'[1]MARK UP FOR RETAIL'!$D$5 -> 856.3968 | K13: =('[1]SANCTUARY 8'!Y13*'[1]MARK UP FOR RETAIL'!$D$11)*'[1]MARK UP FOR RETAIL'!$D$5 -> 1776.642
A14: 20’6” x 8’5” | B14: 6 | C14: 6 | D14: 2 | F14: =((('[1]SANCTUARY 8'!T14*'[1]MARK UP FOR RETAIL'!$D$9)*'[1]MARK UP FOR RETAIL'!$D$11)*'[1]MARK UP FOR RETAIL'!$D$5)+'[1]MARK UP FOR RETAIL'!$G$5 -> 4609.1022 | I14: =('[1]SANCTUARY 8'!W14*'[1]MARK UP FOR RETAIL'!$D$11)*'[1]MARK UP FOR RETAIL'!$D$5 -> 928.9728 | K14: =('[1]SANCTUARY 8'!Y14*'[1]MARK UP FOR RETAIL'!$D$11)*'[1]MARK UP FOR RETAIL'!$D$5 -> 1900.2304
A15: Extra double doors | F15: =((('[1]SANCTUARY 8'!T15*'[1]MARK UP FOR RETAIL'!$D$9)*'[1]MARK UP FOR RETAIL'!$D$11)*'[1]MARK UP FOR RETAIL'!$D$5) -> 315.9648 | I15: / | K15: =('[1]SANCTUARY 8'!Y15*'[1]MARK UP FOR RETAIL'!$D$11)*'[1]MARK UP FOR RETAIL'!$D$5 -> 169.5168
A16: Partition with Double Door | F16: =((('[1]SANCTUARY 8'!T16*'[1]MARK UP FOR RETAIL'!$D$9)*'[1]MARK UP FOR RETAIL'!$D$11)*'[1]MARK UP FOR RETAIL'!$D$5) -> 742.92941 | I16: =('[1]SANCTUARY 8'!W16*'[1]MARK UP FOR RETAIL'!$D$11)*'[1]MARK UP FOR RETAIL'!$D$5 -> 114.3072 | K16: =('[1]SANCTUARY 8'!Y16*'[1]MARK UP FOR RETAIL'!$D$11)*'[1]MARK UP FOR RETAIL'!$D$5 -> 297.5373
A17: Soft Soil Support on the Apex | F17: =((('[1]SANCTUARY 8'!T17*'[1]MARK UP FOR RETAIL'!$D$9)*'[1]MARK UP FOR RETAIL'!$D$11)*'[1]MARK UP FOR RETAIL'!$D$5) -> 49.7988 | I17: /
A18: Soft Soil Support on the Length - please check with the office
A20: SANCTUARY 8 PACKAGE
A22: INCLUDES AS STANDARD | H22: PACKAGE EXTRAS
