Workbook

Sheet COMPACT
A1: COMPACT: 4'3" WIDE
A3: BASIC MODEL OPTIONS
E4: Aluminium frame, Integral base with drop door(s)
A6: Size Length x Width | B6: Roof Vents | D6: Standard Door | E6: With Horticultural Glass | F6: With Toughened Safety Glass | G6: With 6mm Twin wall Polycarbonate | H6: Bar Capping (TG only) | I6: Hybrid Panels (coloured) | K6: POWDER COATED (extra)
A7: 2’3” x 4’3” NOT FREE STANDING | B7: 0 | D7: Double Drop Doors | E7: =((([1]COMPACT!AR7*'[1]MARK UP FOR RETAIL'!$D$9)*'[1]MARK UP FOR RETAIL'!$D$11)*'[1]MARK UP FOR RETAIL'!$D$5)+'[1]MARK UP FOR RETAIL'!$G$5 -> 499.7052 | F7: =((([1]COMPACT!AS7*'[1]MARK UP FOR RETAIL'!$D$9)*'[1]MARK UP FOR RETAIL'!$D$11)*'[1]MARK UP FOR RETAIL'!$D$5)+'[1]MARK UP FOR RETAIL'!$G$5 -> 655.9704 | G7: =((([1]COMPACT!AT7*'[1]MARK UP FOR RETAIL'!$D$9)*'[1]MARK UP FOR RETAIL'!$D$11)*'[1]MARK UP FOR RETAIL'!$D$5)+'[1]MARK UP FOR RETAIL'!$G$5 -> 686.88 | H7: =(([1]COMPACT!AU7*'[1]MARK UP FOR RETAIL'!$D$16)*'[1]MARK UP FOR RETAIL'!$D$11)*'[1]MARK UP FOR RETAIL'!$D$7 -> 106.4664 | I7: =([1]COMPACT!AV7*'[1]MARK UP FOR RETAIL'!$D$11)*'[1]MARK UP FOR RETAIL'!$D$7 -> 114.3072 | K7: =([1]COMPACT!AX7*'[1]MARK UP FOR RETAIL'!$D$11)*'[1]MARK UP FOR RETAIL'!$D$5 -> 234.8514
A8: 4’5” x 4’3” | B8: 1 | E8: =((([1]COMPACT!AR8*'[1]MARK UP FOR RETAIL'!$D$9)*'[1]MARK UP FOR RETAIL'!$D$11)*'[1]MARK UP FOR RETAIL'!$D$5)+'[1]MARK UP FOR RETAIL'!$G$5 -> 546.0696 | F8: =((([1]COMPACT!AS8*'[1]MARK UP FOR RETAIL'!$D$9)*'[1]MARK UP FOR RETAIL'!$D$11)*'[1]MARK UP FOR RETAIL'!$D$5)+'[1]MARK UP FOR RETAIL'!$G$5 -> 719.5068 | G8: =((([1]COMPACT!AT8*'[1]MARK UP FOR RETAIL'!$D$9)*'[1]MARK UP FOR RETAIL'!$D$11)*'[1]MARK UP FOR RETAIL'!$D$5)+'[1]MARK UP FOR RETAIL'!$G$5 -> 834.5592 | H8: =(([1]COMPACT!AU8*'[1]MARK UP FOR RETAIL'!$D$16)*'[1]MARK UP FOR RETAIL'!$D$11)*'[1]MARK UP FOR RETAIL'!$D$7 -> 121.9212 | I8: =([1]COMPACT!AV8*'[1]MARK UP FOR RETAIL'!$D$11)*'[1]MARK UP FOR RETAIL'!$D$7 -> 266.7168 | K8: =([1]COMPACT!AX8*'[1]MARK UP FOR RETAIL'!$D$11)*'[1]MARK UP FOR RETAIL'!$D$5 -> 278.9964
A9: 6’5” x 4’3” | B9: 1 | E9: =((([1]COMPACT!AR9*'[1]MARK UP FOR RETAIL'!$D$9)*'[1]MARK UP FOR RETAIL'!$D$11)*'[1]MARK UP FOR RETAIL'!$D$5)+'[1]MARK UP FOR RETAIL'!$G$5 -> 582.1308 | F9: =((([1]COMPACT!AS9*'[1]MARK UP FOR RETAIL'!$D$9)*'[1]MARK UP FOR RETAIL'!$D$11)*'[1]MARK UP FOR RETAIL'!$D$5)+'[1]MARK UP FOR RETAIL'!$G$5 -> 767.5884 | G9: =((([1]COMPACT!AT9*'[1]MARK UP FOR RETAIL'!$D$9)*'[1]MARK UP FOR RETAIL'!$D$11)*'[1]MARK UP FOR RETAIL'!$D$5)+'[1]MARK UP FOR RETAIL'!$G$5 -> 973.6524 | H9: =(([1]COMPACT!AU9*'[1]MARK UP FOR RETAIL'!$D$16)*'[1]MARK UP FOR RETAIL'!$D$11)*'[1]MARK UP FOR RETAIL'!$D$7 -> 145.962 | I9: =([1]COMPACT!AV9*'[1]MARK UP FOR RETAIL'!$D$11)*'[1]MARK UP FOR RETAIL'!$D$7 -> 337.4784 | K9: =([1]COMPACT!AX9*'[1]MARK UP FOR RETAIL'!$D$11)*'[1]MARK UP FOR RETAIL'!$D$5 -> 317.844
A10: 8’5” x 4’3” | B10: 1 | E10: =((([1]COMPACT!AR10*'[1]MARK UP FOR RETAIL'!$D$9)*'[1]MARK UP FOR RETAIL'!$D$11)*'[1]MARK UP FOR RETAIL'!$D$5)+'[1]MARK UP FOR RETAIL'!$G$5 -> 643.95 | F10: =((([1]COMPACT!AS10*'[1]MARK UP FOR RETAIL'!$D$9)*'[1]MARK UP FOR RETAIL'!$D$11)*'[1]MARK UP FOR RETAIL'!$D$5)+'[1]MARK UP FOR RETAIL'!$G$5 -> 868.9032 | G10: =((([1]COMPACT!AT10*'[1]MARK UP FOR RETAIL'!$D$9)*'[1]MARK UP FOR RETAIL'!$D$11)*'[1]MARK UP FOR RETAIL'!$D$5)+'[1]MARK UP FOR RETAIL'!$G$5 -> 1095.5736 | H10: =(([1]COMPACT!AU10*'[1]MARK UP FOR RETAIL'!$D$16)*'[1]MARK UP FOR RETAIL'!$D$11)*'[1]MARK UP FOR RETAIL'!$D$7 -> 163.134 | I10: =([1]COMPACT!AV10*'[1]MARK UP FOR RETAIL'!$D$11)*'[1]MARK UP FOR RETAIL'!$D$7 -> 410.0544 | K10: =([1]COMPACT!AX10*'[1]MARK UP FOR RETAIL'!$D$11)*'[1]MARK UP FOR RETAIL'!$D$5 -> 346.0968
A11: 10’5” x 4’3” | B11: 2 | E11: =((([1]COMPACT!AR11*'[1]MARK UP FOR RETAIL'!$D$9)*'[1]MARK UP FOR RETAIL'!$D$11)*'[1]MARK UP FOR RETAIL'!$D$5)+'[1]MARK UP FOR RETAIL'!$G$5 -> 793.3464 | F11: =((([1]COMPACT!AS11*'[1]MARK UP FOR RETAIL'!$D$9)*'[1]MARK UP FOR RETAIL'!$D$11)*'[1]MARK UP FOR RETAIL'!$D$5)+'[1]MARK UP FOR RETAIL'!$G$5 -> 1026.8856 | G11: =((([1]COMPACT!AT11*'[1]MARK UP FOR RETAIL'!$D$9)*'[1]MARK UP FOR RETAIL'!$D$11)*'[1]MARK UP FOR RETAIL'!$D$5)+'[1]MARK UP FOR RETAIL'!$G$5 -> 1325.6784 | H11: =(([1]COMPACT!AU11*'[1]MARK UP FOR RETAIL'!$D$16)*'[1]MARK UP FOR RETAIL'!$D$11)*'[1]MARK UP FOR RETAIL'!$D$7 -> 178.5888 | I11: =([1]COMPACT!AV11*'[1]MARK UP FOR RETAIL'!$D$11)*'[1]MARK UP FOR RETAIL'!$D$7 -> 482.6304 | K11: =([1]COMPACT!AX11*'[1]MARK UP FOR RETAIL'!$D$11)*'[1]MARK UP FOR RETAIL'!$D$5 -> 517.3794
A12: 12’6” x 4’3” | B12: 2 | E12: =((([1]COMPACT!AR12*'[1]MARK UP FOR RETAIL'!$D$9)*'[1]MARK UP FOR RETAIL'!$D$11)*'[1]MARK UP FOR RETAIL'!$D$5)+'[1]MARK UP FOR RETAIL'!$G$5 -> 942.7428 | F12: =((([1]COMPACT!AS12*'[1]MARK UP FOR RETAIL'!$D$9)*'[1]MARK UP FOR RETAIL'!$D$11)*'[1]MARK UP FOR RETAIL'!$D$5)+'[1]MARK UP FOR RETAIL'!$G$5 -> 1217.4948 | G12: =((([1]COMPACT!AT12*'[1]MARK UP FOR RETAIL'!$D$9)*'[1]MARK UP FOR RETAIL'!$D$11)*'[1]MARK UP FOR RETAIL'!$D$5)+'[1]MARK UP FOR RETAIL'!$G$5 -> 1554.066 | H12: =(([1]COMPACT!AU12*'[1]MARK UP FOR RETAIL'!$D$16)*'[1]MARK UP FOR RETAIL'!$D$11)*'[1]MARK UP FOR RETAIL'!$D$7 -> 200.9124 | I12: =([1]COMPACT!AV12*'[1]MARK UP FOR RETAIL'!$D$11)*'[1]MARK UP FOR RETAIL'!$D$7 -> 551.5776 | K12: =([1]COMPACT!AX12*'[1]MARK UP FOR RETAIL'!$D$11)*'[1]MARK UP FOR RETAIL'!$D$5 -> 655.1118
A13: 14’6" x 4’3” | B13: 3 | E13: =((([1]COMPACT!AR13*'[1]MARK UP FOR RETAIL'!$D$9)*'[1]MARK UP FOR RETAIL'!$D$11)*'[1]MARK UP FOR RETAIL'!$D$5)+'[1]MARK UP FOR RETAIL'!$G$5 -> 1100.7252 | F13: =((([1]COMPACT!AS13*'[1]MARK UP FOR RETAIL'!$D$9)*'[1]MARK UP FOR RETAIL'!$D$11)*'[1]MARK UP FOR RETAIL'!$D$5)+'[1]MARK UP FOR RETAIL'!$G$5 -> 1406.3868 | G13: =((([1]COMPACT!AT13*'[1]MARK UP FOR RETAIL'!$D$9)*'[1]MARK UP FOR RETAIL'!$D$11)*'[1]MARK UP FOR RETAIL'!$D$5)+'[1]MARK UP FOR RETAIL'!$G$5 -> 1737.8064 | H13: =(([1]COMPACT!AU13*'[1]MARK UP FOR RETAIL'!$D$16)*'[1]MARK UP FOR RETAIL'!$D$11)*'[1]MARK UP FOR RETAIL'!$D$7 -> 216.3672 | I13: =([1]COMPACT!AV13*'[1]MARK UP FOR RETAIL'!$D$11)*'[1]MARK UP FOR RETAIL'!$D$7 -> 624.1536 | K13: =([1]COMPACT!AX13*'[1]MARK UP FOR RETAIL'!$D$11)*'[1]MARK UP FOR RETAIL'!$D$5 -> 798.1416
A14: 16’6” x 4’3” | B14: 3 | E14: =((([1]COMPACT!AR14*'[1]MARK UP FOR RETAIL'!$D$9)*'[1]MARK UP FOR RETAIL'!$D$11)*'[1]MARK UP FOR RETAIL'!$D$5)+'[1]MARK UP FOR RETAIL'!$G$5 -> 1270.728 | F14: =((([1]COMPACT!AS14*'[1]MARK UP FOR RETAIL'!$D$9)*'[1]MARK UP FOR RETAIL'!$D$11)*'[1]MARK UP FOR RETAIL'!$D$5)+'[1]MARK UP FOR RETAIL'!$G$5 -> 1609.0164 | G14: =((([1]COMPACT!AT14*'[1]MARK UP FOR RETAIL'!$D$9)*'[1]MARK UP FOR RETAIL'!$D$11)*'[1]MARK UP FOR RETAIL'!$D$5)+'[1]MARK UP FOR RETAIL'!$G$5 -> 1979.9316 | H14: =(([1]COMPACT!AU14*'[1]MARK UP FOR RETAIL'!$D$16)*'[1]MARK UP FOR RETAIL'!$D$11)*'[1]MARK UP FOR RETAIL'!$D$7 -> 231.822 | I14: =([1]COMPACT!AV14*'[1]MARK UP FOR RETAIL'!$D$11)*'[1]MARK UP FOR RETAIL'!$D$7 -> 696.7296 | K14: =([1]COMPACT!AX14*'[1]MARK UP FOR RETAIL'!$D$11)*'[1]MARK UP FOR RETAIL'!$D$5 -> 941.1714
A15: 18’6” x 4’3” | B15: 4 | E15: =((([1]COMPACT!AR15*'[1]MARK UP FOR RETAIL'!$D$9)*'[1]MARK UP FOR RETAIL'!$D$11)*'[1]MARK UP FOR RETAIL'!$D$5)+'[1]MARK UP FOR RETAIL'!$G$5 -> 1469.9232 | F15: =((([1]COMPACT!AS15*'[1]MARK UP FOR RETAIL'!$D$9)*'[1]MARK UP FOR RETAIL'!$D$11)*'[1]MARK UP FOR RETAIL'!$D$5)+'[1]MARK UP FOR RETAIL'!$G$5 -> 1856.2932 | G15: =((([1]COMPACT!AT15*'[1]MARK UP FOR RETAIL'!$D$9)*'[1]MARK UP FOR RETAIL'!$D$11)*'[1]MARK UP FOR RETAIL'!$D$5)+'[1]MARK UP FOR RETAIL'!$G$5 -> 2249.532 | H15: =(([1]COMPACT!AU15*'[1]MARK UP FOR RETAIL'!$D$16)*'[1]MARK UP FOR RETAIL'!$D$11)*'[1]MARK UP FOR RETAIL'!$D$7 -> 254.1456 | I15: =([1]COMPACT!AV15*'[1]MARK UP FOR RETAIL'!$D$11)*'[1]MARK UP FOR RETAIL'!$D$7 -> 767.4912 | K15: =([1]COMPACT!AX15*'[1]MARK UP FOR RETAIL'!$D$11)*'[1]MARK UP FOR RETAIL'!$D$5 -> 1126.5804
A16: 20’6” x 4’3” | B16: 4 | E16: =((([1]COMPACT!AR16*'[1]MARK UP FOR RETAIL'!$D$9)*'[1]MARK UP FOR RETAIL'!$D$11)*'[1]MARK UP FOR RETAIL'!$D$5)+'[1]MARK UP FOR RETAIL'!$G$5 -> 1663.9668 | F16: =((([1]COMPACT!AS16*'[1]MARK UP FOR RETAIL'!$D$9)*'[1]MARK UP FOR RETAIL'!$D$11)*'[1]MARK UP FOR RETAIL'!$D$5)+'[1]MARK UP FOR RETAIL'!$G$5 -> 2084.6808 | G16: =((([1]COMPACT!AT16*'[1]MARK UP FOR RETAIL'!$D$9)*'[1]MARK UP FOR RETAIL'!$D$11)*'[1]MARK UP FOR RETAIL'!$D$5)+'[1]MARK UP FOR RETAIL'!$G$5 -> 2517.4152 | H16: =(([1]COMPACT!AU16*'[1]MARK UP FOR RETAIL'!$D$16)*'[1]MARK UP FOR RETAIL'!$D$11)*'[1]MARK UP FOR RETAIL'!$D$7 -> 274.752 | I16: =([1]COMPACT!AV16*'[1]MARK UP FOR RETAIL'!$D$11)*'[1]MARK UP FOR RETAIL'!$D$7 -> 838.2528 | K16: =([1]COMPACT!AX16*'[1]MARK UP FOR RETAIL'!$D$11)*'[1]MARK UP FOR RETAIL'!$D$5 -> 1303.1604
A17: Extra double doors in the rear end | E17: =((([1]COMPACT!AR17*'[1]MARK UP FOR RETAIL'!$D$9)*'[1]MARK UP FOR RETAIL'!$D$11)*'[1]MARK UP FOR RETAIL'!$D$5) -> 147.6792 | H17: =(([1]COMPACT!AU17*'[1]MARK UP FOR RETAIL'!$D$16)*'[1]MARK UP FOR RETAIL'!$D$11)*'[1]MARK UP FOR RETAIL'!$D$7 -> 32.6268 | I17: / | K17: =([1]COMPACT!AX17*'[1]MARK UP FOR RETAIL'!$D$11)*'[1]MARK UP FOR RETAIL'!$D$5 -> 75.9294
A18: Soft Soil Support | E18: =((([1]COMPACT!AR18*'[1]MARK UP FOR RETAIL'!$D$9)*'[1]MARK UP FOR RETAIL'!$D$11)*'[1]MARK UP FOR RETAIL'!$D$5) -> 25.758 | H18: / | I18: / | K18: =([1]COMPACT!AX18*'[1]MARK UP FOR RETAIL'!$D$11)*'[1]MARK UP FOR RETAIL'!$D$5 -> 19.4238
A19: R-TYPE | E19: =[1]COMPACT!AR19*'[1]MARK UP FOR RETAIL'!$D$11*'[1]MARK UP FOR RETAIL'!$D$5 -> -44.6472 | F19: =[1]COMPACT!AS19*'[1]MARK UP FOR RETAIL'!$D$11*'[1]MARK UP FOR RETAIL'!$D$5 -> -77.274 | G19: =[1]COMPACT!AT19*'[1]MARK UP FOR RETAIL'!$D$11*'[1]MARK UP FOR RETAIL'!$D$5 -> -104.7492 | H19: =[1]COMPACT!AU19*'[1]MARK UP FOR RETAIL'!$D$11*'[1]MARK UP FOR RETAIL'!$D$5 -> -17.172 | K19: =([1]COMPACT!AX19*'[1]MARK UP FOR RETAIL'!$D$11)*'[1]MARK UP FOR RETAIL'!$D$5 -> -51.2082
A21: NOTE: The 2' long model has no back panels and must be fixed against a solid structure. The price already includes the R-type deduction, so no further deduction applies.
A24: COMPACT PACKAGE
A26: INCLUDES AS STANDARD | H26: PACKAGE EXTRAS
A28: Integral aluminium base with dropped doors | H28: Diamond shelf to length - 2 slat
A29: Double Dropped Doors | H29: Diamond staging to length - 3 slat
A30: At least one roof vent | H30: One 5 blade louvre
A31: Integral Gutters | H31: One automatic roof vent opener
H32: One automatic louvre opener
H33: Standard rainwater collection kit
H34: Grow Hooks (6)
A38: Size Length x Width | B38: Roof Vents | D38: Standard Door | E38: With Horticultural Glass | F38: With Toughened Safety Glass | H38: POWDER COATED (extra)
A39: 4’5” x 4’3” | B39: 1 | D39: Double Drop Door | E39: =((([1]COMPACT!AR39*'[1]MARK UP FOR RETAIL'!$D$14)*'[1]MARK UP FOR RETAIL'!$D$11)*'[1]MARK UP FOR RETAIL'!$D$5)+'[1]MARK UP FOR RETAIL'!$G$5 -> 827.6904 | F39: =((([1]COMPACT!AS39*'[1]MARK UP FOR RETAIL'!$D$14)*'[1]MARK UP FOR RETAIL'!$D$11)*'[1]MARK UP FOR RETAIL'!$D$5)+'[1]MARK UP FOR RETAIL'!$G$5 -> 1001.1276 | H39: =(([1]COMPACT!AU39*'[1]MARK UP FOR RETAIL'!$D$14)*'[1]MARK UP FOR RETAIL'!$D$11)*'[1]MARK UP FOR RETAIL'!$D$5 -> 390.2418
A40: 6’5” x 4’3” | B40: 1 | E40: =((([1]COMPACT!AR40*'[1]MARK UP FOR RETAIL'!$D$14)*'[1]MARK UP FOR RETAIL'!$D$11)*'[1]MARK UP FOR RETAIL'!$D$5)+'[1]MARK UP FOR RETAIL'!$G$5 -> 896.3784 | F40: =((([1]COMPACT!AS40*'[1]MARK UP FOR RETAIL'!$D$14)*'[1]MARK UP FOR RETAIL'!$D$11)*'[1]MARK UP FOR RETAIL'!$D$5)+'[1]MARK UP FOR RETAIL'!$G$5 -> 1083.5532 | H40: =(([1]COMPACT!AU40*'[1]MARK UP FOR RETAIL'!$D$14)*'[1]MARK UP FOR RETAIL'!$D$11)*'[1]MARK UP FOR RETAIL'!$D$5 -> 455.5764
A41: 8’5” x 4’3” | B41: 1 | E41: =((([1]COMPACT!AR41*'[1]MARK UP FOR RETAIL'!$D$14)*'[1]MARK UP FOR RETAIL'!$D$11)*'[1]MARK UP FOR RETAIL'!$D$5)+'[1]MARK UP FOR RETAIL'!$G$5 -> 1001.1276 | F41: =((([1]COMPACT!AS41*'[1]MARK UP FOR RETAIL'!$D$14)*'[1]MARK UP FOR RETAIL'!$D$11)*'[1]MARK UP FOR RETAIL'!$D$5)+'[1]MARK UP FOR RETAIL'!$G$5 -> 1227.798 | H41: =(([1]COMPACT!AU41*'[1]MARK UP FOR RETAIL'!$D$14)*'[1]MARK UP FOR RETAIL'!$D$11)*'[1]MARK UP FOR RETAIL'!$D$5 -> 515.6136
A42: 10'5" x 4'3" | B42: 2 | E42: =((([1]COMPACT!AR42*'[1]MARK UP FOR RETAIL'!$D$14)*'[1]MARK UP FOR RETAIL'!$D$11)*'[1]MARK UP FOR RETAIL'!$D$5)+'[1]MARK UP FOR RETAIL'!$G$5 -> 1193.454 | F42: =((([1]COMPACT!AS42*'[1]MARK UP FOR RETAIL'!$D$14)*'[1]MARK UP FOR RETAIL'!$D$11)*'[1]MARK UP FOR RETAIL'!$D$5)+'[1]MARK UP FOR RETAIL'!$G$5 -> 1433.862 | H42: =(([1]COMPACT!AU42*'[1]MARK UP FOR RETAIL'!$D$14)*'[1]MARK UP FOR RETAIL'!$D$11)*'[1]MARK UP FOR RETAIL'!$D$5 -> 723.978

Sheet MAXIM
A1: MAXIM: 4'3" WIDE
A3: BASIC MODEL OPTIONS
E4: Aluminium frame, Integral base with drop door(s)
A6: Size Length x Width | B6: Roof Vents | D6: Standard Door | E6: With Horticultural Glass | F6: With Toughened Safety Glass | G6: With 6mm Twin wall Polycarbonate | H6: Bar Capping (TG only) | I6: Hybrid Panels (coloured) | K6: POWDER COATED (extra)
A7: 2’3” x 4’3” NOT FREE STANDING | B7: 0 | D7: Double Drop Doors | E7: =((([1]MAXIM!AF7*'[1]MARK UP FOR RETAIL'!$D$11)*'[1]MARK UP FOR RETAIL'!$D$9)*'[1]MARK UP FOR RETAIL'!$D$5)+'[1]MARK UP FOR RETAIL'!$G$5 -> 559.8072 | F7: =((([1]MAXIM!AG7*'[1]MARK UP FOR RETAIL'!$D$11)*'[1]MARK UP FOR RETAIL'!$D$9)*'[1]MARK UP FOR RETAIL'!$D$5)+'[1]MARK UP FOR RETAIL'!$G$5 -> 746.982 | G7: =((([1]MAXIM!AH7*'[1]MARK UP FOR RETAIL'!$D$11)*'[1]MARK UP FOR RETAIL'!$D$9)*'[1]MARK UP FOR RETAIL'!$D$5)+'[1]MARK UP FOR RETAIL'!$G$5 -> 817.3872 | H7: =(([1]MAXIM!AI7*'[1]MARK UP FOR RETAIL'!$D$10)*'[1]MARK UP FOR RETAIL'!$D$11)*'[1]MARK UP FOR RETAIL'!$D$7 -> 108.1836 | I7: =([1]MAXIM!AJ7*'[1]MARK UP FOR RETAIL'!$D$11)*'[1]MARK UP FOR RETAIL'!$D$5 -> 114.3072 | K7: =([1]MAXIM!AL7*'[1]MARK UP FOR RETAIL'!$D$11)*'[1]MARK UP FOR RETAIL'!$D$5 -> 263.1042
A8: 4’5” x 4’3” | B8: 1 | E8: =((([1]MAXIM!AF8*'[1]MARK UP FOR RETAIL'!$D$11)*'[1]MARK UP FOR RETAIL'!$D$9)*'[1]MARK UP FOR RETAIL'!$D$5)+'[1]MARK UP FOR RETAIL'!$G$5 -> 607.8888 | F8: =((([1]MAXIM!AG8*'[1]MARK UP FOR RETAIL'!$D$11)*'[1]MARK UP FOR RETAIL'!$D$9)*'[1]MARK UP FOR RETAIL'!$D$5)+'[1]MARK UP FOR RETAIL'!$G$5 -> 807.084 | G8: =((([1]MAXIM!AH8*'[1]MARK UP FOR RETAIL'!$D$11)*'[1]MARK UP FOR RETAIL'!$D$9)*'[1]MARK UP FOR RETAIL'!$D$5)+'[1]MARK UP FOR RETAIL'!$G$5 -> 934.1568 | H8: =(([1]MAXIM!AI8*'[1]MARK UP FOR RETAIL'!$D$10)*'[1]MARK UP FOR RETAIL'!$D$11)*'[1]MARK UP FOR RETAIL'!$D$7 -> 132.2244 | I8: =([1]MAXIM!AJ8*'[1]MARK UP FOR RETAIL'!$D$11)*'[1]MARK UP FOR RETAIL'!$D$5 -> 266.7168 | K8: =([1]MAXIM!AL8*'[1]MARK UP FOR RETAIL'!$D$11)*'[1]MARK UP FOR RETAIL'!$D$5 -> 312.5466
A9: 6’5” x 4’3” | B9: 1 | E9: =((([1]MAXIM!AF9*'[1]MARK UP FOR RETAIL'!$D$11)*'[1]MARK UP FOR RETAIL'!$D$9)*'[1]MARK UP FOR RETAIL'!$D$5)+'[1]MARK UP FOR RETAIL'!$G$5 -> 650.8188 | F9: =((([1]MAXIM!AG9*'[1]MARK UP FOR RETAIL'!$D$11)*'[1]MARK UP FOR RETAIL'!$D$9)*'[1]MARK UP FOR RETAIL'!$D$5)+'[1]MARK UP FOR RETAIL'!$G$5 -> 865.4688 | G9: =((([1]MAXIM!AH9*'[1]MARK UP FOR RETAIL'!$D$11)*'[1]MARK UP FOR RETAIL'!$D$9)*'[1]MARK UP FOR RETAIL'!$D$5)+'[1]MARK UP FOR RETAIL'!$G$5 -> 1085.2704 | H9: =(([1]MAXIM!AI9*'[1]MARK UP FOR RETAIL'!$D$10)*'[1]MARK UP FOR RETAIL'!$D$11)*'[1]MARK UP FOR RETAIL'!$D$7 -> 152.8308 | I9: =([1]MAXIM!AJ9*'[1]MARK UP FOR RETAIL'!$D$11)*'[1]MARK UP FOR RETAIL'!$D$5 -> 337.4784 | K9: =([1]MAXIM!AL9*'[1]MARK UP FOR RETAIL'!$D$11)*'[1]MARK UP FOR RETAIL'!$D$5 -> 354.9258
A10: 8’5” x 4’3” | B10: 1 | E10: =((([1]MAXIM!AF10*'[1]MARK UP FOR RETAIL'!$D$11)*'[1]MARK UP FOR RETAIL'!$D$9)*'[1]MARK UP FOR RETAIL'!$D$5)+'[1]MARK UP FOR RETAIL'!$G$5 -> 733.2444 | F10: =((([1]MAXIM!AG10*'[1]MARK UP FOR RETAIL'!$D$11)*'[1]MARK UP FOR RETAIL'!$D$9)*'[1]MARK UP FOR RETAIL'!$D$5)+'[1]MARK UP FOR RETAIL'!$G$5 -> 977.0868 | G10: =((([1]MAXIM!AH10*'[1]MARK UP FOR RETAIL'!$D$11)*'[1]MARK UP FOR RETAIL'!$D$9)*'[1]MARK UP FOR RETAIL'!$D$5)+'[1]MARK UP FOR RETAIL'!$G$5 -> 1220.9292 | H10: =(([1]MAXIM!AI10*'[1]MARK UP FOR RETAIL'!$D$10)*'[1]MARK UP FOR RETAIL'!$D$11)*'[1]MARK UP FOR RETAIL'!$D$7 -> 170.0028 | I10: =([1]MAXIM!AJ10*'[1]MARK UP FOR RETAIL'!$D$11)*'[1]MARK UP FOR RETAIL'!$D$5 -> 410.0544 | K10: =([1]MAXIM!AL10*'[1]MARK UP FOR RETAIL'!$D$11)*'[1]MARK UP FOR RETAIL'!$D$5 -> 399.0708
A11: 10’5” x 4’3” | B11: 2 | E11: =((([1]MAXIM!AF11*'[1]MARK UP FOR RETAIL'!$D$11)*'[1]MARK UP FOR RETAIL'!$D$9)*'[1]MARK UP FOR RETAIL'!$D$5)+'[1]MARK UP FOR RETAIL'!$G$5 -> 894.6612 | F11: =((([1]MAXIM!AG11*'[1]MARK UP FOR RETAIL'!$D$11)*'[1]MARK UP FOR RETAIL'!$D$9)*'[1]MARK UP FOR RETAIL'!$D$5)+'[1]MARK UP FOR RETAIL'!$G$5 -> 1152.2412 | G11: =((([1]MAXIM!AH11*'[1]MARK UP FOR RETAIL'!$D$11)*'[1]MARK UP FOR RETAIL'!$D$9)*'[1]MARK UP FOR RETAIL'!$D$5)+'[1]MARK UP FOR RETAIL'!$G$5 -> 1475.0748 | H11: =(([1]MAXIM!AI11*'[1]MARK UP FOR RETAIL'!$D$10)*'[1]MARK UP FOR RETAIL'!$D$11)*'[1]MARK UP FOR RETAIL'!$D$7 -> 187.1748 | I11: =([1]MAXIM!AJ11*'[1]MARK UP FOR RETAIL'!$D$11)*'[1]MARK UP FOR RETAIL'!$D$5 -> 482.6304 | K11: =([1]MAXIM!AL11*'[1]MARK UP FOR RETAIL'!$D$11)*'[1]MARK UP FOR RETAIL'!$D$5 -> 579.1824
A12: 12’6” x 4’3” | B12: 2 | E12: =((([1]MAXIM!AF12*'[1]MARK UP FOR RETAIL'!$D$11)*'[1]MARK UP FOR RETAIL'!$D$9)*'[1]MARK UP FOR RETAIL'!$D$5)+'[1]MARK UP FOR RETAIL'!$G$5 -> 1061.2296 | F12: =((([1]MAXIM!AG12*'[1]MARK UP FOR RETAIL'!$D$11)*'[1]MARK UP FOR RETAIL'!$D$9)*'[1]MARK UP FOR RETAIL'!$D$5)+'[1]MARK UP FOR RETAIL'!$G$5 -> 1360.0224 | G12: =((([1]MAXIM!AH12*'[1]MARK UP FOR RETAIL'!$D$11)*'[1]MARK UP FOR RETAIL'!$D$9)*'[1]MARK UP FOR RETAIL'!$D$5)+'[1]MARK UP FOR RETAIL'!$G$5 -> 1724.0688 | H12: =(([1]MAXIM!AI12*'[1]MARK UP FOR RETAIL'!$D$10)*'[1]MARK UP FOR RETAIL'!$D$11)*'[1]MARK UP FOR RETAIL'!$D$7 -> 202.6296 | I12: =([1]MAXIM!AJ12*'[1]MARK UP FOR RETAIL'!$D$11)*'[1]MARK UP FOR RETAIL'!$D$5 -> 551.5776 | K12: =([1]MAXIM!AL12*'[1]MARK UP FOR RETAIL'!$D$11)*'[1]MARK UP FOR RETAIL'!$D$5 -> 722.2122
A13: 14’6" x 4’3” | B13: 3 | E13: =((([1]MAXIM!AF13*'[1]MARK UP FOR RETAIL'!$D$11)*'[1]MARK UP FOR RETAIL'!$D$9)*'[1]MARK UP FOR RETAIL'!$D$5)+'[1]MARK UP FOR RETAIL'!$G$5 -> 1193.454 | F13: =((([1]MAXIM!AG13*'[1]MARK UP FOR RETAIL'!$D$11)*'[1]MARK UP FOR RETAIL'!$D$9)*'[1]MARK UP FOR RETAIL'!$D$5)+'[1]MARK UP FOR RETAIL'!$G$5 -> 1564.3692 | G13: =((([1]MAXIM!AH13*'[1]MARK UP FOR RETAIL'!$D$11)*'[1]MARK UP FOR RETAIL'!$D$9)*'[1]MARK UP FOR RETAIL'!$D$5)+'[1]MARK UP FOR RETAIL'!$G$5 -> 1921.5468 | H13: =(([1]MAXIM!AI13*'[1]MARK UP FOR RETAIL'!$D$10)*'[1]MARK UP FOR RETAIL'!$D$11)*'[1]MARK UP FOR RETAIL'!$D$7 -> 219.8016 | I13: =([1]MAXIM!AJ13*'[1]MARK UP FOR RETAIL'!$D$11)*'[1]MARK UP FOR RETAIL'!$D$5 -> 624.1536 | K13: =([1]MAXIM!AL13*'[1]MARK UP FOR RETAIL'!$D$11)*'[1]MARK UP FOR RETAIL'!$D$5 -> 886.4316
A14: 16’6” x 4’3” | B14: 3 | E14: =((([1]MAXIM!AF14*'[1]MARK UP FOR RETAIL'!$D$11)*'[1]MARK UP FOR RETAIL'!$D$9)*'[1]MARK UP FOR RETAIL'!$D$5)+'[1]MARK UP FOR RETAIL'!$G$5 -> 1372.0428 | F14: =((([1]MAXIM!AG14*'[1]MARK UP FOR RETAIL'!$D$11)*'[1]MARK UP FOR RETAIL'!$D$9)*'[1]MARK UP FOR RETAIL'!$D$5)+'[1]MARK UP FOR RETAIL'!$G$5 -> 1782.4536 | G14: =((([1]MAXIM!AH14*'[1]MARK UP FOR RETAIL'!$D$11)*'[1]MARK UP FOR RETAIL'!$D$9)*'[1]MARK UP FOR RETAIL'!$D$5)+'[1]MARK UP FOR RETAIL'!$G$5 -> 2191.1472 | H14: =(([1]MAXIM!AI14*'[1]MARK UP FOR RETAIL'!$D$10)*'[1]MARK UP FOR RETAIL'!$D$11)*'[1]MARK UP FOR RETAIL'!$D$7 -> 242.1252 | I14: =([1]MAXIM!AJ14*'[1]MARK UP FOR RETAIL'!$D$11)*'[1]MARK UP FOR RETAIL'!$D$5 -> 696.7296 | K14: =([1]MAXIM!AL14*'[1]MARK UP FOR RETAIL'!$D$11)*'[1]MARK UP FOR RETAIL'!$D$5 -> 1048.8852
A15: 18’6” x 4’3” | B15: 4 | E15: =((([1]MAXIM!AF15*'[1]MARK UP FOR RETAIL'!$D$11)*'[1]MARK UP FOR RETAIL'!$D$9)*'[1]MARK UP FOR RETAIL'!$D$5)+'[1]MARK UP FOR RETAIL'!$G$5 -> 1583.2584 | F15: =((([1]MAXIM!AG15*'[1]MARK UP FOR RETAIL'!$D$11)*'[1]MARK UP FOR RETAIL'!$D$9)*'[1]MARK UP FOR RETAIL'!$D$5)+'[1]MARK UP FOR RETAIL'!$G$5 -> 2043.468 | G15: =((([1]MAXIM!AH15*'[1]MARK UP FOR RETAIL'!$D$11)*'[1]MARK UP FOR RETAIL'!$D$9)*'[1]MARK UP FOR RETAIL'!$D$5)+'[1]MARK UP FOR RETAIL'!$G$5 -> 2477.9196 | H15: =(([1]MAXIM!AI15*'[1]MARK UP FOR RETAIL'!$D$10)*'[1]MARK UP FOR RETAIL'!$D$11)*'[1]MARK UP FOR RETAIL'!$D$7 -> 255.8628 | I15: =([1]MAXIM!AJ15*'[1]MARK UP FOR RETAIL'!$D$11)*'[1]MARK UP FOR RETAIL'!$D$5 -> 767.4912 | K15: =([1]MAXIM!AL15*'[1]MARK UP FOR RETAIL'!$D$11)*'[1]MARK UP FOR RETAIL'!$D$5 -> 1255.4838
A16: 20’6” x 4’3” | B16: 4 | E16: =((([1]MAXIM!AF16*'[1]MARK UP FOR RETAIL'!$D$11)*'[1]MARK UP FOR RETAIL'!$D$9)*'[1]MARK UP FOR RETAIL'!$D$5)+'[1]MARK UP FOR RETAIL'!$G$5 -> 1785.888 | F16: =((([1]MAXIM!AG16*'[1]MARK UP FOR RETAIL'!$D$11)*'[1]MARK UP FOR RETAIL'!$D$9)*'[1]MARK UP FOR RETAIL'!$D$5)+'[1]MARK UP FOR RETAIL'!$G$5 -> 2287.3104 | G16: =((([1]MAXIM!AH16*'[1]MARK UP FOR RETAIL'!$D$11)*'[1]MARK UP FOR RETAIL'!$D$9)*'[1]MARK UP FOR RETAIL'!$D$5)+'[1]MARK UP FOR RETAIL'!$G$5 -> 2764.692 | H16: =(([1]MAXIM!AI16*'[1]MARK UP FOR RETAIL'!$D$10)*'[1]MARK UP FOR RETAIL'!$D$11)*'[1]MARK UP FOR RETAIL'!$D$7 -> 273.0348 | I16: =([1]MAXIM!AJ16*'[1]MARK UP FOR RETAIL'!$D$11)*'[1]MARK UP FOR RETAIL'!$D$5 -> 838.2528 | K16: =([1]MAXIM!AL16*'[1]MARK UP FOR RETAIL'!$D$11)*'[1]MARK UP FOR RETAIL'!$D$5 -> 1453.2534
A17: Extra double doors in the rear end | E17: =(([1]MAXIM!AF17*'[1]MARK UP FOR RETAIL'!$D$9)*'[1]MARK UP FOR RETAIL'!$D$11)*'[1]MARK UP FOR RETAIL'!$D$5 -> 161.4168 | H17: =(([1]MAXIM!AI17*'[1]MARK UP FOR RETAIL'!$D$10)*'[1]MARK UP FOR RETAIL'!$D$11)*'[1]MARK UP FOR RETAIL'!$D$7 -> 32.6268 | I17: / | K17: =([1]MAXIM!AL17*'[1]MARK UP FOR RETAIL'!$D$11)*'[1]MARK UP FOR RETAIL'!$D$5 -> 81.2268
A18: Soft Soil Support | E18: =([1]MAXIM!AF18*'[1]MARK UP FOR RETAIL'!$D$11)*'[1]MARK UP FOR RETAIL'!$D$7 -> 25.758 | I18: / | K18: =([1]MAXIM!AL18*'[1]MARK UP FOR RETAIL'!$D$11)*'[1]MARK UP FOR RETAIL'!$D$5 -> 19.4238
A19: R-TYPE | E19: =(([1]MAXIM!AF19*'[1]MARK UP FOR RETAIL'!$D$9)*'[1]MARK UP FOR RETAIL'!$D$11)*'[1]MARK UP FOR RETAIL'!$D$5 -> -48.0816 | F19: =(([1]MAXIM!AG19*'[1]MARK UP FOR RETAIL'!$D$9)*'[1]MARK UP FOR RETAIL'!$D$11)*'[1]MARK UP FOR RETAIL'!$D$5 -> -82.4256 | G19: =(([1]MAXIM!AH19*'[1]MARK UP FOR RETAIL'!$D$9)*'[1]MARK UP FOR RETAIL'!$D$11)*'[1]MARK UP FOR RETAIL'!$D$5 -> -109.9008 | H19: =(([1]MAXIM!AI19*'[1]MARK UP FOR RETAIL'!$D$10)*'[1]MARK UP FOR RETAIL'!$D$11)*'[1]MARK UP FOR RETAIL'!$D$7 -> -18.8892 | K19: =([1]MAXIM!AL19*'[1]MARK UP FOR RETAIL'!$D$11)*'[1]MARK UP FOR RETAIL'!$D$5 -> -58.2714
A21: NOTE: The 2' long model has no back panels and must be fixed against a solid structure. The price already includes the R-type deduction, so no further deduction applies.
A24: MAXIM PACKAGE
A26: INCLUDES AS STANDARD | H26: PACKAGE EXTRAS
A28: Integral aluminium base with dropped doors | H28: Diamond shelf to length - 2 slat
A29: Double Dropped Doors | H29: Diamond staging to length - 3 slat
A30: At least one roof vent | H30: One 5 blade louvre
A31: Integral Gutters | H31: One automatic roof vent opener
H32: One automatic louvre opener
H33: Standard rainwater collection kit
H34: Grow Hooks (6)
A38: Size Length x Width | B38: Roof Vents | D38: Standard Door | E38: With Horticultural Glass | F38: With Toughened Safety Glass | H38: POWDER COATED (extra)
A39: 4’5” x 4’3” | B39: 1 | D39: Double Drop Door | E39: =((([1]MAXIM!AF39*'[1]MARK UP FOR RETAIL'!$D$14)*'[1]MARK UP FOR RETAIL'!$D$11)*'[1]MARK UP FOR RETAIL'!$D$5)+'[1]MARK UP FOR RETAIL'!$G$5 -> 892.944 | F39: =((([1]MAXIM!AG39*'[1]MARK UP FOR RETAIL'!$D$14)*'[1]MARK UP FOR RETAIL'!$D$11)*'[1]MARK UP FOR RETAIL'!$D$5)+'[1]MARK UP FOR RETAIL'!$G$5 -> 1086.9876 | H39: =(([1]MAXIM!AI39*'[1]MARK UP FOR RETAIL'!$D$14)*'[1]MARK UP FOR RETAIL'!$D$11)*'[1]MARK UP FOR RETAIL'!$D$5 -> 427.3236
A40: 6’5” x 4’3” | B40: 1 | E40: =((([1]MAXIM!AF40*'[1]MARK UP FOR RETAIL'!$D$14)*'[1]MARK UP FOR RETAIL'!$D$11)*'[1]MARK UP FOR RETAIL'!$D$5)+'[1]MARK UP FOR RETAIL'!$G$5 -> 963.3492 | F40: =((([1]MAXIM!AG40*'[1]MARK UP FOR RETAIL'!$D$14)*'[1]MARK UP FOR RETAIL'!$D$11)*'[1]MARK UP FOR RETAIL'!$D$5)+'[1]MARK UP FOR RETAIL'!$G$5 -> 1177.9992 | H40: =(([1]MAXIM!AI40*'[1]MARK UP FOR RETAIL'!$D$14)*'[1]MARK UP FOR RETAIL'!$D$11)*'[1]MARK UP FOR RETAIL'!$D$5 -> 490.8924
A41: 8’5” x 4’3” | B41: 1 | E41: =((([1]MAXIM!AF41*'[1]MARK UP FOR RETAIL'!$D$14)*'[1]MARK UP FOR RETAIL'!$D$11)*'[1]MARK UP FOR RETAIL'!$D$5)+'[1]MARK UP FOR RETAIL'!$G$5 -> 1086.9876 | F41: =((([1]MAXIM!AG41*'[1]MARK UP FOR RETAIL'!$D$14)*'[1]MARK UP FOR RETAIL'!$D$11)*'[1]MARK UP FOR RETAIL'!$D$5)+'[1]MARK UP FOR RETAIL'!$G$5 -> 1335.9816 | H41: =(([1]MAXIM!AI41*'[1]MARK UP FOR RETAIL'!$D$14)*'[1]MARK UP FOR RETAIL'!$D$11)*'[1]MARK UP FOR RETAIL'!$D$5 -> 568.5876
A42: 10'5" x 4'3" | B42: 2 | E42: =((([1]MAXIM!AF42*'[1]MARK UP FOR RETAIL'!$D$14)*'[1]MARK UP FOR RETAIL'!$D$11)*'[1]MARK UP FOR RETAIL'!$D$5)+'[1]MARK UP FOR RETAIL'!$G$5 -> 1296.486 | F42: =((([1]MAXIM!AG42*'[1]MARK UP FOR RETAIL'!$D$14)*'[1]MARK UP FOR RETAIL'!$D$11)*'[1]MARK UP FOR RETAIL'!$D$5)+'[1]MARK UP FOR RETAIL'!$G$5 -> 1555.7832 | H42: =(([1]MAXIM!AI42*'[1]MARK UP FOR RETAIL'!$D$14)*'[1]MARK UP FOR RETAIL'!$D$11)*'[1]MARK UP FOR RETAIL'!$D$5 -> 787.5468

Sheet THE EDGE 400
A1: THE EDGE 400 - 4'3" WIDE
A3: BASIC MODEL OPTIONS
E4: Aluminium frame Integral Base with drop door(s)
A6: Size Length x Width | B6: Single Front Vent | C6: 5 Blade Louvre | D6: Standard Door | E6: 4mm Toughened Safety Glass | F6: 6mm Twin Wall Polycarbonate | H6: POWDER COATED (extra)
A7: 8’5” x 4’3” | B7: 2 | C7: 1 | D7: Double Drop Doors on the Length | E7: =((('[1]THE EDGE 400'!P7*'[1]MARK UP FOR RETAIL'!$D$11)*'[1]MARK UP FOR RETAIL'!$D$9)*'[1]MARK UP FOR RETAIL'!$D$5)+'[1]MARK UP FOR RETAIL'!$G$5 -> 1584.9756 | F7: =((('[1]THE EDGE 400'!Q7*'[1]MARK UP FOR RETAIL'!$D$11)*'[1]MARK UP FOR RETAIL'!$D$9)*'[1]MARK UP FOR RETAIL'!$D$5)+'[1]MARK UP FOR RETAIL'!$G$5 -> 1825.3836 | H7: =('[1]THE EDGE 400'!S7*'[1]MARK UP FOR RETAIL'!$D$11)*'[1]MARK UP FOR RETAIL'!$D$5 -> 669.2382
A8: 10’5” x 4’3” | B8: 2 | C8: 1 | E8: =((('[1]THE EDGE 400'!P8*'[1]MARK UP FOR RETAIL'!$D$11)*'[1]MARK UP FOR RETAIL'!$D$9)*'[1]MARK UP FOR RETAIL'!$D$5)+'[1]MARK UP FOR RETAIL'!$G$5 -> 1849.4244 | F8: =((('[1]THE EDGE 400'!Q8*'[1]MARK UP FOR RETAIL'!$D$11)*'[1]MARK UP FOR RETAIL'!$D$9)*'[1]MARK UP FOR RETAIL'!$D$5)+'[1]MARK UP FOR RETAIL'!$G$5 -> 2127.6108 | H8: =('[1]THE EDGE 400'!S8*'[1]MARK UP FOR RETAIL'!$D$11)*'[1]MARK UP FOR RETAIL'!$D$5 -> 755.7624
A9: 12’6” x 4’3” | B9: 2 | C9: 1 | E9: =((('[1]THE EDGE 400'!P9*'[1]MARK UP FOR RETAIL'!$D$11)*'[1]MARK UP FOR RETAIL'!$D$9)*'[1]MARK UP FOR RETAIL'!$D$5)+'[1]MARK UP FOR RETAIL'!$G$5 -> 2113.8732 | F9: =((('[1]THE EDGE 400'!Q9*'[1]MARK UP FOR RETAIL'!$D$11)*'[1]MARK UP FOR RETAIL'!$D$9)*'[1]MARK UP FOR RETAIL'!$D$5)+'[1]MARK UP FOR RETAIL'!$G$5 -> 2429.838 | H9: =('[1]THE EDGE 400'!S9*'[1]MARK UP FOR RETAIL'!$D$11)*'[1]MARK UP FOR RETAIL'!$D$5 -> 847.584
A10: 14’6" x 4’3” | B10: 2 | C10: 1 | E10: =((('[1]THE EDGE 400'!P10*'[1]MARK UP FOR RETAIL'!$D$11)*'[1]MARK UP FOR RETAIL'!$D$9)*'[1]MARK UP FOR RETAIL'!$D$5)+'[1]MARK UP FOR RETAIL'!$G$5 -> 2376.6048 | F10: =((('[1]THE EDGE 400'!Q10*'[1]MARK UP FOR RETAIL'!$D$11)*'[1]MARK UP FOR RETAIL'!$D$9)*'[1]MARK UP FOR RETAIL'!$D$5)+'[1]MARK UP FOR RETAIL'!$G$5 -> 2732.0652 | H10: =('[1]THE EDGE 400'!S10*'[1]MARK UP FOR RETAIL'!$D$11)*'[1]MARK UP FOR RETAIL'!$D$5 -> 955.2978
A11: 16’6” x 4’3” | B11: 2 | C11: 1 | E11: =((('[1]THE EDGE 400'!P11*'[1]MARK UP FOR RETAIL'!$D$11)*'[1]MARK UP FOR RETAIL'!$D$9)*'[1]MARK UP FOR RETAIL'!$D$5)+'[1]MARK UP FOR RETAIL'!$G$5 -> 2639.3364 | F11: =((('[1]THE EDGE 400'!Q11*'[1]MARK UP FOR RETAIL'!$D$11)*'[1]MARK UP FOR RETAIL'!$D$9)*'[1]MARK UP FOR RETAIL'!$D$5)+'[1]MARK UP FOR RETAIL'!$G$5 -> 3036.0096 | H11: =('[1]THE EDGE 400'!S11*'[1]MARK UP FOR RETAIL'!$D$11)*'[1]MARK UP FOR RETAIL'!$D$5 -> 1043.5878
A12: 18’6” x 4’3” | B12: 2 | C12: 1 | E12: =((('[1]THE EDGE 400'!P12*'[1]MARK UP FOR RETAIL'!$D$11)*'[1]MARK UP FOR RETAIL'!$D$9)*'[1]MARK UP FOR RETAIL'!$D$5)+'[1]MARK UP FOR RETAIL'!$G$5 -> 2912.3712 | F12: =((('[1]THE EDGE 400'!Q12*'[1]MARK UP FOR RETAIL'!$D$11)*'[1]MARK UP FOR RETAIL'!$D$9)*'[1]MARK UP FOR RETAIL'!$D$5)+'[1]MARK UP FOR RETAIL'!$G$5 -> 3350.2572 | H12: =('[1]THE EDGE 400'!S12*'[1]MARK UP FOR RETAIL'!$D$11)*'[1]MARK UP FOR RETAIL'!$D$5 -> 1142.4726
A13: 20’6” x 4’3” | B13: 2 | C13: 1 | E13: =((('[1]THE EDGE 400'!P13*'[1]MARK UP FOR RETAIL'!$D$11)*'[1]MARK UP FOR RETAIL'!$D$9)*'[1]MARK UP FOR RETAIL'!$D$5)+'[1]MARK UP FOR RETAIL'!$G$5 -> 3190.5576 | F13: =((('[1]THE EDGE 400'!Q13*'[1]MARK UP FOR RETAIL'!$D$11)*'[1]MARK UP FOR RETAIL'!$D$9)*'[1]MARK UP FOR RETAIL'!$D$5)+'[1]MARK UP FOR RETAIL'!$G$5 -> 3669.6564 | H13: =('[1]THE EDGE 400'!S13*'[1]MARK UP FOR RETAIL'!$D$11)*'[1]MARK UP FOR RETAIL'!$D$5 -> 1234.2942
A14: Extra double doors | E14: =(('[1]THE EDGE 400'!P14*'[1]MARK UP FOR RETAIL'!$D$11)*'[1]MARK UP FOR RETAIL'!$D$9)*'[1]MARK UP FOR RETAIL'!$D$5 -> 298.7928 | H14: =('[1]THE EDGE 400'!S14*'[1]MARK UP FOR RETAIL'!$D$11)*'[1]MARK UP FOR RETAIL'!$D$5 -> 151.8588
A17: THE EDGE 400 comes as standard with:
A20: Unlimited lengths available from 8'
A21: Titan heavy duty bar throughout
A22: 4mm thick Toughened Safety Glass throughout
A23: Bar Capping
A24: Two Hinge Roof Vents (Additional hinge vents can not be purchased)
A25: One 5 Blade Louvre
A26: Double Doors on the Length
A27: Low Threshold with Cambered Cill
A30: Please advise door position when ordering The Edge
A57: The above image demonstrates a 12'x4' (Nominal) Edge 400
A58: The double doors has been placed in bay 3 and 4
... A60: * Drawing not to scale or specification.

Sheet STREAMLINE
A1: STREAMLINE: 5'3" WIDE
A3: BASIC MODEL OPTIONS
E4: Aluminium frame, Integral base with drop door(s)
A6: Size Length x Width | B6: Roof Vents | D6: Standard Door | E6: With Horticultural Glass | F6: With Toughened Safety Glass | G6: With 6mm Twin wall Polycarbonate | H6: Bar Capping (TG only) | I6: Hybrid Panels (coloured) | K6: POWDER COATED (extra)
A7: 2’3” x 5’3” NOT FREE STANDING | B7: 0 | D7: Double Drop Doors | E7: =((([1]STREAMLINE!AR7*'[1]MARK UP FOR RETAIL'!$D$11)*'[1]MARK UP FOR RETAIL'!$D$9)*'[1]MARK UP FOR RETAIL'!$D$5)+'[1]MARK UP FOR RETAIL'!$G$5 -> 508.2912 | F7: =((([1]STREAMLINE!AS7*'[1]MARK UP FOR RETAIL'!$D$11)*'[1]MARK UP FOR RETAIL'!$D$9)*'[1]MARK UP FOR RETAIL'!$D$5)+'[1]MARK UP FOR RETAIL'!$G$5 -> 686.88 | G7: =((([1]STREAMLINE!AT7*'[1]MARK UP FOR RETAIL'!$D$11)*'[1]MARK UP FOR RETAIL'!$D$9)*'[1]MARK UP FOR RETAIL'!$D$5)+'[1]MARK UP FOR RETAIL'!$G$5 -> 748.6992 | H7: =(([1]STREAMLINE!AU7*'[1]MARK UP FOR RETAIL'!$D$10)*'[1]MARK UP FOR RETAIL'!$D$11)*'[1]MARK UP FOR RETAIL'!$D$7 -> 106.4664 | I7: =([1]STREAMLINE!AV7*'[1]MARK UP FOR RETAIL'!$D$11)*'[1]MARK UP FOR RETAIL'!$D$5 -> 130.6368 | K7: =([1]STREAMLINE!AX7*'[1]MARK UP FOR RETAIL'!$D$11)*'[1]MARK UP FOR RETAIL'!$D$5 -> 250.7436
A8: 4’5” x 5’3” | B8: 1 | E8: =((([1]STREAMLINE!AR8*'[1]MARK UP FOR RETAIL'!$D$11)*'[1]MARK UP FOR RETAIL'!$D$9)*'[1]MARK UP FOR RETAIL'!$D$5)+'[1]MARK UP FOR RETAIL'!$G$5 -> 563.2416 | F8: =((([1]STREAMLINE!AS8*'[1]MARK UP FOR RETAIL'!$D$11)*'[1]MARK UP FOR RETAIL'!$D$9)*'[1]MARK UP FOR RETAIL'!$D$5)+'[1]MARK UP FOR RETAIL'!$G$5 -> 757.2852 | G8: =((([1]STREAMLINE!AT8*'[1]MARK UP FOR RETAIL'!$D$11)*'[1]MARK UP FOR RETAIL'!$D$9)*'[1]MARK UP FOR RETAIL'!$D$5)+'[1]MARK UP FOR RETAIL'!$G$5 -> 908.3988 | H8: =(([1]STREAMLINE!AU8*'[1]MARK UP FOR RETAIL'!$D$10)*'[1]MARK UP FOR RETAIL'!$D$11)*'[1]MARK UP FOR RETAIL'!$D$7 -> 121.9212 | I8: =([1]STREAMLINE!AV8*'[1]MARK UP FOR RETAIL'!$D$11)*'[1]MARK UP FOR RETAIL'!$D$5 -> 297.5616 | K8: =([1]STREAMLINE!AX8*'[1]MARK UP FOR RETAIL'!$D$11)*'[1]MARK UP FOR RETAIL'!$D$5 -> 294.8886
A9: 6’5” x 5’3” | B9: 1 | E9: =((([1]STREAMLINE!AR9*'[1]MARK UP FOR RETAIL'!$D$11)*'[1]MARK UP FOR RETAIL'!$D$9)*'[1]MARK UP FOR RETAIL'!$D$5)+'[1]MARK UP FOR RETAIL'!$G$5 -> 604.4544 | F9: =((([1]STREAMLINE!AS9*'[1]MARK UP FOR RETAIL'!$D$11)*'[1]MARK UP FOR RETAIL'!$D$9)*'[1]MARK UP FOR RETAIL'!$D$5)+'[1]MARK UP FOR RETAIL'!$G$5 -> 817.3872 | G9: =((([1]STREAMLINE!AT9*'[1]MARK UP FOR RETAIL'!$D$11)*'[1]MARK UP FOR RETAIL'!$D$9)*'[1]MARK UP FOR RETAIL'!$D$5)+'[1]MARK UP FOR RETAIL'!$G$5 -> 1056.078 | H9: =(([1]STREAMLINE!AU9*'[1]MARK UP FOR RETAIL'!$D$10)*'[1]MARK UP FOR RETAIL'!$D$11)*'[1]MARK UP FOR RETAIL'!$D$7 -> 145.962 | I9: =([1]STREAMLINE!AV9*'[1]MARK UP FOR RETAIL'!$D$11)*'[1]MARK UP FOR RETAIL'!$D$5 -> 370.1376 | K9: =([1]STREAMLINE!AX9*'[1]MARK UP FOR RETAIL'!$D$11)*'[1]MARK UP FOR RETAIL'!$D$5 -> 330.2046
A10: 8’5” x 5’3” | B10: 1 | E10: =((([1]STREAMLINE!AR10*'[1]MARK UP FOR RETAIL'!$D$11)*'[1]MARK UP FOR RETAIL'!$D$9)*'[1]MARK UP FOR RETAIL'!$D$5)+'[1]MARK UP FOR RETAIL'!$G$5 -> 666.2736 | F10: =((([1]STREAMLINE!AS10*'[1]MARK UP FOR RETAIL'!$D$11)*'[1]MARK UP FOR RETAIL'!$D$9)*'[1]MARK UP FOR RETAIL'!$D$5)+'[1]MARK UP FOR RETAIL'!$G$5 -> 908.3988 | G10: =((([1]STREAMLINE!AT10*'[1]MARK UP FOR RETAIL'!$D$11)*'[1]MARK UP FOR RETAIL'!$D$9)*'[1]MARK UP FOR RETAIL'!$D$5)+'[1]MARK UP FOR RETAIL'!$G$5 -> 1217.4948 | H10: =(([1]STREAMLINE!AU10*'[1]MARK UP FOR RETAIL'!$D$10)*'[1]MARK UP FOR RETAIL'!$D$11)*'[1]MARK UP FOR RETAIL'!$D$7 -> 163.134 | I10: =([1]STREAMLINE!AV10*'[1]MARK UP FOR RETAIL'!$D$11)*'[1]MARK UP FOR RETAIL'!$D$5 -> 440.8992 | K10: =([1]STREAMLINE!AX10*'[1]MARK UP FOR RETAIL'!$D$11)*'[1]MARK UP FOR RETAIL'!$D$5 -> 388.476
A11: 10’5” x 5’3” | B11: 2 | E11: =((([1]STREAMLINE!AR11*'[1]MARK UP FOR RETAIL'!$D$11)*'[1]MARK UP FOR RETAIL'!$D$9)*'[1]MARK UP FOR RETAIL'!$D$5)+'[1]MARK UP FOR RETAIL'!$G$5 -> 843.1452 | F11: =((([1]STREAMLINE!AS11*'[1]MARK UP FOR RETAIL'!$D$11)*'[1]MARK UP FOR RETAIL'!$D$9)*'[1]MARK UP FOR RETAIL'!$D$5)+'[1]MARK UP FOR RETAIL'!$G$5 -> 1097.2908 | G11: =((([1]STREAMLINE!AT11*'[1]MARK UP FOR RETAIL'!$D$11)*'[1]MARK UP FOR RETAIL'!$D$9)*'[1]MARK UP FOR RETAIL'!$D$5)+'[1]MARK UP FOR RETAIL'!$G$5 -> 1406.3868 | H11: =(([1]STREAMLINE!AU11*'[1]MARK UP FOR RETAIL'!$D$10)*'[1]MARK UP FOR RETAIL'!$D$11)*'[1]MARK UP FOR RETAIL'!$D$7 -> 178.5888 | I11: =([1]STREAMLINE!AV11*'[1]MARK UP FOR RETAIL'!$D$11)*'[1]MARK UP FOR RETAIL'!$D$5 -> 511.6608 | K11: =([1]STREAMLINE!AX11*'[1]MARK UP FOR RETAIL'!$D$11)*'[1]MARK UP FOR RETAIL'!$D$5 -> 557.9928
A12: 12’6” x 5’3” | B12: 2 | E12: =((([1]STREAMLINE!AR12*'[1]MARK UP FOR RETAIL'!$D$11)*'[1]MARK UP FOR RETAIL'!$D$9)*'[1]MARK UP FOR RETAIL'!$D$5)+'[1]MARK UP FOR RETAIL'!$G$5 -> 978.804 | F12: =((([1]STREAMLINE!AS12*'[1]MARK UP FOR RETAIL'!$D$11)*'[1]MARK UP FOR RETAIL'!$D$9)*'[1]MARK UP FOR RETAIL'!$D$5)+'[1]MARK UP FOR RETAIL'!$G$5 -> 1282.7484 | G12: =((([1]STREAMLINE!AT12*'[1]MARK UP FOR RETAIL'!$D$11)*'[1]MARK UP FOR RETAIL'!$D$9)*'[1]MARK UP FOR RETAIL'!$D$5)+'[1]MARK UP FOR RETAIL'!$G$5 -> 1596.996 | H12: =(([1]STREAMLINE!AU12*'[1]MARK UP FOR RETAIL'!$D$10)*'[1]MARK UP FOR RETAIL'!$D$11)*'[1]MARK UP FOR RETAIL'!$D$7 -> 200.9124 | I12: =([1]STREAMLINE!AV12*'[1]MARK UP FOR RETAIL'!$D$11)*'[1]MARK UP FOR RETAIL'!$D$5 -> 584.2368 | K12: =([1]STREAMLINE!AX12*'[1]MARK UP FOR RETAIL'!$D$11)*'[1]MARK UP FOR RETAIL'!$D$5 -> 692.1936
A13: 14’6” x 5’3” | B13: 3 | E13: =((([1]STREAMLINE!AR13*'[1]MARK UP FOR RETAIL'!$D$11)*'[1]MARK UP FOR RETAIL'!$D$9)*'[1]MARK UP FOR RETAIL'!$D$5)+'[1]MARK UP FOR RETAIL'!$G$5 -> 1138.5036 | F13: =((([1]STREAMLINE!AS13*'[1]MARK UP FOR RETAIL'!$D$11)*'[1]MARK UP FOR RETAIL'!$D$9)*'[1]MARK UP FOR RETAIL'!$D$5)+'[1]MARK UP FOR RETAIL'!$G$5 -> 1476.792 | G13: =((([1]STREAMLINE!AT13*'[1]MARK UP FOR RETAIL'!$D$11)*'[1]MARK UP FOR RETAIL'!$D$9)*'[1]MARK UP FOR RETAIL'!$D$5)+'[1]MARK UP FOR RETAIL'!$G$5 -> 1828.818 | H13: =(([1]STREAMLINE!AU13*'[1]MARK UP FOR RETAIL'!$D$10)*'[1]MARK UP FOR RETAIL'!$D$11)*'[1]MARK UP FOR RETAIL'!$D$7 -> 216.3672 | I13: =([1]STREAMLINE!AV13*'[1]MARK UP FOR RETAIL'!$D$11)*'[1]MARK UP FOR RETAIL'!$D$5 -> 656.8128 | K13: =([1]STREAMLINE!AX13*'[1]MARK UP FOR RETAIL'!$D$11)*'[1]MARK UP FOR RETAIL'!$D$5 -> 819.3312
A14: 16’6” x 5’3” | B14: 3 | E14: =((([1]STREAMLINE!AR14*'[1]MARK UP FOR RETAIL'!$D$11)*'[1]MARK UP FOR RETAIL'!$D$9)*'[1]MARK UP FOR RETAIL'!$D$5)+'[1]MARK UP FOR RETAIL'!$G$5 -> 1311.9408 | F14: =((([1]STREAMLINE!AS14*'[1]MARK UP FOR RETAIL'!$D$11)*'[1]MARK UP FOR RETAIL'!$D$9)*'[1]MARK UP FOR RETAIL'!$D$5)+'[1]MARK UP FOR RETAIL'!$G$5 -> 1682.856 | G14: =((([1]STREAMLINE!AT14*'[1]MARK UP FOR RETAIL'!$D$11)*'[1]MARK UP FOR RETAIL'!$D$9)*'[1]MARK UP FOR RETAIL'!$D$5)+'[1]MARK UP FOR RETAIL'!$G$5 -> 2082.9636 | H14: =(([1]STREAMLINE!AU14*'[1]MARK UP FOR RETAIL'!$D$10)*'[1]MARK UP FOR RETAIL'!$D$11)*'[1]MARK UP FOR RETAIL'!$D$7 -> 231.822 | I14: =([1]STREAMLINE!AV14*'[1]MARK UP FOR RETAIL'!$D$11)*'[1]MARK UP FOR RETAIL'!$D$5 -> 725.76 | K14: =([1]STREAMLINE!AX14*'[1]MARK UP FOR RETAIL'!$D$11)*'[1]MARK UP FOR RETAIL'!$D$5 -> 971.19
A15: 18’6” x 5’3” | B15: 4 | E15: =((([1]STREAMLINE!AR15*'[1]MARK UP FOR RETAIL'!$D$11)*'[1]MARK UP FOR RETAIL'!$D$9)*'[1]MARK UP FOR RETAIL'!$D$5)+'[1]MARK UP FOR RETAIL'!$G$5 -> 1504.2672 | F15: =((([1]STREAMLINE!AS15*'[1]MARK UP FOR RETAIL'!$D$11)*'[1]MARK UP FOR RETAIL'!$D$9)*'[1]MARK UP FOR RETAIL'!$D$5)+'[1]MARK UP FOR RETAIL'!$G$5 -> 1909.5264 | G15: =((([1]STREAMLINE!AT15*'[1]MARK UP FOR RETAIL'!$D$11)*'[1]MARK UP FOR RETAIL'!$D$9)*'[1]MARK UP FOR RETAIL'!$D$5)+'[1]MARK UP FOR RETAIL'!$G$5 -> 2349.1296 | H15: =(([1]STREAMLINE!AU15*'[1]MARK UP FOR RETAIL'!$D$10)*'[1]MARK UP FOR RETAIL'!$D$11)*'[1]MARK UP FOR RETAIL'!$D$7 -> 254.1456 | I15: =([1]STREAMLINE!AV15*'[1]MARK UP FOR RETAIL'!$D$11)*'[1]MARK UP FOR RETAIL'!$D$5 -> 798.336 | K15: =([1]STREAMLINE!AX15*'[1]MARK UP FOR RETAIL'!$D$11)*'[1]MARK UP FOR RETAIL'!$D$5 -> 1156.599
A16: 20’6” x 5’3” | B16: 4 | E16: =((([1]STREAMLINE!AR16*'[1]MARK UP FOR RETAIL'!$D$11)*'[1]MARK UP FOR RETAIL'!$D$9)*'[1]MARK UP FOR RETAIL'!$D$5)+'[1]MARK UP FOR RETAIL'!$G$5 -> 1732.6548 | F16: =((([1]STREAMLINE!AS16*'[1]MARK UP FOR RETAIL'!$D$11)*'[1]MARK UP FOR RETAIL'!$D$9)*'[1]MARK UP FOR RETAIL'!$D$5)+'[1]MARK UP FOR RETAIL'!$G$5 -> 2161.9548 | G16: =((([1]STREAMLINE!AT16*'[1]MARK UP FOR RETAIL'!$D$11)*'[1]MARK UP FOR RETAIL'!$D$9)*'[1]MARK UP FOR RETAIL'!$D$5)+'[1]MARK UP FOR RETAIL'!$G$5 -> 2639.3364 | H16: =(([1]STREAMLINE!AU16*'[1]MARK UP FOR RETAIL'!$D$10)*'[1]MARK UP FOR RETAIL'!$D$11)*'[1]MARK UP FOR RETAIL'!$D$7 -> 274.752 | I16: =([1]STREAMLINE!AV16*'[1]MARK UP FOR RETAIL'!$D$11)*'[1]MARK UP FOR RETAIL'!$D$5 -> 870.912 | K16: =([1]STREAMLINE!AX16*'[1]MARK UP FOR RETAIL'!$D$11)*'[1]MARK UP FOR RETAIL'!$D$5 -> 1342.008
A17: Extra double doors in the rear end | E17: =((([1]STREAMLINE!AR17*'[1]MARK UP FOR RETAIL'!$D$11)*'[1]MARK UP FOR RETAIL'!$D$9)*'[1]MARK UP FOR RETAIL'!$D$5) -> 147.6792 | H17: =(([1]STREAMLINE!AU17*'[1]MARK UP FOR RETAIL'!$D$10)*'[1]MARK UP FOR RETAIL'!$D$11)*'[1]MARK UP FOR RETAIL'!$D$7 -> 32.6268 | I17: / | K17: =([1]STREAMLINE!AX17*'[1]MARK UP FOR RETAIL'!$D$11)*'[1]MARK UP FOR RETAIL'!$D$5 -> 75.9294
A18: Soft Soil Support | E18: =((([1]STREAMLINE!AR18*'[1]MARK UP FOR RETAIL'!$D$10)*'[1]MARK UP FOR RETAIL'!$D$11)*'[1]MARK UP FOR RETAIL'!$D$7) -> 32.6268 | I18: / | K18: =([1]STREAMLINE!AX18*'[1]MARK UP FOR RETAIL'!$D$11)*'[1]MARK UP FOR RETAIL'!$D$5 -> 24.7212
A19: R-TYPE | E19: =((([1]STREAMLINE!AR19*'[1]MARK UP FOR RETAIL'!$D$11)*'[1]MARK UP FOR RETAIL'!$D$9)*'[1]MARK UP FOR RETAIL'!$D$5) -> -49.7988 | F19: =((([1]STREAMLINE!AS19*'[1]MARK UP FOR RETAIL'!$D$11)*'[1]MARK UP FOR RETAIL'!$D$9)*'[1]MARK UP FOR RETAIL'!$D$5) -> -85.86 | G19: =((([1]STREAMLINE!AT19*'[1]MARK UP FOR RETAIL'!$D$11)*'[1]MARK UP FOR RETAIL'!$D$9)*'[1]MARK UP FOR RETAIL'!$D$5) -> -109.9008 | H19: =(([1]STREAMLINE!AU19*'[1]MARK UP FOR RETAIL'!$D$10)*'[1]MARK UP FOR RETAIL'!$D$11)*'[1]MARK UP FOR RETAIL'!$D$7 -> -17.172 | K19: =([1]STREAMLINE!AX19*'[1]MARK UP FOR RETAIL'!$D$11)*'[1]MARK UP FOR RETAIL'!$D$5 -> -60.0372
A21: NOTE: The 2' long model has no back panels and must be fixed against a solid structure. The price already includes the R-type deduction, so no further deduction applies.
A24: STREAMLINE PACKAGE
A26: INCLUDES AS STANDARD | H26: PACKAGE EXTRAS
A28: Integral aluminium base with dropped doors | H28: Diamond shelf to length - 2 slat
A29: Double Dropped Doors | H29: Diamond staging to length - 5 slat
A30: At least one roof vent | H30: One 5 blade louvre
A31: Integral Gutters | H31: One automatic roof vent opener
H32: One automatic louvre opener
H33: Standard rainwater collection kit
H34: Grow Hooks (6)
A38: Size Length x Width | B38: Roof Vents | D38: Standard Door | E38: With Horticultural Glass | F38: With Toughened Safety Glass | H38: POWDER COATED (extra)
A39: 4’5” x 5’3” | B39: 1 | D39: Double Drop Door | E39: =((([1]STREAMLINE!AR39*'[1]MARK UP FOR RETAIL'!$D$14)*'[1]MARK UP FOR RETAIL'!$D$11)*'[1]MARK UP FOR RETAIL'!$D$5)+'[1]MARK UP FOR RETAIL'!$G$5 -> 868.9032 | F39: =((([1]STREAMLINE!AS39*'[1]MARK UP FOR RETAIL'!$D$14)*'[1]MARK UP FOR RETAIL'!$D$11)*'[1]MARK UP FOR RETAIL'!$D$5)+'[1]MARK UP FOR RETAIL'!$G$5 -> 1064.664 | H39: =(([1]STREAMLINE!AU39*'[1]MARK UP FOR RETAIL'!$D$14)*'[1]MARK UP FOR RETAIL'!$D$11)*'[1]MARK UP FOR RETAIL'!$D$5 -> 425.5578
A40: 6’5” x 5’3” | B40: 1 | E40: =((([1]STREAMLINE!AR40*'[1]MARK UP FOR RETAIL'!$D$14)*'[1]MARK UP FOR RETAIL'!$D$11)*'[1]MARK UP FOR RETAIL'!$D$5)+'[1]MARK UP FOR RETAIL'!$G$5 -> 947.8944 | F40: =((([1]STREAMLINE!AS40*'[1]MARK UP FOR RETAIL'!$D$14)*'[1]MARK UP FOR RETAIL'!$D$11)*'[1]MARK UP FOR RETAIL'!$D$5)+'[1]MARK UP FOR RETAIL'!$G$5 -> 1162.5444 | H40: =(([1]STREAMLINE!AU40*'[1]MARK UP FOR RETAIL'!$D$14)*'[1]MARK UP FOR RETAIL'!$D$11)*'[1]MARK UP FOR RETAIL'!$D$5 -> 490.8924
A41: 8’5” x 5’3” | B41: 1 | E41: =((([1]STREAMLINE!AR41*'[1]MARK UP FOR RETAIL'!$D$14)*'[1]MARK UP FOR RETAIL'!$D$11)*'[1]MARK UP FOR RETAIL'!$D$5)+'[1]MARK UP FOR RETAIL'!$G$5 -> 1057.7952 | F41: =((([1]STREAMLINE!AS41*'[1]MARK UP FOR RETAIL'!$D$14)*'[1]MARK UP FOR RETAIL'!$D$11)*'[1]MARK UP FOR RETAIL'!$D$5)+'[1]MARK UP FOR RETAIL'!$G$5 -> 1301.6376 | H41: =(([1]STREAMLINE!AU41*'[1]MARK UP FOR RETAIL'!$D$14)*'[1]MARK UP FOR RETAIL'!$D$11)*'[1]MARK UP FOR RETAIL'!$D$5 -> 584.4798
A42: 10'5" x 5'3" | B42: 2 | E42: =((([1]STREAMLINE!AR42*'[1]MARK UP FOR RETAIL'!$D$14)*'[1]MARK UP FOR RETAIL'!$D$11)*'[1]MARK UP FOR RETAIL'!$D$5)+'[1]MARK UP FOR RETAIL'!$G$5 -> 1298.2032 | F42: =((([1]STREAMLINE!AS42*'[1]MARK UP FOR RETAIL'!$D$14)*'[1]MARK UP FOR RETAIL'!$D$11)*'[1]MARK UP FOR RETAIL'!$D$5)+'[1]MARK UP FOR RETAIL'!$G$5 -> 1555.7832 | H42: =(([1]STREAMLINE!AU42*'[1]MARK UP FOR RETAIL'!$D$14)*'[1]MARK UP FOR RETAIL'!$D$11)*'[1]MARK UP FOR RETAIL'!$D$5 -> 803.439

Sheet DELTA
A1: DELTA: 5'3" WIDE
A3: BASIC MODEL OPTIONS
E4: Aluminium frame, Integral base with drop door(s)
A6: Size Length x Width | B6: Roof Vents | D6: Standard Door | E6: With Horticultural Glass | F6: With Toughened Safety Glass | G6: With 6mm Twin wall Polycarbonate | H6: Bar Capping (TG only) | I6: Hybrid Panels (coloured) | K6: POWDER COATED (extra)
A7: 2’3” x 5’3” NOT FREE STANDING | B7: 0 | D7: Double Drop Doors | E7: =((([1]DELTA!AF7*'[1]MARK UP FOR RETAIL'!$D$11)*'[1]MARK UP FOR RETAIL'!$D$9)*'[1]MARK UP FOR RETAIL'!$D$5)+'[1]MARK UP FOR RETAIL'!$G$5 -> 580.4136 | F7: =((([1]DELTA!AG7*'[1]MARK UP FOR RETAIL'!$D$11)*'[1]MARK UP FOR RETAIL'!$D$9)*'[1]MARK UP FOR RETAIL'!$D$5)+'[1]MARK UP FOR RETAIL'!$G$5 -> 786.4776 | G7: =((([1]DELTA!AH7*'[1]MARK UP FOR RETAIL'!$D$11)*'[1]MARK UP FOR RETAIL'!$D$9)*'[1]MARK UP FOR RETAIL'!$D$5)+'[1]MARK UP FOR RETAIL'!$G$5 -> 874.0548 | H7: =(([1]DELTA!AI7*'[1]MARK UP FOR RETAIL'!$D$10)*'[1]MARK UP FOR RETAIL'!$D$11)*'[1]MARK UP FOR RETAIL'!$D$7 -> 108.1836 | I7: =([1]DELTA!AJ7*'[1]MARK UP FOR RETAIL'!$D$11)*'[1]MARK UP FOR RETAIL'!$D$5 -> 130.6368 | K7: =([1]DELTA!AL7*'[1]MARK UP FOR RETAIL'!$D$11)*'[1]MARK UP FOR RETAIL'!$D$5 -> 289.5912
A8: 4’5” x 5’3” | B8: 1 | E8: =((([1]DELTA!AF8*'[1]MARK UP FOR RETAIL'!$D$11)*'[1]MARK UP FOR RETAIL'!$D$9)*'[1]MARK UP FOR RETAIL'!$D$5)+'[1]MARK UP FOR RETAIL'!$G$5 -> 630.2124 | F8: =((([1]DELTA!AG8*'[1]MARK UP FOR RETAIL'!$D$11)*'[1]MARK UP FOR RETAIL'!$D$9)*'[1]MARK UP FOR RETAIL'!$D$5)+'[1]MARK UP FOR RETAIL'!$G$5 -> 855.1656 | G8: =((([1]DELTA!AH8*'[1]MARK UP FOR RETAIL'!$D$11)*'[1]MARK UP FOR RETAIL'!$D$9)*'[1]MARK UP FOR RETAIL'!$D$5)+'[1]MARK UP FOR RETAIL'!$G$5 -> 1025.1684 | H8: =(([1]DELTA!AI8*'[1]MARK UP FOR RETAIL'!$D$10)*'[1]MARK UP FOR RETAIL'!$D$11)*'[1]MARK UP FOR RETAIL'!$D$7 -> 132.2244 | I8: =([1]DELTA!AJ8*'[1]MARK UP FOR RETAIL'!$D$11)*'[1]MARK UP FOR RETAIL'!$D$5 -> 297.5616 | K8: =([1]DELTA!AL8*'[1]MARK UP FOR RETAIL'!$D$11)*'[1]MARK UP FOR RETAIL'!$D$5 -> 330.2046
A9: 6’5” x 5’3” | B9: 1 | E9: =((([1]DELTA!AF9*'[1]MARK UP FOR RETAIL'!$D$11)*'[1]MARK UP FOR RETAIL'!$D$9)*'[1]MARK UP FOR RETAIL'!$D$5)+'[1]MARK UP FOR RETAIL'!$G$5 -> 688.5972 | F9: =((([1]DELTA!AG9*'[1]MARK UP FOR RETAIL'!$D$11)*'[1]MARK UP FOR RETAIL'!$D$9)*'[1]MARK UP FOR RETAIL'!$D$5)+'[1]MARK UP FOR RETAIL'!$G$5 -> 920.4192 | G9: =((([1]DELTA!AH9*'[1]MARK UP FOR RETAIL'!$D$11)*'[1]MARK UP FOR RETAIL'!$D$9)*'[1]MARK UP FOR RETAIL'!$D$5)+'[1]MARK UP FOR RETAIL'!$G$5 -> 1188.3024 | H9: =(([1]DELTA!AI9*'[1]MARK UP FOR RETAIL'!$D$10)*'[1]MARK UP FOR RETAIL'!$D$11)*'[1]MARK UP FOR RETAIL'!$D$7 -> 152.8308 | I9: =([1]DELTA!AJ9*'[1]MARK UP FOR RETAIL'!$D$11)*'[1]MARK UP FOR RETAIL'!$D$5 -> 370.1376 | K9: =([1]DELTA!AL9*'[1]MARK UP FOR RETAIL'!$D$11)*'[1]MARK UP FOR RETAIL'!$D$5 -> 376.1154
A10: 8’5” x 5’3” | B10: 1 | E10: =((([1]DELTA!AF10*'[1]MARK UP FOR RETAIL'!$D$11)*'[1]MARK UP FOR RETAIL'!$D$9)*'[1]MARK UP FOR RETAIL'!$D$5)+'[1]MARK UP FOR RETAIL'!$G$5 -> 776.1744 | F10: =((([1]DELTA!AG10*'[1]MARK UP FOR RETAIL'!$D$11)*'[1]MARK UP FOR RETAIL'!$D$9)*'[1]MARK UP FOR RETAIL'!$D$5)+'[1]MARK UP FOR RETAIL'!$G$5 -> 1020.0168 | G10: =((([1]DELTA!AH10*'[1]MARK UP FOR RETAIL'!$D$11)*'[1]MARK UP FOR RETAIL'!$D$9)*'[1]MARK UP FOR RETAIL'!$D$5)+'[1]MARK UP FOR RETAIL'!$G$5 -> 1360.0224 | H10: =(([1]DELTA!AI10*'[1]MARK UP FOR RETAIL'!$D$10)*'[1]MARK UP FOR RETAIL'!$D$11)*'[1]MARK UP FOR RETAIL'!$D$7 -> 170.0028 | I10: =([1]DELTA!AJ10*'[1]MARK UP FOR RETAIL'!$D$11)*'[1]MARK UP FOR RETAIL'!$D$5 -> 440.8992 | K10: =([1]DELTA!AL10*'[1]MARK UP FOR RETAIL'!$D$11)*'[1]MARK UP FOR RETAIL'!$D$5 -> 436.1526
A11: 10’5” x 5’3” | B11: 2 | E11: =((([1]DELTA!AF11*'[1]MARK UP FOR RETAIL'!$D$11)*'[1]MARK UP FOR RETAIL'!$D$9)*'[1]MARK UP FOR RETAIL'!$D$5)+'[1]MARK UP FOR RETAIL'!$G$5 -> 956.4804 | F11: =((([1]DELTA!AG11*'[1]MARK UP FOR RETAIL'!$D$11)*'[1]MARK UP FOR RETAIL'!$D$9)*'[1]MARK UP FOR RETAIL'!$D$5)+'[1]MARK UP FOR RETAIL'!$G$5 -> 1232.9496 | G11: =((([1]DELTA!AH11*'[1]MARK UP FOR RETAIL'!$D$11)*'[1]MARK UP FOR RETAIL'!$D$9)*'[1]MARK UP FOR RETAIL'!$D$5)+'[1]MARK UP FOR RETAIL'!$G$5 -> 1581.5412 | H11: =(([1]DELTA!AI11*'[1]MARK UP FOR RETAIL'!$D$10)*'[1]MARK UP FOR RETAIL'!$D$11)*'[1]MARK UP FOR RETAIL'!$D$7 -> 187.1748 | I11: =([1]DELTA!AJ11*'[1]MARK UP FOR RETAIL'!$D$11)*'[1]MARK UP FOR RETAIL'!$D$5 -> 511.6608 | K11: =([1]DELTA!AL11*'[1]MARK UP FOR RETAIL'!$D$11)*'[1]MARK UP FOR RETAIL'!$D$5 -> 626.859
A12: 12’6” x 5’3” | B12: 2 | E12: =((([1]DELTA!AF12*'[1]MARK UP FOR RETAIL'!$D$11)*'[1]MARK UP FOR RETAIL'!$D$9)*'[1]MARK UP FOR RETAIL'!$D$5)+'[1]MARK UP FOR RETAIL'!$G$5 -> 1109.3112 | F12: =((([1]DELTA!AG12*'[1]MARK UP FOR RETAIL'!$D$11)*'[1]MARK UP FOR RETAIL'!$D$9)*'[1]MARK UP FOR RETAIL'!$D$5)+'[1]MARK UP FOR RETAIL'!$G$5 -> 1435.5792 | G12: =((([1]DELTA!AH12*'[1]MARK UP FOR RETAIL'!$D$11)*'[1]MARK UP FOR RETAIL'!$D$9)*'[1]MARK UP FOR RETAIL'!$D$5)+'[1]MARK UP FOR RETAIL'!$G$5 -> 1789.3224 | H12: =(([1]DELTA!AI12*'[1]MARK UP FOR RETAIL'!$D$10)*'[1]MARK UP FOR RETAIL'!$D$11)*'[1]MARK UP FOR RETAIL'!$D$7 -> 202.6296 | I12: =([1]DELTA!AJ12*'[1]MARK UP FOR RETAIL'!$D$11)*'[1]MARK UP FOR RETAIL'!$D$5 -> 584.2368 | K12: =([1]DELTA!AL12*'[1]MARK UP FOR RETAIL'!$D$11)*'[1]MARK UP FOR RETAIL'!$D$5 -> 778.7178
A13: 14’6” x 5’3” | B13: 3 | E13: =((([1]DELTA!AF13*'[1]MARK UP FOR RETAIL'!$D$11)*'[1]MARK UP FOR RETAIL'!$D$9)*'[1]MARK UP FOR RETAIL'!$D$5)+'[1]MARK UP FOR RETAIL'!$G$5 -> 1250.1216 | F13: =((([1]DELTA!AG13*'[1]MARK UP FOR RETAIL'!$D$11)*'[1]MARK UP FOR RETAIL'!$D$9)*'[1]MARK UP FOR RETAIL'!$D$5)+'[1]MARK UP FOR RETAIL'!$G$5 -> 1643.3604 | G13: =((([1]DELTA!AH13*'[1]MARK UP FOR RETAIL'!$D$11)*'[1]MARK UP FOR RETAIL'!$D$9)*'[1]MARK UP FOR RETAIL'!$D$5)+'[1]MARK UP FOR RETAIL'!$G$5 -> 2038.3164 | H13: =(([1]DELTA!AI13*'[1]MARK UP FOR RETAIL'!$D$10)*'[1]MARK UP FOR RETAIL'!$D$11)*'[1]MARK UP FOR RETAIL'!$D$7 -> 219.8016 | I13: =([1]DELTA!AJ13*'[1]MARK UP FOR RETAIL'!$D$11)*'[1]MARK UP FOR RETAIL'!$D$5 -> 656.8128 | K13: =([1]DELTA!AL13*'[1]MARK UP FOR RETAIL'!$D$11)*'[1]MARK UP FOR RETAIL'!$D$5 -> 914.6844
A14: 16’6” x 5’3” | B14: 3 | E14: =((([1]DELTA!AF14*'[1]MARK UP FOR RETAIL'!$D$11)*'[1]MARK UP FOR RETAIL'!$D$9)*'[1]MARK UP FOR RETAIL'!$D$5)+'[1]MARK UP FOR RETAIL'!$G$5 -> 1442.448 | F14: =((([1]DELTA!AG14*'[1]MARK UP FOR RETAIL'!$D$11)*'[1]MARK UP FOR RETAIL'!$D$9)*'[1]MARK UP FOR RETAIL'!$D$5)+'[1]MARK UP FOR RETAIL'!$G$5 -> 1730.9376 | G14: =((([1]DELTA!AH14*'[1]MARK UP FOR RETAIL'!$D$11)*'[1]MARK UP FOR RETAIL'!$D$9)*'[1]MARK UP FOR RETAIL'!$D$5)+'[1]MARK UP FOR RETAIL'!$G$5 -> 2295.8964 | H14: =(([1]DELTA!AI14*'[1]MARK UP FOR RETAIL'!$D$10)*'[1]MARK UP FOR RETAIL'!$D$11)*'[1]MARK UP FOR RETAIL'!$D$7 -> 242.1252 | I14: =([1]DELTA!AJ14*'[1]MARK UP FOR RETAIL'!$D$11)*'[1]MARK UP FOR RETAIL'!$D$5 -> 725.76 | K14: =([1]DELTA!AL14*'[1]MARK UP FOR RETAIL'!$D$11)*'[1]MARK UP FOR RETAIL'!$D$5 -> 1084.2012
A15: 18’6” x 5’3” | B15: 4 | E15: =((([1]DELTA!AF15*'[1]MARK UP FOR RETAIL'!$D$11)*'[1]MARK UP FOR RETAIL'!$D$9)*'[1]MARK UP FOR RETAIL'!$D$5)+'[1]MARK UP FOR RETAIL'!$G$5 -> 1655.3808 | F15: =((([1]DELTA!AG15*'[1]MARK UP FOR RETAIL'!$D$11)*'[1]MARK UP FOR RETAIL'!$D$9)*'[1]MARK UP FOR RETAIL'!$D$5)+'[1]MARK UP FOR RETAIL'!$G$5 -> 2137.914 | G15: =((([1]DELTA!AH15*'[1]MARK UP FOR RETAIL'!$D$11)*'[1]MARK UP FOR RETAIL'!$D$9)*'[1]MARK UP FOR RETAIL'!$D$5)+'[1]MARK UP FOR RETAIL'!$G$5 -> 2625.5988 | H15: =(([1]DELTA!AI15*'[1]MARK UP FOR RETAIL'!$D$10)*'[1]MARK UP FOR RETAIL'!$D$11)*'[1]MARK UP FOR RETAIL'!$D$7 -> 255.8628 | I15: =([1]DELTA!AJ15*'[1]MARK UP FOR RETAIL'!$D$11)*'[1]MARK UP FOR RETAIL'!$D$5 -> 798.336 | K15: =([1]DELTA!AL15*'[1]MARK UP FOR RETAIL'!$D$11)*'[1]MARK UP FOR RETAIL'!$D$5 -> 1290.7998
A16: 20’6” x 5’3” | B16: 4 | E16: =((([1]DELTA!AF16*'[1]MARK UP FOR RETAIL'!$D$11)*'[1]MARK UP FOR RETAIL'!$D$9)*'[1]MARK UP FOR RETAIL'!$D$5)+'[1]MARK UP FOR RETAIL'!$G$5 -> 1864.8792 | F16: =((([1]DELTA!AG16*'[1]MARK UP FOR RETAIL'!$D$11)*'[1]MARK UP FOR RETAIL'!$D$9)*'[1]MARK UP FOR RETAIL'!$D$5)+'[1]MARK UP FOR RETAIL'!$G$5 -> 2386.908 | G16: =((([1]DELTA!AH16*'[1]MARK UP FOR RETAIL'!$D$11)*'[1]MARK UP FOR RETAIL'!$D$9)*'[1]MARK UP FOR RETAIL'!$D$5)+'[1]MARK UP FOR RETAIL'!$G$5 -> 2931.2604 | H16: =(([1]DELTA!AI16*'[1]MARK UP FOR RETAIL'!$D$10)*'[1]MARK UP FOR RETAIL'!$D$11)*'[1]MARK UP FOR RETAIL'!$D$7 -> 273.0348 | I16: =([1]DELTA!AJ16*'[1]MARK UP FOR RETAIL'!$D$11)*'[1]MARK UP FOR RETAIL'!$D$5 -> 870.912 | K16: =([1]DELTA!AL16*'[1]MARK UP FOR RETAIL'!$D$11)*'[1]MARK UP FOR RETAIL'!$D$5 -> 1493.8668
A17: Extra double doors in the rear end | E17: =((([1]DELTA!AF17*'[1]MARK UP FOR RETAIL'!$D$11)*'[1]MARK UP FOR RETAIL'!$D$9)*'[1]MARK UP FOR RETAIL'!$D$5) -> 161.4168 | H17: =(([1]DELTA!AI17*'[1]MARK UP FOR RETAIL'!$D$10)*'[1]MARK UP FOR RETAIL'!$D$11)*'[1]MARK UP FOR RETAIL'!$D$7 -> 32.6268 | I17: / | K17: =([1]DELTA!AL17*'[1]MARK UP FOR RETAIL'!$D$11)*'[1]MARK UP FOR RETAIL'!$D$5 -> 81.2268
A18: Soft Soil Support | E18: =((([1]DELTA!AF18*'[1]MARK UP FOR RETAIL'!$D$10)*'[1]MARK UP FOR RETAIL'!$D$11)*'[1]MARK UP FOR RETAIL'!$D$7) -> 32.6268 | H18: / | I18: / | K18: =([1]DELTA!AL18*'[1]MARK UP FOR RETAIL'!$D$11)*'[1]MARK UP FOR RETAIL'!$D$5 -> 24.7212
A19: R-TYPE | E19: =((([1]DELTA!AF19*'[1]MARK UP FOR RETAIL'!$D$11)*'[1]MARK UP FOR RETAIL'!$D$9)*'[1]MARK UP FOR RETAIL'!$D$5) -> -56.6676 | F19: =((([1]DELTA!AG19*'[1]MARK UP FOR RETAIL'!$D$11)*'[1]MARK UP FOR RETAIL'!$D$9)*'[1]MARK UP FOR RETAIL'!$D$5) -> -91.0116 | G19: =((([1]DELTA!AH19*'[1]MARK UP FOR RETAIL'!$D$11)*'[1]MARK UP FOR RETAIL'!$D$9)*'[1]MARK UP FOR RETAIL'!$D$5) -> -120.204 | H19: =(([1]DELTA!AI19*'[1]MARK UP FOR RETAIL'!$D$10)*'[1]MARK UP FOR RETAIL'!$D$11)*'[1]MARK UP FOR RETAIL'!$D$7 -> -18.8892 | K19: =([1]DELTA!AL19*'[1]MARK UP FOR RETAIL'!$D$11)*'[1]MARK UP FOR RETAIL'!$D$5 -> -65.3346
A21: NOTE: The 2' long model has no back panels and must be fixed against a solid structure. The price already includes the R-type deduction, so no further deduction applies.
A24: DELTA PACKAGE
A26: INCLUDES AS STANDARD | H26: PACKAGE EXTRAS
A28: Integral aluminium base with dropped doors | H28: Diamond shelf to length - 2 slat
A29: Double Dropped Doors | H29: Diamond staging to length - 5 slat
A30: At least one roof vent | H30: One 5 blade louvre
A31: Integral Gutters | H31: One automatic roof vent opener
H32: One automatic louvre opener
H33: Standard rainwater collection kit
H34: Grow Hooks (6)
A38: Size Length x Width | B38: Roof Vents | D38: Standard Door | E38: With Horticultural Glass | F38: With Toughened Safety Glass | H38: POWDER COATED (extra)
A39: 4’5” x 5’3” | B39: 1 | D39: Double Drop Door | E39: =((([1]DELTA!AF39*'[1]MARK UP FOR RETAIL'!$D$14)*'[1]MARK UP FOR RETAIL'!$D$11)*'[1]MARK UP FOR RETAIL'!$D$5)+'[1]MARK UP FOR RETAIL'!$G$5 -> 935.874 | F39: =((([1]DELTA!AG39*'[1]MARK UP FOR RETAIL'!$D$14)*'[1]MARK UP FOR RETAIL'!$D$11)*'[1]MARK UP FOR RETAIL'!$D$5)+'[1]MARK UP FOR RETAIL'!$G$5 -> 1160.8272 | H39: =(([1]DELTA!AI39*'[1]MARK UP FOR RETAIL'!$D$14)*'[1]MARK UP FOR RETAIL'!$D$11)*'[1]MARK UP FOR RETAIL'!$D$5 -> 460.8738
A40: 6’5” x 5’3” | B40: 1 | E40: =((([1]DELTA!AF40*'[1]MARK UP FOR RETAIL'!$D$14)*'[1]MARK UP FOR RETAIL'!$D$11)*'[1]MARK UP FOR RETAIL'!$D$5)+'[1]MARK UP FOR RETAIL'!$G$5 -> 1033.7544 | F40: =((([1]DELTA!AG40*'[1]MARK UP FOR RETAIL'!$D$14)*'[1]MARK UP FOR RETAIL'!$D$11)*'[1]MARK UP FOR RETAIL'!$D$5)+'[1]MARK UP FOR RETAIL'!$G$5 -> 1267.2936 | H40: =(([1]DELTA!AI40*'[1]MARK UP FOR RETAIL'!$D$14)*'[1]MARK UP FOR RETAIL'!$D$11)*'[1]MARK UP FOR RETAIL'!$D$5 -> 531.5058
A41: 8’5” x 5’3” | B41: 1 | E41: =((([1]DELTA!AF41*'[1]MARK UP FOR RETAIL'!$D$14)*'[1]MARK UP FOR RETAIL'!$D$11)*'[1]MARK UP FOR RETAIL'!$D$5)+'[1]MARK UP FOR RETAIL'!$G$5 -> 1169.4132 | F41: =((([1]DELTA!AG41*'[1]MARK UP FOR RETAIL'!$D$14)*'[1]MARK UP FOR RETAIL'!$D$11)*'[1]MARK UP FOR RETAIL'!$D$5)+'[1]MARK UP FOR RETAIL'!$G$5 -> 1416.69 | H41: =(([1]DELTA!AI41*'[1]MARK UP FOR RETAIL'!$D$14)*'[1]MARK UP FOR RETAIL'!$D$11)*'[1]MARK UP FOR RETAIL'!$D$5 -> 637.4538
A42: 10'5" x 5'3" | B42: 2 | E42: =((([1]DELTA!AF42*'[1]MARK UP FOR RETAIL'!$D$14)*'[1]MARK UP FOR RETAIL'!$D$11)*'[1]MARK UP FOR RETAIL'!$D$5)+'[1]MARK UP FOR RETAIL'!$G$5 -> 1413.2556 | F42: =((([1]DELTA!AG42*'[1]MARK UP FOR RETAIL'!$D$14)*'[1]MARK UP FOR RETAIL'!$D$11)*'[1]MARK UP FOR RETAIL'!$D$5)+'[1]MARK UP FOR RETAIL'!$G$5 -> 1691.442 | H42: =(([1]DELTA!AI42*'[1]MARK UP FOR RETAIL'!$D$14)*'[1]MARK UP FOR RETAIL'!$D$11)*'[1]MARK UP FOR RETAIL'!$D$5 -> 874.071

Sheet CRAFTSMAN
A1: CRAFTSMAN: 6'3" WIDE
A3: BASIC MODEL OPTIONS
E4: Aluminium frame, Integral base with drop door(s)
A6: Size Length x Width | B6: Roof Vents | D6: Standard Door | E6: With Horticultural Glass | F6: With Toughened Safety Glass | G6: With 6mm Twin wall Polycarbonate | H6: Bar Capping (TG only) | I6: Hybrid Panels (coloured) | K6: POWDER COATED (extra)
A7: 2’3” x 6’3” NOT FREE STANDING | B7: 0 | D7: Single Drop Door | E7: =((([1]CRAFTSMAN!AR7*'[1]MARK UP FOR RETAIL'!$D$11)*'[1]MARK UP FOR RETAIL'!$D$9)*'[1]MARK UP FOR RETAIL'!$D$5)+'[1]MARK UP FOR RETAIL'!$G$5 -> 465.3612 | F7: =((([1]CRAFTSMAN!AS7*'[1]MARK UP FOR RETAIL'!$D$11)*'[1]MARK UP FOR RETAIL'!$D$9)*'[1]MARK UP FOR RETAIL'!$D$5)+'[1]MARK UP FOR RETAIL'!$G$5 -> 606.1716 | G7: =((([1]CRAFTSMAN!AT7*'[1]MARK UP FOR RETAIL'!$D$11)*'[1]MARK UP FOR RETAIL'!$D$9)*'[1]MARK UP FOR RETAIL'!$D$5)+'[1]MARK UP FOR RETAIL'!$G$5 -> 746.982 | H7: =(([1]CRAFTSMAN!AU7*'[1]MARK UP FOR RETAIL'!$D$10)*'[1]MARK UP FOR RETAIL'!$D$11)*'[1]MARK UP FOR RETAIL'!$D$7 -> 104.7492 | I7: =([1]CRAFTSMAN!AV7*'[1]MARK UP FOR RETAIL'!$D$11)*'[1]MARK UP FOR RETAIL'!$D$5 -> 141.5232 | K7: =([1]CRAFTSMAN!AX7*'[1]MARK UP FOR RETAIL'!$D$11)*'[1]MARK UP FOR RETAIL'!$D$5 -> 226.0224
A8: 4’4” x 6’3” | B8: 1 | E8: =((([1]CRAFTSMAN!AR8*'[1]MARK UP FOR RETAIL'!$D$11)*'[1]MARK UP FOR RETAIL'!$D$9)*'[1]MARK UP FOR RETAIL'!$D$5)+'[1]MARK UP FOR RETAIL'!$G$5 -> 523.746 | F8: =((([1]CRAFTSMAN!AS8*'[1]MARK UP FOR RETAIL'!$D$11)*'[1]MARK UP FOR RETAIL'!$D$9)*'[1]MARK UP FOR RETAIL'!$D$5)+'[1]MARK UP FOR RETAIL'!$G$5 -> 704.052 | G8: =((([1]CRAFTSMAN!AT8*'[1]MARK UP FOR RETAIL'!$D$11)*'[1]MARK UP FOR RETAIL'!$D$9)*'[1]MARK UP FOR RETAIL'!$D$5)+'[1]MARK UP FOR RETAIL'!$G$5 -> 918.702 | H8: =(([1]CRAFTSMAN!AU8*'[1]MARK UP FOR RETAIL'!$D$10)*'[1]MARK UP FOR RETAIL'!$D$11)*'[1]MARK UP FOR RETAIL'!$D$7 -> 118.4868 | I8: =([1]CRAFTSMAN!AV8*'[1]MARK UP FOR RETAIL'!$D$11)*'[1]MARK UP FOR RETAIL'!$D$5 -> 321.1488 | K8: =([1]CRAFTSMAN!AX8*'[1]MARK UP FOR RETAIL'!$D$11)*'[1]MARK UP FOR RETAIL'!$D$5 -> 275.4648
A9: 6’4” x 6’3” | B9: 1 | E9: =((([1]CRAFTSMAN!AR9*'[1]MARK UP FOR RETAIL'!$D$11)*'[1]MARK UP FOR RETAIL'!$D$9)*'[1]MARK UP FOR RETAIL'!$D$5)+'[1]MARK UP FOR RETAIL'!$G$5 -> 578.6964 | F9: =((([1]CRAFTSMAN!AS9*'[1]MARK UP FOR RETAIL'!$D$11)*'[1]MARK UP FOR RETAIL'!$D$9)*'[1]MARK UP FOR RETAIL'!$D$5)+'[1]MARK UP FOR RETAIL'!$G$5 -> 795.0636 | G9: =((([1]CRAFTSMAN!AT9*'[1]MARK UP FOR RETAIL'!$D$11)*'[1]MARK UP FOR RETAIL'!$D$9)*'[1]MARK UP FOR RETAIL'!$D$5)+'[1]MARK UP FOR RETAIL'!$G$5 -> 1085.2704 | H9: =(([1]CRAFTSMAN!AU9*'[1]MARK UP FOR RETAIL'!$D$10)*'[1]MARK UP FOR RETAIL'!$D$11)*'[1]MARK UP FOR RETAIL'!$D$7 -> 132.2244 | I9: =([1]CRAFTSMAN!AV9*'[1]MARK UP FOR RETAIL'!$D$11)*'[1]MARK UP FOR RETAIL'!$D$5 -> 395.5392 | K9: =([1]CRAFTSMAN!AX9*'[1]MARK UP FOR RETAIL'!$D$11)*'[1]MARK UP FOR RETAIL'!$D$5 -> 323.1414
A10: 8’5” x 6’3” | B10: 2 | E10: =((([1]CRAFTSMAN!AR10*'[1]MARK UP FOR RETAIL'!$D$11)*'[1]MARK UP FOR RETAIL'!$D$9)*'[1]MARK UP FOR RETAIL'!$D$5)+'[1]MARK UP FOR RETAIL'!$G$5 -> 649.1016 | F10: =((([1]CRAFTSMAN!AS10*'[1]MARK UP FOR RETAIL'!$D$11)*'[1]MARK UP FOR RETAIL'!$D$9)*'[1]MARK UP FOR RETAIL'!$D$5)+'[1]MARK UP FOR RETAIL'!$G$5 -> 903.2472 | G10: =((([1]CRAFTSMAN!AT10*'[1]MARK UP FOR RETAIL'!$D$11)*'[1]MARK UP FOR RETAIL'!$D$9)*'[1]MARK UP FOR RETAIL'!$D$5)+'[1]MARK UP FOR RETAIL'!$G$5 -> 1255.2732 | H10: =(([1]CRAFTSMAN!AU10*'[1]MARK UP FOR RETAIL'!$D$10)*'[1]MARK UP FOR RETAIL'!$D$11)*'[1]MARK UP FOR RETAIL'!$D$7 -> 147.6792 | I10: =([1]CRAFTSMAN!AV10*'[1]MARK UP FOR RETAIL'!$D$11)*'[1]MARK UP FOR RETAIL'!$D$5 -> 462.672 | K10: =([1]CRAFTSMAN!AX10*'[1]MARK UP FOR RETAIL'!$D$11)*'[1]MARK UP FOR RETAIL'!$D$5 -> 388.476
A11: 10’5” x 6’3” | B11: 2 | E11: =((([1]CRAFTSMAN!AR11*'[1]MARK UP FOR RETAIL'!$D$11)*'[1]MARK UP FOR RETAIL'!$D$9)*'[1]MARK UP FOR RETAIL'!$D$5)+'[1]MARK UP FOR RETAIL'!$G$5 -> 755.568 | F11: =((([1]CRAFTSMAN!AS11*'[1]MARK UP FOR RETAIL'!$D$11)*'[1]MARK UP FOR RETAIL'!$D$9)*'[1]MARK UP FOR RETAIL'!$D$5)+'[1]MARK UP FOR RETAIL'!$G$5 -> 1049.2092 | G11: =((([1]CRAFTSMAN!AT11*'[1]MARK UP FOR RETAIL'!$D$11)*'[1]MARK UP FOR RETAIL'!$D$9)*'[1]MARK UP FOR RETAIL'!$D$5)+'[1]MARK UP FOR RETAIL'!$G$5 -> 1418.4072 | H11: =(([1]CRAFTSMAN!AU11*'[1]MARK UP FOR RETAIL'!$D$10)*'[1]MARK UP FOR RETAIL'!$D$11)*'[1]MARK UP FOR RETAIL'!$D$7 -> 164.8512 | I11: =([1]CRAFTSMAN!AV11*'[1]MARK UP FOR RETAIL'!$D$11)*'[1]MARK UP FOR RETAIL'!$D$5 -> 533.4336 | K11: =([1]CRAFTSMAN!AX11*'[1]MARK UP FOR RETAIL'!$D$11)*'[1]MARK UP FOR RETAIL'!$D$5 -> 527.9742
